BEGIN:VCALENDAR
VERSION:2.0
PRODID:-//West Hills Montessori School - ECPv6.15.20//NONSGML v1.0//EN
CALSCALE:GREGORIAN
METHOD:PUBLISH
X-ORIGINAL-URL:https://westhills-montessori.com
X-WR-CALDESC:Events for West Hills Montessori School
REFRESH-INTERVAL;VALUE=DURATION:PT1H
X-Robots-Tag:noindex
X-PUBLISHED-TTL:PT1H
BEGIN:VTIMEZONE
TZID:America/Los_Angeles
BEGIN:DAYLIGHT
TZOFFSETFROM:-0800
TZOFFSETTO:-0700
TZNAME:PDT
DTSTART:20150308T100000
END:DAYLIGHT
BEGIN:STANDARD
TZOFFSETFROM:-0700
TZOFFSETTO:-0800
TZNAME:PST
DTSTART:20151101T090000
END:STANDARD
BEGIN:DAYLIGHT
TZOFFSETFROM:-0800
TZOFFSETTO:-0700
TZNAME:PDT
DTSTART:20160313T100000
END:DAYLIGHT
BEGIN:STANDARD
TZOFFSETFROM:-0700
TZOFFSETTO:-0800
TZNAME:PST
DTSTART:20161106T090000
END:STANDARD
BEGIN:DAYLIGHT
TZOFFSETFROM:-0800
TZOFFSETTO:-0700
TZNAME:PDT
DTSTART:20170312T100000
END:DAYLIGHT
BEGIN:STANDARD
TZOFFSETFROM:-0700
TZOFFSETTO:-0800
TZNAME:PST
DTSTART:20171105T090000
END:STANDARD
BEGIN:DAYLIGHT
TZOFFSETFROM:-0800
TZOFFSETTO:-0700
TZNAME:PDT
DTSTART:20180311T100000
END:DAYLIGHT
BEGIN:STANDARD
TZOFFSETFROM:-0700
TZOFFSETTO:-0800
TZNAME:PST
DTSTART:20181104T090000
END:STANDARD
END:VTIMEZONE
BEGIN:VEVENT
DTSTART;TZID=America/Los_Angeles:20171019T091500
DTEND;TZID=America/Los_Angeles:20171019T101500
DTSTAMP:20260422T023217
CREATED:20170908T225643Z
LAST-MODIFIED:20170908T225643Z
UID:3663-1508404500-1508408100@westhills-montessori.com
SUMMARY:Parent/Guide Forum @ Lake Oswego\, Topic: Supporting Montessori at Home
DESCRIPTION:Come and learn ways to support your child’s experience at school while also encouraging greater independence and cooperation at home.
URL:https://westhills-montessori.com/cal-event/parentguide-forum-lake-oswego-topic-supporting-montessori-home/
LOCATION:Lake Oswego Campus
CATEGORIES:Lake Oswego,New Parents,Vermont Street
END:VEVENT
BEGIN:VEVENT
DTSTART;TZID=America/Los_Angeles:20171018T091500
DTEND;TZID=America/Los_Angeles:20171018T101500
DTSTAMP:20260422T023217
CREATED:20170908T225455Z
LAST-MODIFIED:20170908T225455Z
UID:3660-1508318100-1508321700@westhills-montessori.com
SUMMARY:Parent/Guide Forum @ Vermont Street\, Topic: Supporting Montessori at Home
DESCRIPTION:Come and learn ways to support your child’s experience at school while also encouraging greater independence and cooperation at home.
URL:https://westhills-montessori.com/cal-event/parentguide-forum-vermont-street-topic-supporting-montessori-home/
LOCATION:Vermont Street Campus\, 4920 SW Vermont Street\, Portland\, 97219
CATEGORIES:Lake Oswego,New Parents,Vermont Street
END:VEVENT
BEGIN:VEVENT
DTSTART;TZID=America/Los_Angeles:20171013T173000
DTEND;TZID=America/Los_Angeles:20171013T203000
DTSTAMP:20260422T023217
CREATED:20170908T225108Z
LAST-MODIFIED:20170908T225108Z
UID:3658-1507915800-1507926600@westhills-montessori.com
SUMMARY:Journey and Discovery @ Vermont Street Campus
DESCRIPTION:The Journey and Discovery Experience allows you to explore and interact with the unique Montessori environment through the eyes of a child because\, for a few hours\, you get to be the child. You’ll explore the Montessori classrooms\, receive some actual lessons\, learn more about how and why we do what we do\, and mingle with other families in the West Hills community. \n*Limited space available for this popular event which fills quickly. Watch for an Evite with details!
URL:https://westhills-montessori.com/cal-event/journey-discovery-vermont-street-campus/
LOCATION:Vermont Street Campus\, 4920 SW Vermont Street\, Portland\, 97219
CATEGORIES:Lake Oswego,New Parents,Vermont Street
END:VEVENT
BEGIN:VEVENT
DTSTART;VALUE=DATE:20171013
DTEND;VALUE=DATE:20171014
DTSTAMP:20260422T023217
CREATED:20170911T221215Z
LAST-MODIFIED:20170911T221215Z
UID:3681-1507852800-1507939199@westhills-montessori.com
SUMMARY:All School In-Service/SCHOOL CLOSED
DESCRIPTION:
URL:https://westhills-montessori.com/cal-event/school-serviceschool-closed-3/
CATEGORIES:Lake Oswego,New Parents,Vermont Street
END:VEVENT
BEGIN:VEVENT
DTSTART;TZID=America/Los_Angeles:20171007T130000
DTEND;TZID=America/Los_Angeles:20171007T160000
DTSTAMP:20260422T023217
CREATED:20170908T224743Z
LAST-MODIFIED:20170908T224743Z
UID:3656-1507381200-1507392000@westhills-montessori.com
SUMMARY:Fall Festival @ Vermont Street!
DESCRIPTION:The Fall Festival is our most popular community event of the year. Hosted by the elementary community at our Vermont Street campus\, there are fun fall activities for all ages. Bring your whole family and join us for a fun-filled autumn afternoon!
URL:https://westhills-montessori.com/cal-event/fall-festival-vermont-street/
LOCATION:Vermont Street Campus\, 4920 SW Vermont Street\, Portland\, 97219
CATEGORIES:Lake Oswego,New Parents,Vermont Street
END:VEVENT
BEGIN:VEVENT
DTSTART;TZID=America/Los_Angeles:20170813T110000
DTEND;TZID=America/Los_Angeles:20170813T130000
DTSTAMP:20260422T023217
CREATED:20170530T202100Z
LAST-MODIFIED:20170725T204907Z
UID:3496-1502622000-1502629200@westhills-montessori.com
SUMMARY:Upcoming Open House - SW Portland Campus!  Limited openings available for the 2017-2018 school year!
DESCRIPTION:We hope your family can join us at the Vermont Street Campus in SW Portland for an upcoming Open House! \nWe have limited 9:00-1:00 and 9:00-3:00 Primary Program availability at our Vermont Street campus for the 2017-2018 school year. \nTour our campus\, visit a classroom and meet our staff. Children are welcome! \nSunday\, August 13\n11:00am – 1:00pm\nVermont Street Campus (4920 SW Vermont St\, Pdx 97219)
URL:https://westhills-montessori.com/cal-event/upcoming-open-house-sw-portland-campus-limited-openings-available-2017-2018-school-year/
LOCATION:Vermont Street Campus
CATEGORIES:New Parents
END:VEVENT
BEGIN:VEVENT
DTSTART;TZID=America/Los_Angeles:20170312T110000
DTEND;TZID=America/Los_Angeles:20170312T130000
DTSTAMP:20260422T023217
CREATED:20161201T201206Z
LAST-MODIFIED:20161201T201206Z
UID:3279-1489316400-1489323600@westhills-montessori.com
SUMMARY:OPEN HOUSE!  Lake Oswego Campus
DESCRIPTION:We hope your family can join us at the Lake Oswego Campus for an upcoming Open House! \nTour our campus\, visit a classroom and meet our staff. Children are welcome! \nSunday\, March 12\n11:00am – 1:00pm\nLake Oswego Campus (4515 Parkview Dr\, Lake Oswego\, 97035)
URL:https://westhills-montessori.com/cal-event/open-house-lake-oswego-campus-2/
LOCATION:Lake Oswego Campus\, 4515 Parkview Dr\, Lake Oswego
CATEGORIES:Lake Oswego,New Parents
END:VEVENT
BEGIN:VEVENT
DTSTART;TZID=America/Los_Angeles:20170305T110000
DTEND;TZID=America/Los_Angeles:20170305T130000
DTSTAMP:20260422T023217
CREATED:20161201T201054Z
LAST-MODIFIED:20161201T201054Z
UID:3277-1488711600-1488718800@westhills-montessori.com
SUMMARY:OPEN HOUSE!  SW Pdx Campus
DESCRIPTION:We hope your family can join us at the Vermont Street Campus in SW Portland for an upcoming Open House! \nTour our campus\, visit a classroom and meet our staff. Children are welcome! \nSunday\, March 5\n11:00am – 1:00pm\nVermont Street Campus (4920 SW Vermont St\, Pdx 97219)
URL:https://westhills-montessori.com/cal-event/open-house-sw-pdx-campus/
LOCATION:Vermont Street Campus\, 4920 SW Vermont St\, Portland\, OR\, 97219\, United States
CATEGORIES:New Parents,Vermont Street
END:VEVENT
BEGIN:VEVENT
DTSTART;TZID=America/Los_Angeles:20170223T183000
DTEND;TZID=America/Los_Angeles:20170223T193000
DTSTAMP:20260422T023217
CREATED:20161201T194544Z
LAST-MODIFIED:20161201T195913Z
UID:3274-1487874600-1487878200@westhills-montessori.com
SUMMARY:Preschool: The Montessori Advantage (Prospective parent event\, SW Pdx Campus)
DESCRIPTION:Interested in learning more about our Montessori primary program for children ages 3-6? We hope you can join our staff for one of these informative and engaging parent education events. \n*Please note these are parent only events\n\nThursday\, February 23\, 6:30-7:30pm\, Vermont Street Campus
URL:https://westhills-montessori.com/cal-event/preschool-montessori-advantage-prospective-parent-event-sw-pdx-campus/
LOCATION:Vermont Street Campus\, 4920 SW Vermont St\, Portland\, OR\, 97219\, United States
CATEGORIES:New Parents,Vermont Street
END:VEVENT
BEGIN:VEVENT
DTSTART;TZID=America/Los_Angeles:20170222T183000
DTEND;TZID=America/Los_Angeles:20170222T193000
DTSTAMP:20260422T023217
CREATED:20161201T194446Z
LAST-MODIFIED:20161201T200035Z
UID:3272-1487788200-1487791800@westhills-montessori.com
SUMMARY:Preschool: The Montessori Advantage (Prospective parent event\, Lake Oswego campus)
DESCRIPTION:Interested in learning more about our Montessori primary program for children ages 3-6? We hope you can join our staff for one of these informative and engaging parent education events. \n*Please note these are parent only events\n\nWednesday\, February 22\, 6:30-7:30pm\, Lake Oswego Campus \n 
URL:https://westhills-montessori.com/cal-event/preschool-montessori-advantage-prospective-parent-event-lake-oswego-campus/
LOCATION:Lake Oswego Campus\, 4515 Parkview Dr\, Lake Oswego
CATEGORIES:Lake Oswego,New Parents
END:VEVENT
BEGIN:VEVENT
DTSTART;TZID=America/Los_Angeles:20170126T183000
DTEND;TZID=America/Los_Angeles:20170126T193000
DTSTAMP:20260422T023217
CREATED:20161201T194136Z
LAST-MODIFIED:20161201T194326Z
UID:3267-1485455400-1485459000@westhills-montessori.com
SUMMARY:Preschool: The Montessori Advantage (Prospective parent event\, Lake Oswego Campus)
DESCRIPTION:Interested in learning more about our Montessori primary program for children ages 3-6? We hope you can join our staff for one of these informative and engaging parent education events. \n*Please note these are parent only events\n\nThursday\, January 26\, 6:30-7:30pm\, Lake Oswego Campus
URL:https://westhills-montessori.com/cal-event/preschool-montessori-advantage-january-2017-event-prospective-parents-lake-oswego-campus/
CATEGORIES:Lake Oswego,New Parents
END:VEVENT
BEGIN:VEVENT
DTSTART;TZID=America/Los_Angeles:20170126T153000
DTEND;TZID=America/Los_Angeles:20170126T163000
DTSTAMP:20260422T023217
CREATED:20170103T202822Z
LAST-MODIFIED:20170103T202822Z
UID:3310-1485444600-1485448200@westhills-montessori.com
SUMMARY:Elementary Materials Showcase for Prospective Families
DESCRIPTION:Please join our Elementary community for a materials showcase and learn about daily life in our Montessori Elementary classrooms.
URL:https://westhills-montessori.com/cal-event/elementary-materials-showcase-prospective-families/
LOCATION:Vermont Street Campus
CATEGORIES:Lake Oswego,New Parents,Vermont Street
END:VEVENT
BEGIN:VEVENT
DTSTART;TZID=America/Los_Angeles:20170125T183000
DTEND;TZID=America/Los_Angeles:20170125T193000
DTSTAMP:20260422T023217
CREATED:20170103T202210Z
LAST-MODIFIED:20170104T172920Z
UID:3308-1485369000-1485372600@westhills-montessori.com
SUMMARY:Preschool: The Montessori Advantage
DESCRIPTION:Hosted by Crystal Harris \nPresented by Delila Olsson\, Lydia Mirocha and Ashley Crawford
URL:https://westhills-montessori.com/cal-event/preschool-montessori-advantage-5/
LOCATION:Vermont Street Campus\, 4920 SW Vermont Street\, Portland\, 97219
CATEGORIES:Lake Oswego,New Parents,Vermont Street
END:VEVENT
BEGIN:VEVENT
DTSTART;TZID=America/Los_Angeles:20170125T183000
DTEND;TZID=America/Los_Angeles:20170125T193000
DTSTAMP:20260422T023217
CREATED:20161201T193954Z
LAST-MODIFIED:20161201T194254Z
UID:3265-1485369000-1485372600@westhills-montessori.com
SUMMARY:Preschool: The Montessori Advantage (Prospective parent event\, SW Pdx campus)
DESCRIPTION:Interested in learning more about our Montessori primary program for children ages 3-6? We hope you can join our staff for one of these informative and engaging parent education events. \n*Please note these are parent only events\n\nWednesday\, January 25\, 6:30-7:30pm\, Vermont Street Campus \n 
URL:https://westhills-montessori.com/cal-event/preschool-montessori-advantage-january-2017-event-prospective-parents/
LOCATION:Vermont Street Campus\, 4920 SW Vermont St\, Portland\, OR\, 97219\, United States
CATEGORIES:New Parents,Vermont Street
END:VEVENT
BEGIN:VEVENT
DTSTART;TZID=America/Los_Angeles:20170125T153000
DTEND;TZID=America/Los_Angeles:20170125T163000
DTSTAMP:20260422T023217
CREATED:20170105T173121Z
LAST-MODIFIED:20170105T173150Z
UID:3316-1485358200-1485361800@westhills-montessori.com
SUMMARY:Elementary Materials Showcase for Current Families
DESCRIPTION:Please join our Elementary community for a materials showcase and learn about daily life in our Montessori Elementary classrooms.
URL:https://westhills-montessori.com/cal-event/elementary-materials-showcase-prospective-families-copy/
LOCATION:Vermont Street Campus
CATEGORIES:Lake Oswego,New Parents,Vermont Street
END:VEVENT
BEGIN:VEVENT
DTSTART;TZID=America/Los_Angeles:20170110T180000
DTEND;TZID=America/Los_Angeles:20170110T193000
DTSTAMP:20260422T023217
CREATED:20170103T201346Z
LAST-MODIFIED:20170104T181231Z
UID:3298-1484071200-1484076600@westhills-montessori.com
SUMMARY:Elementary: The Montessori Advantage
DESCRIPTION:Hosted by Carrie Caffee-Martin \nPresentations by Delila Olsson\, Kelly Hale\, Ashley Keneller and Jessica Sturdivant \n*Childcare provided. Please see the front office to reserve a space.
URL:https://westhills-montessori.com/cal-event/elementary-montessori-advantage/
LOCATION:Lake Oswego Campus\, 4515 Parkview Drive\, Lake Oswego\, 97035
CATEGORIES:Lake Oswego,New Parents,Vermont Street
END:VEVENT
BEGIN:VEVENT
DTSTART;TZID=America/Los_Angeles:20170110T091500
DTEND;TZID=America/Los_Angeles:20170110T101500
DTSTAMP:20260422T023217
CREATED:20170103T201137Z
LAST-MODIFIED:20170103T201137Z
UID:3296-1484039700-1484043300@westhills-montessori.com
SUMMARY:Parent/Guide Open Forum
DESCRIPTION:Topic: What Happens in Extended Day? \nPlease join Allison and Delila for a cup of coffee and open discussion in the Rainbow Room. We hope to see you there!
URL:https://westhills-montessori.com/cal-event/parentguide-open-forum-2/
LOCATION:Vermont Street Campus
CATEGORIES:Lake Oswego,New Parents,Vermont Street
END:VEVENT
BEGIN:VEVENT
DTSTART;TZID=America/Los_Angeles:20161207T180000
DTEND;TZID=America/Los_Angeles:20161207T190000
DTSTAMP:20260422T023217
CREATED:20161110T230427Z
LAST-MODIFIED:20161110T230509Z
UID:3246-1481133600-1481137200@westhills-montessori.com
SUMMARY:Upcoming Open House - SW Portland Campus!  Limited openings available for the current school year!
DESCRIPTION:We hope your family can join us at the Vermont Street Campus in SW Portland for an upcoming Open House! \nWe currently have limited 9:00-1:00 and 9:00-3:00 availability at our Vermont Street campus. \nTour our campus\, visit a classroom and meet our staff. Children are welcome! \nWednesday\, December 7\n6:00-7:00pm\nVermont Street Campus (4920 SW Vermont St\, Pdx 97219)
URL:https://westhills-montessori.com/cal-event/upcoming-open-house-sw-portland-campus-wednesday-december-7-limited-openings-available-current-school-year/
LOCATION:Vermont Street Campus\, 4920 SW Vermont St\, Portland\, OR\, 97219\, United States
CATEGORIES:New Parents
END:VEVENT
BEGIN:VEVENT
DTSTART;VALUE=DATE:20160908
DTEND;VALUE=DATE:20160916
DTSTAMP:20260422T023217
CREATED:20160831T204353Z
LAST-MODIFIED:20160831T204353Z
UID:2828-1473292800-1473983999@westhills-montessori.com
SUMMARY:Phasing-In of Beginning Toddler and Primary Students
DESCRIPTION:Please see your family’s welcome packet for your child’s specific start date.
URL:https://westhills-montessori.com/cal-event/phasing-beginning-toddler-primary-students/
CATEGORIES:Lake Oswego,New Parents,Vermont Street
END:VEVENT
BEGIN:VEVENT
DTSTART;VALUE=DATE:20160906
DTEND;VALUE=DATE:20160907
DTSTAMP:20260422T023217
CREATED:20160831T203347Z
LAST-MODIFIED:20160831T203347Z
UID:2820-1473120000-1473206399@westhills-montessori.com
SUMMARY:Orientation Sessions for New Primary Students and Parents
DESCRIPTION:
URL:https://westhills-montessori.com/cal-event/orientation-sessions-new-primary-students-parents/
CATEGORIES:New Parents
END:VEVENT
BEGIN:VEVENT
DTSTART;TZID=America/Los_Angeles:20160807T110000
DTEND;TZID=America/Los_Angeles:20160807T130000
DTSTAMP:20260422T023217
CREATED:20160523T182115Z
LAST-MODIFIED:20160720T181732Z
UID:2735-1470567600-1470574800@westhills-montessori.com
SUMMARY:Vermont Street Campus OPEN HOUSE!  Sunday\, August 7\, 11am-1pm\, Children welcome!
DESCRIPTION:We hope you can join us for an upcoming Open House at our Vermont Street Campus! \nCome tour our campus and see our primary classrooms.  Limited space available for the 2016-2017 school year!
URL:https://westhills-montessori.com/cal-event/vermont-street-campus-open-house-children-welcome/
LOCATION:Vermont Street Campus\, 4920 SW Vermont St\, Portland\, OR\, 97219\, United States
CATEGORIES:New Parents
END:VEVENT
BEGIN:VEVENT
DTSTART;TZID=America/Los_Angeles:20160313T110000
DTEND;TZID=America/Los_Angeles:20160313T130000
DTSTAMP:20260422T023217
CREATED:20160112T203835Z
LAST-MODIFIED:20160204T164912Z
UID:2638-1457866800-1457874000@westhills-montessori.com
SUMMARY:Lake Oswego Campus OPEN HOUSE
DESCRIPTION:We hope your family can join us at the Open House! Tour our campus\, visit a classroom and meet our staff. Children are welcome!
URL:https://westhills-montessori.com/cal-event/lake-oswego-open-house-prospective-parents-2/
LOCATION:Vermont Street Campus\, 4920 SW Vermont Street\, Portland\, 97219
CATEGORIES:Lake Oswego,New Parents
END:VEVENT
BEGIN:VEVENT
DTSTART;TZID=America/Los_Angeles:20160306T110000
DTEND;TZID=America/Los_Angeles:20160306T130000
DTSTAMP:20260422T023217
CREATED:20160203T201657Z
LAST-MODIFIED:20160304T201724Z
UID:2649-1457262000-1457269200@westhills-montessori.com
SUMMARY:Vermont Street Campus OPEN HOUSE
DESCRIPTION:We hope you can join us at the Vermont Street Campus on Sunday\, March 6\, 11:00-1:00.  Children are welcome to attend!  Come meet our staff and tour our campus.  All of our primary and Elementary classrooms will be open for you to explore.
URL:https://westhills-montessori.com/cal-event/vermont-street-campus-open-house-children-are-welcome-to-attend/
LOCATION:Vermont Street Campus\, 4920 SW Vermont St\, Portland\, OR\, 97219\, United States
CATEGORIES:New Parents
END:VEVENT
BEGIN:VEVENT
DTSTART;TZID=America/Los_Angeles:20160225T183000
DTEND;TZID=America/Los_Angeles:20160225T193000
DTSTAMP:20260422T023217
CREATED:20160112T203521Z
LAST-MODIFIED:20160204T165133Z
UID:2636-1456425000-1456428600@westhills-montessori.com
SUMMARY:Preschool: The Montessori Advantage (Vermont Street Campus)
DESCRIPTION:Prospective parents are invited to join us to learn more about Montessori and our school! \n*This is a parent-only event
URL:https://westhills-montessori.com/cal-event/preschool-the-montessori-advantage-2-2/
LOCATION:Vermont Street Campus\, 4920 SW Vermont Street\, Portland\, 97219
CATEGORIES:New Parents,Vermont Street
END:VEVENT
BEGIN:VEVENT
DTSTART;TZID=America/Los_Angeles:20160224T183000
DTEND;TZID=America/Los_Angeles:20160224T193000
DTSTAMP:20260422T023217
CREATED:20160112T203527Z
LAST-MODIFIED:20160204T165225Z
UID:2637-1456338600-1456342200@westhills-montessori.com
SUMMARY:Preschool: The Montessori Advantage (Lake Oswego Campus)
DESCRIPTION:Prospective parents are invited to join us to learn more about Montessori and our school! \n*This is a parent-only event
URL:https://westhills-montessori.com/cal-event/preschool-the-montessori-advantage-3/
LOCATION:Lake Oswego Campus
CATEGORIES:Lake Oswego,New Parents
END:VEVENT
BEGIN:VEVENT
DTSTART;VALUE=DATE:20160224
DTEND;VALUE=DATE:20160225
DTSTAMP:20260422T023217
CREATED:20160208T184449Z
LAST-MODIFIED:20160208T184449Z
UID:2662-1456272000-1456358399@westhills-montessori.com
SUMMARY:Application packets go out to new families
DESCRIPTION:Are you registered yet?
URL:https://westhills-montessori.com/cal-event/application-packets-go-out-to-new-families/
CATEGORIES:Lake Oswego,New Parents,Vermont Street
END:VEVENT
END:VCALENDAR