BEGIN:VCALENDAR
VERSION:2.0
PRODID:-//West Hills Montessori School - ECPv6.15.20//NONSGML v1.0//EN
CALSCALE:GREGORIAN
METHOD:PUBLISH
X-WR-CALNAME:West Hills Montessori School
X-ORIGINAL-URL:https://westhills-montessori.com
X-WR-CALDESC:Events for West Hills Montessori School
REFRESH-INTERVAL;VALUE=DURATION:PT1H
X-Robots-Tag:noindex
X-PUBLISHED-TTL:PT1H
BEGIN:VTIMEZONE
TZID:America/Los_Angeles
BEGIN:DAYLIGHT
TZOFFSETFROM:-0800
TZOFFSETTO:-0700
TZNAME:PDT
DTSTART:20220313T100000
END:DAYLIGHT
BEGIN:STANDARD
TZOFFSETFROM:-0700
TZOFFSETTO:-0800
TZNAME:PST
DTSTART:20221106T090000
END:STANDARD
BEGIN:DAYLIGHT
TZOFFSETFROM:-0800
TZOFFSETTO:-0700
TZNAME:PDT
DTSTART:20230312T100000
END:DAYLIGHT
BEGIN:STANDARD
TZOFFSETFROM:-0700
TZOFFSETTO:-0800
TZNAME:PST
DTSTART:20231105T090000
END:STANDARD
BEGIN:DAYLIGHT
TZOFFSETFROM:-0800
TZOFFSETTO:-0700
TZNAME:PDT
DTSTART:20240310T100000
END:DAYLIGHT
BEGIN:STANDARD
TZOFFSETFROM:-0700
TZOFFSETTO:-0800
TZNAME:PST
DTSTART:20241103T090000
END:STANDARD
BEGIN:DAYLIGHT
TZOFFSETFROM:-0800
TZOFFSETTO:-0700
TZNAME:PDT
DTSTART:20250309T100000
END:DAYLIGHT
BEGIN:STANDARD
TZOFFSETFROM:-0700
TZOFFSETTO:-0800
TZNAME:PST
DTSTART:20251102T090000
END:STANDARD
BEGIN:DAYLIGHT
TZOFFSETFROM:-0800
TZOFFSETTO:-0700
TZNAME:PDT
DTSTART:20260308T100000
END:DAYLIGHT
BEGIN:STANDARD
TZOFFSETFROM:-0700
TZOFFSETTO:-0800
TZNAME:PST
DTSTART:20261101T090000
END:STANDARD
BEGIN:DAYLIGHT
TZOFFSETFROM:-0800
TZOFFSETTO:-0700
TZNAME:PDT
DTSTART:20270314T100000
END:DAYLIGHT
BEGIN:STANDARD
TZOFFSETFROM:-0700
TZOFFSETTO:-0800
TZNAME:PST
DTSTART:20271107T090000
END:STANDARD
END:VTIMEZONE
BEGIN:VEVENT
DTSTART;VALUE=DATE:20260119
DTEND;VALUE=DATE:20260120
DTSTAMP:20260421T140204
CREATED:20250922T192236Z
LAST-MODIFIED:20250922T192236Z
UID:8483-1768780800-1768867199@westhills-montessori.com
SUMMARY:MLK Jr Day - School Closed
DESCRIPTION:
URL:https://westhills-montessori.com/cal-event/mlk-jr-day-school-closed/
END:VEVENT
BEGIN:VEVENT
DTSTART;TZID=America/Los_Angeles:20260115T180000
DTEND;TZID=America/Los_Angeles:20260115T190000
DTSTAMP:20260421T140204
CREATED:20250922T185158Z
LAST-MODIFIED:20250922T185158Z
UID:8450-1768500000-1768503600@westhills-montessori.com
SUMMARY:Elementary Curriculum Showcase (Vermont Street campus)
DESCRIPTION:
URL:https://westhills-montessori.com/cal-event/elementary-curriculum-showcase-vermont-street-campus/
END:VEVENT
BEGIN:VEVENT
DTSTART;TZID=America/Los_Angeles:20260108T084500
DTEND;TZID=America/Los_Angeles:20260108T100000
DTSTAMP:20260421T140204
CREATED:20250922T194121Z
LAST-MODIFIED:20250922T194121Z
UID:8505-1767861900-1767866400@westhills-montessori.com
SUMMARY:Parent Coffee Social (Vermont Street campus)
DESCRIPTION:Parents from both campuses are warmly invited to join us for a morning coffee gathering following drop-off.
URL:https://westhills-montessori.com/cal-event/parent-coffee-social-vermont-street-campus-2/
END:VEVENT
BEGIN:VEVENT
DTSTART;VALUE=DATE:20251229
DTEND;VALUE=DATE:20260103
DTSTAMP:20260421T140204
CREATED:20250922T190145Z
LAST-MODIFIED:20250922T190145Z
UID:8461-1766966400-1767398399@westhills-montessori.com
SUMMARY:Winter Break - School Closed
DESCRIPTION:
URL:https://westhills-montessori.com/cal-event/winter-break-school-closed-4/
END:VEVENT
BEGIN:VEVENT
DTSTART;VALUE=DATE:20251222
DTEND;VALUE=DATE:20251227
DTSTAMP:20260421T140204
CREATED:20250922T190055Z
LAST-MODIFIED:20250922T190055Z
UID:8459-1766361600-1766793599@westhills-montessori.com
SUMMARY:Winter Break - School Closed
DESCRIPTION:
URL:https://westhills-montessori.com/cal-event/winter-break-school-closed-3/
END:VEVENT
BEGIN:VEVENT
DTSTART;TZID=America/Los_Angeles:20251210T133000
DTEND;TZID=America/Los_Angeles:20251210T143000
DTSTAMP:20260421T140204
CREATED:20250922T185115Z
LAST-MODIFIED:20250922T185115Z
UID:8448-1765373400-1765377000@westhills-montessori.com
SUMMARY:Upper and Lower Elementary: Open House (Vermont Street campus)
DESCRIPTION:
URL:https://westhills-montessori.com/cal-event/upper-and-lower-elementary-open-house-vermont-street-campus/
END:VEVENT
BEGIN:VEVENT
DTSTART;VALUE=DATE:20251126
DTEND;VALUE=DATE:20251129
DTSTAMP:20260421T140204
CREATED:20250922T192153Z
LAST-MODIFIED:20250922T192153Z
UID:8481-1764115200-1764374399@westhills-montessori.com
SUMMARY:Thanksgiving Break - School Closed
DESCRIPTION:
URL:https://westhills-montessori.com/cal-event/thanksgiving-break-school-closed-2/
END:VEVENT
BEGIN:VEVENT
DTSTART;TZID=America/Los_Angeles:20251119T180000
DTEND;TZID=America/Los_Angeles:20251119T190000
DTSTAMP:20260421T140204
CREATED:20250922T190347Z
LAST-MODIFIED:20250922T190347Z
UID:8463-1763575200-1763578800@westhills-montessori.com
SUMMARY:Primary: The Montessori Advantage (Vermont Street campus)
DESCRIPTION:
URL:https://westhills-montessori.com/cal-event/primary-the-montessori-advantage-vermont-street-campus/
END:VEVENT
BEGIN:VEVENT
DTSTART;TZID=America/Los_Angeles:20251116T100000
DTEND;TZID=America/Los_Angeles:20251116T120000
DTSTAMP:20260421T140204
CREATED:20250922T190520Z
LAST-MODIFIED:20250922T190520Z
UID:8465-1763287200-1763294400@westhills-montessori.com
SUMMARY:Open House (both campuses)
DESCRIPTION:We invite you to visit us to explore our program\, experience our beautiful classroom environments\, and meet some of our dedicated staff. Feel free to arrive at your convenience and depart as needed. Children are warmly welcomed.
URL:https://westhills-montessori.com/cal-event/open-house-both-campuses/
END:VEVENT
BEGIN:VEVENT
DTSTART;TZID=America/Los_Angeles:20251113T180000
DTEND;TZID=America/Los_Angeles:20251113T190000
DTSTAMP:20260421T140204
CREATED:20250922T185036Z
LAST-MODIFIED:20250922T185036Z
UID:8446-1763056800-1763060400@westhills-montessori.com
SUMMARY:Kindergarten: The Montessori Advantage (both campuses)
DESCRIPTION:
URL:https://westhills-montessori.com/cal-event/kindergarten-the-montessori-advantage-both-campuses/
END:VEVENT
BEGIN:VEVENT
DTSTART;TZID=America/Los_Angeles:20251112T180000
DTEND;TZID=America/Los_Angeles:20251112T190000
DTSTAMP:20260421T140204
CREATED:20250922T184945Z
LAST-MODIFIED:20250922T190656Z
UID:8444-1762970400-1762974000@westhills-montessori.com
SUMMARY:Elementary: The Montessori Advantage (Vermont Street Campus)
DESCRIPTION:
URL:https://westhills-montessori.com/cal-event/elementary-the-montessori-advantage-at-vermont-street-campus/
END:VEVENT
BEGIN:VEVENT
DTSTART;VALUE=DATE:20251111
DTEND;VALUE=DATE:20251112
DTSTAMP:20260421T140204
CREATED:20250922T192035Z
LAST-MODIFIED:20250922T192035Z
UID:8479-1762819200-1762905599@westhills-montessori.com
SUMMARY:Staff Professional Development/Work Day - No School
DESCRIPTION:
URL:https://westhills-montessori.com/cal-event/staff-professional-development-work-day-no-school-3/
END:VEVENT
BEGIN:VEVENT
DTSTART;VALUE=DATE:20251110
DTEND;VALUE=DATE:20251111
DTSTAMP:20260421T140204
CREATED:20250922T192006Z
LAST-MODIFIED:20250922T192006Z
UID:8477-1762732800-1762819199@westhills-montessori.com
SUMMARY:In Honor of Veterans Day - School Closed
DESCRIPTION:
URL:https://westhills-montessori.com/cal-event/in-honor-of-veterans-day-school-closed/
END:VEVENT
BEGIN:VEVENT
DTSTART;TZID=America/Los_Angeles:20251106T084500
DTEND;TZID=America/Los_Angeles:20251106T100000
DTSTAMP:20260421T140204
CREATED:20250922T194042Z
LAST-MODIFIED:20250922T194042Z
UID:8503-1762418700-1762423200@westhills-montessori.com
SUMMARY:Parent Coffee Social (Lake Oswego campus)
DESCRIPTION:Parents from both campuses are warmly invited to join us for a morning coffee gathering following drop-off.
URL:https://westhills-montessori.com/cal-event/parent-coffee-social-lake-oswego-campus/
END:VEVENT
BEGIN:VEVENT
DTSTART;TZID=America/Los_Angeles:20251104T180000
DTEND;TZID=America/Los_Angeles:20251104T190000
DTSTAMP:20260421T140204
CREATED:20250922T184901Z
LAST-MODIFIED:20250922T184901Z
UID:8442-1762279200-1762282800@westhills-montessori.com
SUMMARY:Parent Education Event: The Needs of the Kindergarten Child via Zoom
DESCRIPTION:
URL:https://westhills-montessori.com/cal-event/parent-education-event-the-needs-of-the-kindergarten-child-via-zoom/
END:VEVENT
BEGIN:VEVENT
DTSTART;VALUE=DATE:20251103
DTEND;VALUE=DATE:20251104
DTSTAMP:20260421T140204
CREATED:20250922T191906Z
LAST-MODIFIED:20250922T191906Z
UID:8475-1762128000-1762214399@westhills-montessori.com
SUMMARY:Parent/Teacher Conferences - No School
DESCRIPTION:
URL:https://westhills-montessori.com/cal-event/parent-teacher-conferences-no-school-4/
END:VEVENT
BEGIN:VEVENT
DTSTART;VALUE=DATE:20251031
DTEND;VALUE=DATE:20251101
DTSTAMP:20260421T140204
CREATED:20250922T191842Z
LAST-MODIFIED:20250922T191842Z
UID:8473-1761868800-1761955199@westhills-montessori.com
SUMMARY:Parent/Teacher Conferences - No School
DESCRIPTION:
URL:https://westhills-montessori.com/cal-event/parent-teacher-conferences-no-school-3/
END:VEVENT
BEGIN:VEVENT
DTSTART;TZID=America/Los_Angeles:20251010T170000
DTEND;TZID=America/Los_Angeles:20251010T203000
DTSTAMP:20260421T140204
CREATED:20250922T184737Z
LAST-MODIFIED:20250922T190742Z
UID:8440-1760115600-1760128200@westhills-montessori.com
SUMMARY:Parent Education Event - Journey and Discovery (Vermont Street campus)
DESCRIPTION:
URL:https://westhills-montessori.com/cal-event/parent-education-event-journey-and-discovery/
END:VEVENT
BEGIN:VEVENT
DTSTART;VALUE=DATE:20251010
DTEND;VALUE=DATE:20251011
DTSTAMP:20260421T140204
CREATED:20250922T191818Z
LAST-MODIFIED:20250922T191818Z
UID:8471-1760054400-1760140799@westhills-montessori.com
SUMMARY:Staff Professional Development/Work Day - No School
DESCRIPTION:
URL:https://westhills-montessori.com/cal-event/staff-professional-development-work-day-no-school-2/
END:VEVENT
BEGIN:VEVENT
DTSTART;TZID=America/Los_Angeles:20251002T084500
DTEND;TZID=America/Los_Angeles:20251002T100000
DTSTAMP:20260421T140204
CREATED:20250922T194004Z
LAST-MODIFIED:20250922T194004Z
UID:8501-1759394700-1759399200@westhills-montessori.com
SUMMARY:Parent Coffee Social (Vermont Street campus)
DESCRIPTION:Parents from both campuses are warmly invited to join us for a morning coffee gathering following drop-off.
URL:https://westhills-montessori.com/cal-event/parent-coffee-social-vermont-street-campus/
END:VEVENT
BEGIN:VEVENT
DTSTART;TZID=America/Los_Angeles:20250923T180000
DTEND;TZID=America/Los_Angeles:20250923T190000
DTSTAMP:20260421T140204
CREATED:20250922T184613Z
LAST-MODIFIED:20250922T184613Z
UID:8438-1758650400-1758654000@westhills-montessori.com
SUMMARY:Parent Education Event - How to Set Boundaries via Zoom
DESCRIPTION:
URL:https://westhills-montessori.com/cal-event/parent-education-event-how-to-set-boundaries-via-zoom/
END:VEVENT
BEGIN:VEVENT
DTSTART;TZID=America/Los_Angeles:20250920T140000
DTEND;TZID=America/Los_Angeles:20250920T160000
DTSTAMP:20260421T140204
CREATED:20250922T191731Z
LAST-MODIFIED:20250922T191731Z
UID:8469-1758376800-1758384000@westhills-montessori.com
SUMMARY:Fall Family Social (Vermont Street campus)
DESCRIPTION:
URL:https://westhills-montessori.com/cal-event/fall-family-social-vermont-street-campus/
END:VEVENT
BEGIN:VEVENT
DTSTART;TZID=America/Los_Angeles:20240208T180000
DTEND;TZID=America/Los_Angeles:20240208T190000
DTSTAMP:20260421T140204
CREATED:20231201T192814Z
LAST-MODIFIED:20231201T192814Z
UID:8010-1707415200-1707418800@westhills-montessori.com
SUMMARY:Elementary Curriculum Showcase
DESCRIPTION:
URL:https://westhills-montessori.com/cal-event/elementary-curriculum-showcase/
LOCATION:Vermont Street Campus\, 4920 SW Vermont St\, Portland\, OR\, 97219\, United States
END:VEVENT
BEGIN:VEVENT
DTSTART;TZID=America/Los_Angeles:20240124T180000
DTEND;TZID=America/Los_Angeles:20240124T190000
DTSTAMP:20260421T140204
CREATED:20231201T191902Z
LAST-MODIFIED:20231201T191902Z
UID:8006-1706119200-1706122800@westhills-montessori.com
SUMMARY:Kindergarten Showcase!
DESCRIPTION:
URL:https://westhills-montessori.com/cal-event/kindergarten-showcase-2/
LOCATION:Lake Oswego Campus\, 4515 Parkview Dr\, Lake Oswego
END:VEVENT
BEGIN:VEVENT
DTSTART;TZID=America/Los_Angeles:20240123T180000
DTEND;TZID=America/Los_Angeles:20240123T190000
DTSTAMP:20260421T140204
CREATED:20231201T191823Z
LAST-MODIFIED:20231201T191823Z
UID:8004-1706032800-1706036400@westhills-montessori.com
SUMMARY:Kindergarten Showcase!
DESCRIPTION:
URL:https://westhills-montessori.com/cal-event/kindergarten-showcase/
LOCATION:Vermont Street Campus\, 4920 SW Vermont St\, Portland\, OR\, 97219\, United States
END:VEVENT
BEGIN:VEVENT
DTSTART;TZID=America/Los_Angeles:20240111T140000
DTEND;TZID=America/Los_Angeles:20240111T150000
DTSTAMP:20260421T140204
CREATED:20231201T191728Z
LAST-MODIFIED:20231201T191728Z
UID:8002-1704981600-1704985200@westhills-montessori.com
SUMMARY:Prospective Parent Event - Lower Elementary Open House
DESCRIPTION:
URL:https://westhills-montessori.com/cal-event/prospective-parent-event-lower-elementary-open-house/
LOCATION:Vermont Street Campus\, 4920 SW Vermont St\, Portland\, OR\, 97219\, United States
END:VEVENT
BEGIN:VEVENT
DTSTART;TZID=America/Los_Angeles:20240109T091500
DTEND;TZID=America/Los_Angeles:20240109T103000
DTSTAMP:20260421T140204
CREATED:20231201T195338Z
LAST-MODIFIED:20231205T002807Z
UID:8012-1704791700-1704796200@westhills-montessori.com
SUMMARY:Parent Coffee and Conversation - Topic: Montessori Beyond Elementary with special guests\, Regina Feldman from Metro Montessori and Peter Oviatt from Sunstone Middle School
DESCRIPTION:
URL:https://westhills-montessori.com/cal-event/parent-coffee-and-conversation-topic-montessori-beyond-elementary-with-special-guests-regina-feldman-from-metro-montessori-and-peter-oviatt-from-sunstone-middle-school/
LOCATION:Vermont Street Campus\, 4920 SW Vermont St\, Portland\, OR\, 97219\, United States
END:VEVENT
BEGIN:VEVENT
DTSTART;TZID=America/Los_Angeles:20231213T140000
DTEND;TZID=America/Los_Angeles:20231213T150000
DTSTAMP:20260421T140204
CREATED:20231201T191623Z
LAST-MODIFIED:20231201T192429Z
UID:8000-1702476000-1702479600@westhills-montessori.com
SUMMARY:Prospective Parent Event - Upper Elementary Open House
DESCRIPTION:
URL:https://westhills-montessori.com/cal-event/prospective-parent-event-upper-elementary-open-house/
LOCATION:Vermont Street Campus\, 4920 SW Vermont St\, Portland\, OR\, 97219\, United States
END:VEVENT
BEGIN:VEVENT
DTSTART;TZID=America/Los_Angeles:20231206T180000
DTEND;TZID=America/Los_Angeles:20231206T190000
DTSTAMP:20260421T140204
CREATED:20231201T191523Z
LAST-MODIFIED:20231201T191523Z
UID:7998-1701885600-1701889200@westhills-montessori.com
SUMMARY:Prospective Parent Event - Elementary: The Montessori Advantage
DESCRIPTION:
URL:https://westhills-montessori.com/cal-event/prospective-parent-event-elementary-the-montessori-advantage-2/
LOCATION:Vermont Street Campus\, 4920 SW Vermont St\, Portland\, OR\, 97219\, United States
END:VEVENT
BEGIN:VEVENT
DTSTART;TZID=America/Los_Angeles:20231205T180000
DTEND;TZID=America/Los_Angeles:20231205T190000
DTSTAMP:20260421T140204
CREATED:20231201T191403Z
LAST-MODIFIED:20231201T191403Z
UID:7996-1701799200-1701802800@westhills-montessori.com
SUMMARY:Prospective Parent Event - Preschool: The Montessori Advantage
DESCRIPTION:
URL:https://westhills-montessori.com/cal-event/prospective-parent-event-preschool-the-montessori-advantage-3/
LOCATION:Vermont Street Campus
END:VEVENT
END:VCALENDAR