BEGIN:VCALENDAR
VERSION:2.0
PRODID:-//West Hills Montessori School - ECPv6.15.20//NONSGML v1.0//EN
CALSCALE:GREGORIAN
METHOD:PUBLISH
X-WR-CALNAME:West Hills Montessori School
X-ORIGINAL-URL:https://westhills-montessori.com
X-WR-CALDESC:Events for West Hills Montessori School
REFRESH-INTERVAL;VALUE=DURATION:PT1H
X-Robots-Tag:noindex
X-PUBLISHED-TTL:PT1H
BEGIN:VTIMEZONE
TZID:America/Los_Angeles
BEGIN:DAYLIGHT
TZOFFSETFROM:-0800
TZOFFSETTO:-0700
TZNAME:PDT
DTSTART:20180311T100000
END:DAYLIGHT
BEGIN:STANDARD
TZOFFSETFROM:-0700
TZOFFSETTO:-0800
TZNAME:PST
DTSTART:20181104T090000
END:STANDARD
BEGIN:DAYLIGHT
TZOFFSETFROM:-0800
TZOFFSETTO:-0700
TZNAME:PDT
DTSTART:20190310T100000
END:DAYLIGHT
BEGIN:STANDARD
TZOFFSETFROM:-0700
TZOFFSETTO:-0800
TZNAME:PST
DTSTART:20191103T090000
END:STANDARD
BEGIN:DAYLIGHT
TZOFFSETFROM:-0800
TZOFFSETTO:-0700
TZNAME:PDT
DTSTART:20200308T100000
END:DAYLIGHT
BEGIN:STANDARD
TZOFFSETFROM:-0700
TZOFFSETTO:-0800
TZNAME:PST
DTSTART:20201101T090000
END:STANDARD
BEGIN:DAYLIGHT
TZOFFSETFROM:-0800
TZOFFSETTO:-0700
TZNAME:PDT
DTSTART:20210314T100000
END:DAYLIGHT
BEGIN:STANDARD
TZOFFSETFROM:-0700
TZOFFSETTO:-0800
TZNAME:PST
DTSTART:20211107T090000
END:STANDARD
END:VTIMEZONE
BEGIN:VEVENT
DTSTART;VALUE=DATE:20200106
DTEND;VALUE=DATE:20200107
DTSTAMP:20260422T153310
CREATED:20180823T211404Z
LAST-MODIFIED:20190822T233837Z
UID:3884-1578268800-1578355199@westhills-montessori.com
SUMMARY:Classes Resume
DESCRIPTION:
URL:https://westhills-montessori.com/cal-event/classes-resume-5/
CATEGORIES:Lake Oswego,Vermont Street
END:VEVENT
BEGIN:VEVENT
DTSTART;VALUE=DATE:20191223
DTEND;VALUE=DATE:20200104
DTSTAMP:20260422T153310
CREATED:20180823T211326Z
LAST-MODIFIED:20190822T233922Z
UID:3882-1577059200-1578095999@westhills-montessori.com
SUMMARY:Winter Break/SCHOOL CLOSED
DESCRIPTION:
URL:https://westhills-montessori.com/cal-event/winter-break-school-closed/
CATEGORIES:Lake Oswego,Vermont Street
END:VEVENT
BEGIN:VEVENT
DTSTART;TZID=America/Los_Angeles:20191205T183000
DTEND;TZID=America/Los_Angeles:20191205T193000
DTSTAMP:20260422T153310
CREATED:20191104T222802Z
LAST-MODIFIED:20191104T222802Z
UID:4118-1575570600-1575574200@westhills-montessori.com
SUMMARY:Preschool: The Montessori Advantage (Lake Oswego Campus)
DESCRIPTION:Interested in learning more about our Montessori primary program for children ages 3-6? We hope you can join our staff for one of these informative and engaging parent education events. \n*Please note these are parent only events\n\nThursday\, December 5\, 6:30-7:30pm\, Lake Oswego Campus
URL:https://westhills-montessori.com/cal-event/preschool-the-montessori-advantage-lake-oswego-campus/
LOCATION:Lake Oswego Campus\, 4515 Parkview Dr\, Lake Oswego
CATEGORIES:New Parents
END:VEVENT
BEGIN:VEVENT
DTSTART;TZID=America/Los_Angeles:20191203T183000
DTEND;TZID=America/Los_Angeles:20191203T193000
DTSTAMP:20260422T153310
CREATED:20191104T222636Z
LAST-MODIFIED:20191104T222636Z
UID:4116-1575397800-1575401400@westhills-montessori.com
SUMMARY:Preschool: The Montessori Advantage (SW Campus)
DESCRIPTION:Interested in learning more about our Montessori primary program for children ages 3-6? We hope you can join our staff for one of these informative and engaging parent education events. \n*Please note these are parent only events\n\nTuesday\, December 3\, 6:30-7:30pm\, Vermont Street Campus
URL:https://westhills-montessori.com/cal-event/preschool-the-montessori-advantage-sw-campus/
LOCATION:Vermont Street Campus\, 4920 SW Vermont St\, Portland\, OR\, 97219\, United States
CATEGORIES:New Parents
END:VEVENT
BEGIN:VEVENT
DTSTART;VALUE=DATE:20191128
DTEND;VALUE=DATE:20191130
DTSTAMP:20260422T153310
CREATED:20180823T211233Z
LAST-MODIFIED:20190822T234007Z
UID:3880-1574899200-1575071999@westhills-montessori.com
SUMMARY:Thanksgiving Holiday/SCHOOL CLOSED
DESCRIPTION:
URL:https://westhills-montessori.com/cal-event/thanksgiving-holiday-school-closed-2/
CATEGORIES:Lake Oswego,Vermont Street
END:VEVENT
BEGIN:VEVENT
DTSTART;VALUE=DATE:20191111
DTEND;VALUE=DATE:20191112
DTSTAMP:20260422T153310
CREATED:20180823T211116Z
LAST-MODIFIED:20190822T234048Z
UID:3876-1573430400-1573516799@westhills-montessori.com
SUMMARY:Veteran's Day/SCHOOL CLOSED
DESCRIPTION:
URL:https://westhills-montessori.com/cal-event/veterans-day-school-closed/
CATEGORIES:Lake Oswego,Vermont Street
END:VEVENT
BEGIN:VEVENT
DTSTART;VALUE=DATE:20191108
DTEND;VALUE=DATE:20191109
DTSTAMP:20260422T153310
CREATED:20180823T211029Z
LAST-MODIFIED:20190822T234126Z
UID:3874-1573171200-1573257599@westhills-montessori.com
SUMMARY:All School In-Service/SCHOOL CLOSED
DESCRIPTION:
URL:https://westhills-montessori.com/cal-event/all-school-in-service-school-closed-2/
CATEGORIES:Lake Oswego,Vermont Street
END:VEVENT
BEGIN:VEVENT
DTSTART;VALUE=DATE:20191028
DTEND;VALUE=DATE:20191029
DTSTAMP:20260422T153310
CREATED:20180823T210946Z
LAST-MODIFIED:20190822T234211Z
UID:3872-1572220800-1572307199@westhills-montessori.com
SUMMARY:Parent/Teacher Conferences/No Classes*
DESCRIPTION:*Limited childcare space available\, please see the front office for information
URL:https://westhills-montessori.com/cal-event/parent-teacher-conferences-no-classes-2/
CATEGORIES:Lake Oswego,Vermont Street
END:VEVENT
BEGIN:VEVENT
DTSTART;VALUE=DATE:20191025
DTEND;VALUE=DATE:20191026
DTSTAMP:20260422T153310
CREATED:20180823T210901Z
LAST-MODIFIED:20190822T234254Z
UID:3870-1571961600-1572047999@westhills-montessori.com
SUMMARY:Parent/Teacher Conferences/No Classes*
DESCRIPTION:*Limited childcare space available\, please see the front office for information
URL:https://westhills-montessori.com/cal-event/parent-teacher-conferences-no-classes/
CATEGORIES:Lake Oswego,Vermont Street
END:VEVENT
BEGIN:VEVENT
DTSTART;VALUE=DATE:20191011
DTEND;VALUE=DATE:20191012
DTSTAMP:20260422T153310
CREATED:20180823T210734Z
LAST-MODIFIED:20190822T234348Z
UID:3868-1570752000-1570838399@westhills-montessori.com
SUMMARY:Journey and Discovery event for Parents\, RSVP required
DESCRIPTION:Evening event\, details to follow
URL:https://westhills-montessori.com/cal-event/journey-and-discovery-for-parents-2/
LOCATION:Vermont Street Campus\, 4920 SW Vermont Street\, Portland\, 97219
CATEGORIES:Lake Oswego,Vermont Street
END:VEVENT
BEGIN:VEVENT
DTSTART;VALUE=DATE:20191011
DTEND;VALUE=DATE:20191012
DTSTAMP:20260422T153310
CREATED:20180823T210634Z
LAST-MODIFIED:20190822T234428Z
UID:3866-1570752000-1570838399@westhills-montessori.com
SUMMARY:All School In-Service/SCHOOL CLOSED
DESCRIPTION:
URL:https://westhills-montessori.com/cal-event/all-school-in-service-school-closed/
CATEGORIES:Lake Oswego,Vermont Street
END:VEVENT
BEGIN:VEVENT
DTSTART;VALUE=DATE:20191005
DTEND;VALUE=DATE:20191006
DTSTAMP:20260422T153310
CREATED:20180823T210551Z
LAST-MODIFIED:20190822T234511Z
UID:3864-1570233600-1570319999@westhills-montessori.com
SUMMARY:Fall Festival!
DESCRIPTION:All Families Welcome!
URL:https://westhills-montessori.com/cal-event/fall-festival-4/
LOCATION:Vermont Street Campus\, 4920 SW Vermont Street\, Portland\, 97219
CATEGORIES:Lake Oswego,New Parents,Vermont Street
END:VEVENT
BEGIN:VEVENT
DTSTART;TZID=America/Los_Angeles:20190925T080000
DTEND;TZID=America/Los_Angeles:20190925T170000
DTSTAMP:20260422T153310
CREATED:20190822T235400Z
LAST-MODIFIED:20190822T235400Z
UID:4059-1569398400-1569430800@westhills-montessori.com
SUMMARY:Lake Oswego Campus - Individual and Class Photos
DESCRIPTION:
URL:https://westhills-montessori.com/cal-event/lake-oswego-campus-individual-and-class-photos/
CATEGORIES:Lake Oswego
END:VEVENT
BEGIN:VEVENT
DTSTART;VALUE=DATE:20190924
DTEND;VALUE=DATE:20190925
DTSTAMP:20260422T153310
CREATED:20180830T183547Z
LAST-MODIFIED:20190822T235152Z
UID:3916-1569283200-1569369599@westhills-montessori.com
SUMMARY:Vermont Street Primary Classes - Individual and Class Photos
DESCRIPTION:
URL:https://westhills-montessori.com/cal-event/vs-individual-and-class-photos-maple-fig-willow/
LOCATION:Vermont Street Campus\, 4920 SW Vermont Street\, Portland\, 97219
CATEGORIES:Vermont Street
END:VEVENT
BEGIN:VEVENT
DTSTART;VALUE=DATE:20190923
DTEND;VALUE=DATE:20190924
DTSTAMP:20260422T153310
CREATED:20180830T183443Z
LAST-MODIFIED:20190904T202319Z
UID:3914-1569196800-1569283199@westhills-montessori.com
SUMMARY:Vermont Street Elementary Classes - Individual and Class Photos
DESCRIPTION:
URL:https://westhills-montessori.com/cal-event/vs-individual-and-class-photos-elementary-sunflower-and-butterfly/
LOCATION:Vermont Street Campus\, 4920 SW Vermont Street\, Portland\, 97219
CATEGORIES:Vermont Street
END:VEVENT
BEGIN:VEVENT
DTSTART;TZID=America/Los_Angeles:20190918T180000
DTEND;TZID=America/Los_Angeles:20190918T190000
DTSTAMP:20260422T153310
CREATED:20190904T201533Z
LAST-MODIFIED:20190904T201533Z
UID:4082-1568829600-1568833200@westhills-montessori.com
SUMMARY:Butterfly Room Back to School Night (parent only event)
DESCRIPTION:
URL:https://westhills-montessori.com/cal-event/butterfly-room-back-to-school-night-parent-only-event/
CATEGORIES:Vermont Street
END:VEVENT
BEGIN:VEVENT
DTSTART;TZID=America/Los_Angeles:20190917T180000
DTEND;TZID=America/Los_Angeles:20190917T190000
DTSTAMP:20260422T153310
CREATED:20190904T200625Z
LAST-MODIFIED:20190904T200625Z
UID:4080-1568743200-1568746800@westhills-montessori.com
SUMMARY:Fig Room Back to School Night (parent only event)
DESCRIPTION:
URL:https://westhills-montessori.com/cal-event/fig-room-back-to-school-night-parent-only-event/
CATEGORIES:Vermont Street
END:VEVENT
BEGIN:VEVENT
DTSTART;TZID=America/Los_Angeles:20190912T180000
DTEND;TZID=America/Los_Angeles:20190912T190000
DTSTAMP:20260422T153310
CREATED:20190823T000145Z
LAST-MODIFIED:20190823T000145Z
UID:4077-1568311200-1568314800@westhills-montessori.com
SUMMARY:Maple Room (Vermont Street Campus) Back to School Night (parent only event)
DESCRIPTION:
URL:https://westhills-montessori.com/cal-event/maple-room-vermont-street-campus-back-to-school-night-parent-only-event/
CATEGORIES:Vermont Street
END:VEVENT
BEGIN:VEVENT
DTSTART;TZID=America/Los_Angeles:20190905T173000
DTEND;TZID=America/Los_Angeles:20190905T183000
DTSTAMP:20260422T153310
CREATED:20190823T000056Z
LAST-MODIFIED:20190823T000056Z
UID:4075-1567704600-1567708200@westhills-montessori.com
SUMMARY:Hawthorn Room Back to School Night (parent only event)
DESCRIPTION:
URL:https://westhills-montessori.com/cal-event/hawthorn-room-back-to-school-night-parent-only-event/
CATEGORIES:Lake Oswego
END:VEVENT
BEGIN:VEVENT
DTSTART;TZID=America/Los_Angeles:20190904T173000
DTEND;TZID=America/Los_Angeles:20190904T183000
DTSTAMP:20260422T153310
CREATED:20190823T000010Z
LAST-MODIFIED:20190823T000010Z
UID:4073-1567618200-1567621800@westhills-montessori.com
SUMMARY:Juniper Room Back to School Night (parent only event)
DESCRIPTION:
URL:https://westhills-montessori.com/cal-event/juniper-room-back-to-school-night-parent-only-event/
CATEGORIES:Lake Oswego
END:VEVENT
BEGIN:VEVENT
DTSTART;VALUE=DATE:20190904
DTEND;VALUE=DATE:20190905
DTSTAMP:20260422T153310
CREATED:20180823T210452Z
LAST-MODIFIED:20190822T235013Z
UID:3862-1567555200-1567641599@westhills-montessori.com
SUMMARY:First Full Day for Returning Primary Students
DESCRIPTION:
URL:https://westhills-montessori.com/cal-event/first-full-day-for-returning-primary-students-2/
CATEGORIES:Lake Oswego,Vermont Street
END:VEVENT
BEGIN:VEVENT
DTSTART;TZID=America/Los_Angeles:20190903T123000
DTEND;TZID=America/Los_Angeles:20190903T133000
DTSTAMP:20260422T153310
CREATED:20180823T210239Z
LAST-MODIFIED:20190822T234817Z
UID:3858-1567513800-1567517400@westhills-montessori.com
SUMMARY:Picnic for Returning Primary Students and Families
DESCRIPTION:
URL:https://westhills-montessori.com/cal-event/picnic-for-returning-primary-students-and-families/
CATEGORIES:Lake Oswego,Vermont Street
END:VEVENT
BEGIN:VEVENT
DTSTART;TZID=America/Los_Angeles:20190903T081500
DTEND;TZID=America/Los_Angeles:20190903T134500
DTSTAMP:20260422T153310
CREATED:20180823T210407Z
LAST-MODIFIED:20190822T234917Z
UID:3860-1567498500-1567518300@westhills-montessori.com
SUMMARY:Class Time for All Redwood Students and All Returning Cedar/Ginkgo Room Students
DESCRIPTION:
URL:https://westhills-montessori.com/cal-event/class-time-for-all-redwood-students-and-all-returning-cedar-room-students/
LOCATION:Vermont Street Campus\, 4920 SW Vermont Street\, Portland\, 97219
CATEGORIES:Vermont Street
END:VEVENT
BEGIN:VEVENT
DTSTART;VALUE=DATE:20190903
DTEND;VALUE=DATE:20190904
DTSTAMP:20260422T153310
CREATED:20180823T210129Z
LAST-MODIFIED:20190822T234723Z
UID:3856-1567468800-1567555199@westhills-montessori.com
SUMMARY:Orientation Sessions for New Primary Children and Parents
DESCRIPTION:
URL:https://westhills-montessori.com/cal-event/orientation-sessions-for-new-primary-children-and-parents/
CATEGORIES:Lake Oswego,Vermont Street
END:VEVENT
BEGIN:VEVENT
DTSTART;TZID=America/Los_Angeles:20190829T180000
DTEND;TZID=America/Los_Angeles:20190829T190000
DTSTAMP:20260422T153310
CREATED:20190822T235918Z
LAST-MODIFIED:20190822T235918Z
UID:4071-1567101600-1567105200@westhills-montessori.com
SUMMARY:Maple Room (Lake Oswego Campus) Back to School Night (parent only event)
DESCRIPTION:
URL:https://westhills-montessori.com/cal-event/maple-room-lake-oswego-campus-back-to-school-night-parent-only-event/
CATEGORIES:Lake Oswego
END:VEVENT
BEGIN:VEVENT
DTSTART;TZID=America/Los_Angeles:20190829T180000
DTEND;TZID=America/Los_Angeles:20190829T190000
DTSTAMP:20260422T153310
CREATED:20190822T235735Z
LAST-MODIFIED:20190822T235735Z
UID:4067-1567101600-1567105200@westhills-montessori.com
SUMMARY:Willow Room Back to School Night (parent only event)
DESCRIPTION:
URL:https://westhills-montessori.com/cal-event/willow-room-back-to-school-night-parent-only-event/
CATEGORIES:Vermont Street
END:VEVENT
BEGIN:VEVENT
DTSTART;TZID=America/Los_Angeles:20190829T173000
DTEND;TZID=America/Los_Angeles:20190829T183000
DTSTAMP:20260422T153310
CREATED:20190822T235821Z
LAST-MODIFIED:20190822T235821Z
UID:4069-1567099800-1567103400@westhills-montessori.com
SUMMARY:Alder Room Back to School Night (parent only event)
DESCRIPTION:
URL:https://westhills-montessori.com/cal-event/alder-room-back-to-school-night-parent-only-event/
CATEGORIES:Lake Oswego
END:VEVENT
BEGIN:VEVENT
DTSTART;TZID=America/Los_Angeles:20190829T120000
DTEND;TZID=America/Los_Angeles:20190829T130000
DTSTAMP:20260422T153310
CREATED:20180823T210012Z
LAST-MODIFIED:20190822T234609Z
UID:3854-1567080000-1567083600@westhills-montessori.com
SUMMARY:Picnic Lunch for All Elementary Families
DESCRIPTION:
URL:https://westhills-montessori.com/cal-event/picnic-lunch-for-all-elementary-families-2/
LOCATION:Vermont Street Campus
CATEGORIES:Vermont Street
END:VEVENT
BEGIN:VEVENT
DTSTART;TZID=America/Los_Angeles:20190828T183000
DTEND;TZID=America/Los_Angeles:20190828T193000
DTSTAMP:20260422T153310
CREATED:20190822T235659Z
LAST-MODIFIED:20190822T235659Z
UID:4065-1567017000-1567020600@westhills-montessori.com
SUMMARY:Redwood Room Back to School Night (parent only event)
DESCRIPTION:
URL:https://westhills-montessori.com/cal-event/redwood-room-back-to-school-night-parent-only-event/
CATEGORIES:Vermont Street
END:VEVENT
BEGIN:VEVENT
DTSTART;TZID=America/Los_Angeles:20190828T173000
DTEND;TZID=America/Los_Angeles:20190828T183000
DTSTAMP:20260422T153310
CREATED:20190822T235605Z
LAST-MODIFIED:20190822T235622Z
UID:4063-1567013400-1567017000@westhills-montessori.com
SUMMARY:Cedar Room Back to School Night (parent only event)
DESCRIPTION:
URL:https://westhills-montessori.com/cal-event/cedar-room-back-to-school-night-parent-only-event/
CATEGORIES:Vermont Street
END:VEVENT
END:VCALENDAR