BEGIN:VCALENDAR
VERSION:2.0
PRODID:-//West Hills Montessori School - ECPv6.15.20//NONSGML v1.0//EN
CALSCALE:GREGORIAN
METHOD:PUBLISH
X-WR-CALNAME:West Hills Montessori School
X-ORIGINAL-URL:https://westhills-montessori.com
X-WR-CALDESC:Events for West Hills Montessori School
REFRESH-INTERVAL;VALUE=DURATION:PT1H
X-Robots-Tag:noindex
X-PUBLISHED-TTL:PT1H
BEGIN:VTIMEZONE
TZID:America/Los_Angeles
BEGIN:DAYLIGHT
TZOFFSETFROM:-0800
TZOFFSETTO:-0700
TZNAME:PDT
DTSTART:20170312T100000
END:DAYLIGHT
BEGIN:STANDARD
TZOFFSETFROM:-0700
TZOFFSETTO:-0800
TZNAME:PST
DTSTART:20171105T090000
END:STANDARD
BEGIN:DAYLIGHT
TZOFFSETFROM:-0800
TZOFFSETTO:-0700
TZNAME:PDT
DTSTART:20180311T100000
END:DAYLIGHT
BEGIN:STANDARD
TZOFFSETFROM:-0700
TZOFFSETTO:-0800
TZNAME:PST
DTSTART:20181104T090000
END:STANDARD
BEGIN:DAYLIGHT
TZOFFSETFROM:-0800
TZOFFSETTO:-0700
TZNAME:PDT
DTSTART:20190310T100000
END:DAYLIGHT
BEGIN:STANDARD
TZOFFSETFROM:-0700
TZOFFSETTO:-0800
TZNAME:PST
DTSTART:20191103T090000
END:STANDARD
BEGIN:DAYLIGHT
TZOFFSETFROM:-0800
TZOFFSETTO:-0700
TZNAME:PDT
DTSTART:20200308T100000
END:DAYLIGHT
BEGIN:STANDARD
TZOFFSETFROM:-0700
TZOFFSETTO:-0800
TZNAME:PST
DTSTART:20201101T090000
END:STANDARD
END:VTIMEZONE
BEGIN:VEVENT
DTSTART;VALUE=DATE:20190226
DTEND;VALUE=DATE:20190227
DTSTAMP:20260422T145010
CREATED:20190226T135250Z
LAST-MODIFIED:20190226T135250Z
UID:3998-1551139200-1551225599@westhills-montessori.com
SUMMARY:Delayed start\, both campuses open at 11:00am
DESCRIPTION:We will have a delayed start for Tuesday\, February 26.\n\nAM Care is cancelled and both campuses will open at 11:00 (please note that our staff will not be ready to check children in until 11:00).\n\nThank you for your support and understanding.
URL:https://westhills-montessori.com/cal-event/delayed-start-both-campuses-open-at-1100am/
CATEGORIES:Lake Oswego,Vermont Street
END:VEVENT
BEGIN:VEVENT
DTSTART;VALUE=DATE:20190225
DTEND;VALUE=DATE:20190226
DTSTAMP:20260422T145010
CREATED:20190225T135542Z
LAST-MODIFIED:20190225T135645Z
UID:3996-1551052800-1551139199@westhills-montessori.com
SUMMARY:Delayed start\, BOTH campuses open at 11:00am\, watch for updates
DESCRIPTION:Good morning West Hills families\,\n\nPlease note that due to the inclement weather that has moved into the area\, we are planning a delayed start for Monday\, February 25.\n\nBecause the weather is developing\, please watch for updates.\n\nAs of now the plan for the day is as follows:\n\nMonday\, February 25:\n\nAM Care is cancelled and both campuses will open at 11:00 for parent/teacher conferences and pre-registered childcare.\n\nIf your conference is scheduled starting at 11:00 or later\, it will stay as planned.\n\nIf your child is pre-registered for child care today\, you can sign your child in starting at 11:00 (please note that our staff will not be ready to check children in until 11:00).\n\nA plan to reschedule any missed conferences will be shared as soon as possible.\n\nThank you for your support and understanding.
URL:https://westhills-montessori.com/cal-event/delayed-start-both-campuses-open-at-1100am-watch-for-updates/
CATEGORIES:Lake Oswego,Vermont Street
END:VEVENT
BEGIN:VEVENT
DTSTART;VALUE=DATE:20190205
DTEND;VALUE=DATE:20190206
DTSTAMP:20260422T145010
CREATED:20190205T134407Z
LAST-MODIFIED:20190205T134407Z
UID:3992-1549324800-1549411199@westhills-montessori.com
SUMMARY:Both campuses (SW Pdx and LO) will be CLOSED Tuesday\, February 5
DESCRIPTION:Both campuses (SW Pdx and LO) will be CLOSED Tuesday\, February 5
URL:https://westhills-montessori.com/cal-event/both-campuses-sw-pdx-and-lo-will-be-closed-tuesday-february-5/
CATEGORIES:Lake Oswego,Vermont Street
END:VEVENT
BEGIN:VEVENT
DTSTART;TZID=America/Los_Angeles:20190127T110000
DTEND;TZID=America/Los_Angeles:20190127T130000
DTSTAMP:20260422T145010
CREATED:20181212T180017Z
LAST-MODIFIED:20181212T180232Z
UID:3978-1548586800-1548594000@westhills-montessori.com
SUMMARY:OPEN HOUSES - both campuses!
DESCRIPTION:We hope your family can join us at either of our campuses (Vermont Street Campus in SW Portland or our Lake Oswego Campus) for an upcoming Open House! \nTour our campus\, visit a classroom and meet our staff. Children are welcome! \nSunday\, January 27\n11:00am – 1:00pm\nVermont Street Campus (4920 SW Vermont St\, Pdx 97219) AND Lake Oswego Campus (4515 Parkview Dr\, Lake Oswego\, 97035)
URL:https://westhills-montessori.com/cal-event/open-houses-for-prospective-families/
LOCATION:Vermont Street/Lake Oswego Campuses
CATEGORIES:New Parents
END:VEVENT
BEGIN:VEVENT
DTSTART;VALUE=DATE:20181122
DTEND;VALUE=DATE:20181123
DTSTAMP:20260422T145010
CREATED:20180823T211157Z
LAST-MODIFIED:20180823T211157Z
UID:3878-1542844800-1542931199@westhills-montessori.com
SUMMARY:Thanksgiving Holiday/SCHOOL CLOSED
DESCRIPTION:
URL:https://westhills-montessori.com/cal-event/thanksgiving-holiday-school-closed/
CATEGORIES:Lake Oswego,Vermont Street
END:VEVENT
BEGIN:VEVENT
DTSTART;TZID=America/Los_Angeles:20180920T180000
DTEND;TZID=America/Los_Angeles:20180920T190000
DTSTAMP:20260422T145010
CREATED:20180830T182312Z
LAST-MODIFIED:20180830T182312Z
UID:3912-1537466400-1537470000@westhills-montessori.com
SUMMARY:Butterfly Room Back-to-School Night
DESCRIPTION:
URL:https://westhills-montessori.com/cal-event/butterfly-room-back-to-school-night/
LOCATION:Vermont Street Campus\, 4920 SW Vermont Street\, Portland\, 97219
CATEGORIES:Vermont Street
END:VEVENT
BEGIN:VEVENT
DTSTART;TZID=America/Los_Angeles:20180918T180000
DTEND;TZID=America/Los_Angeles:20180918T190000
DTSTAMP:20260422T145010
CREATED:20180830T182232Z
LAST-MODIFIED:20180830T182232Z
UID:3910-1537293600-1537297200@westhills-montessori.com
SUMMARY:Fig Room Back-to-School Night
DESCRIPTION:
URL:https://westhills-montessori.com/cal-event/fig-room-back-to-school-night/
LOCATION:Vermont Street Campus\, 4920 SW Vermont Street\, Portland\, 97219
CATEGORIES:Vermont Street
END:VEVENT
BEGIN:VEVENT
DTSTART;TZID=America/Los_Angeles:20180913T180000
DTEND;TZID=America/Los_Angeles:20180913T190000
DTSTAMP:20260422T145010
CREATED:20180830T182148Z
LAST-MODIFIED:20180830T182148Z
UID:3908-1536861600-1536865200@westhills-montessori.com
SUMMARY:VS Maple Room Back-to-School Night
DESCRIPTION:
URL:https://westhills-montessori.com/cal-event/vs-maple-room-back-to-school-night/
LOCATION:Vermont Street Campus\, 4920 SW Vermont Street\, Portland\, 97219
CATEGORIES:Vermont Street
END:VEVENT
BEGIN:VEVENT
DTSTART;TZID=America/Los_Angeles:20180722T110000
DTEND;TZID=America/Los_Angeles:20180722T123000
DTSTAMP:20260422T145010
CREATED:20180521T201537Z
LAST-MODIFIED:20180521T201537Z
UID:3852-1532257200-1532262600@westhills-montessori.com
SUMMARY:SW Portland Campus - Upcoming Open House!
DESCRIPTION:We hope your family can join us at the Vermont Street Campus in SW Portland for an upcoming Open House! \nTour our campus\, visit a classroom and meet our staff. Children are welcome! \nSunday\, June 24 and Sunday\, July 22\, 11:00am – 12:30pm\nVermont Street Campus (4920 SW Vermont St\, Pdx 97219) \nSW Campus: Limited 9:00-1:00 and 9:00-3:00 space available in the Primary Program (children ages 3-6) for the 2018-2019 school year. \nWe welcome your application!
URL:https://westhills-montessori.com/cal-event/sw-portland-campus-upcoming-open-house-3/
LOCATION:Vermont Street Campus\, 4920 SW Vermont St\, Portland\, OR\, 97219\, United States
CATEGORIES:New Parents
END:VEVENT
BEGIN:VEVENT
DTSTART;TZID=America/Los_Angeles:20180624T110000
DTEND;TZID=America/Los_Angeles:20180624T123000
DTSTAMP:20260422T145010
CREATED:20180521T201451Z
LAST-MODIFIED:20180521T201451Z
UID:3850-1529838000-1529843400@westhills-montessori.com
SUMMARY:SW Portland Campus - Upcoming Open House!
DESCRIPTION:We hope your family can join us at the Vermont Street Campus in SW Portland for an upcoming Open House! \nTour our campus\, visit a classroom and meet our staff. Children are welcome! \nSunday\, June 24 and Sunday\, July 22\, 11:00am – 12:30pm\nVermont Street Campus (4920 SW Vermont St\, Pdx 97219) \nSW Campus: Limited 9:00-1:00 and 9:00-3:00 space available in the Primary Program (children ages 3-6) for the 2018-2019 school year. \nWe welcome your application!
URL:https://westhills-montessori.com/cal-event/sw-portland-campus-upcoming-open-house-2/
LOCATION:Vermont Street Campus\, 4920 SW Vermont St\, Portland\, OR\, 97219\, United States
CATEGORIES:New Parents
END:VEVENT
BEGIN:VEVENT
DTSTART;VALUE=DATE:20180612
DTEND;VALUE=DATE:20180613
DTSTAMP:20260422T145010
CREATED:20170911T223157Z
LAST-MODIFIED:20170911T223157Z
UID:3716-1528761600-1528847999@westhills-montessori.com
SUMMARY:Last Day of School for the Students
DESCRIPTION:Have a wonderful summer!
URL:https://westhills-montessori.com/cal-event/last-day-school-students-2/
CATEGORIES:Lake Oswego,Vermont Street
END:VEVENT
BEGIN:VEVENT
DTSTART;TZID=America/Los_Angeles:20180608T153000
DTEND;TZID=America/Los_Angeles:20180608T161500
DTSTAMP:20260422T145010
CREATED:20160922T191409Z
LAST-MODIFIED:20180105T171722Z
UID:3046-1528471800-1528474500@westhills-montessori.com
SUMMARY:Elementary Ukulele
DESCRIPTION:Elementary Ukulele Class for pre-registered students. Class will be held in the Butterfly Room.
URL:https://westhills-montessori.com/cal-event/elementary-ukulele/
LOCATION:Vermont Street Campus\, 4920 SW Vermont Street\, Portland\, 97219
CATEGORIES:Vermont Street
END:VEVENT
BEGIN:VEVENT
DTSTART;TZID=America/Los_Angeles:20180601T153000
DTEND;TZID=America/Los_Angeles:20180601T161500
DTSTAMP:20260422T145010
CREATED:20160923T173949Z
LAST-MODIFIED:20180105T171814Z
UID:3101-1527867000-1527869700@westhills-montessori.com
SUMMARY:Elementary Ukulele
DESCRIPTION:Elementary Ukulele Class for pre-registered students. Class will be held in the Butterfly Room.
URL:https://westhills-montessori.com/cal-event/elementary-ukulele-copy-4/
LOCATION:Vermont Street Campus\, 4920 SW Vermont Street\, Portland\, 97219
CATEGORIES:Vermont Street
END:VEVENT
BEGIN:VEVENT
DTSTART;VALUE=DATE:20180528
DTEND;VALUE=DATE:20180529
DTSTAMP:20260422T145010
CREATED:20170911T222858Z
LAST-MODIFIED:20170911T222859Z
UID:3714-1527465600-1527551999@westhills-montessori.com
SUMMARY:Memorial Day/SCHOOL CLOSED
DESCRIPTION:
URL:https://westhills-montessori.com/cal-event/memorial-dayschool-closed-4/
CATEGORIES:Lake Oswego,Vermont Street
END:VEVENT
BEGIN:VEVENT
DTSTART;TZID=America/Los_Angeles:20180525T153000
DTEND;TZID=America/Los_Angeles:20180525T161500
DTSTAMP:20260422T145010
CREATED:20160923T173902Z
LAST-MODIFIED:20180105T171852Z
UID:3097-1527262200-1527264900@westhills-montessori.com
SUMMARY:Elementary Ukulele
DESCRIPTION:Elementary Ukulele Class for pre-registered students. Class will be held in the Butterfly Room.
URL:https://westhills-montessori.com/cal-event/elementary-ukulele-copy-3/
LOCATION:Vermont Street Campus\, 4920 SW Vermont Street\, Portland\, 97219
CATEGORIES:Vermont Street
END:VEVENT
BEGIN:VEVENT
DTSTART;TZID=America/Los_Angeles:20180518T153000
DTEND;TZID=America/Los_Angeles:20180518T161500
DTSTAMP:20260422T145010
CREATED:20160923T173906Z
LAST-MODIFIED:20180105T171922Z
UID:3098-1526657400-1526660100@westhills-montessori.com
SUMMARY:Elementary Ukulele
DESCRIPTION:Elementary Ukulele Class for pre-registered students. Class will be held in the Butterfly Room.
URL:https://westhills-montessori.com/cal-event/elementary-ukulele-copy-3-copy/
LOCATION:Vermont Street Campus\, 4920 SW Vermont Street\, Portland\, 97219
CATEGORIES:Vermont Street
END:VEVENT
BEGIN:VEVENT
DTSTART;TZID=America/Los_Angeles:20180516T153000
DTEND;TZID=America/Los_Angeles:20180516T161500
DTSTAMP:20260422T145010
CREATED:20170823T162457Z
LAST-MODIFIED:20170823T162854Z
UID:3630-1526484600-1526487300@westhills-montessori.com
SUMMARY:Primary Spanish Class
DESCRIPTION:Primary Spanish Class for 5-and-6-year-old students. This class will be held in the Sunflower Room. *Please see the front office for registration.
URL:https://westhills-montessori.com/cal-event/primary-spanish-class-28-copy-copy-copy-2-copy-2-copy-2-copy-2/
LOCATION:Vermont Street Campus\, 4920 SW Vermont Street\, Portland\, 97219
CATEGORIES:Vermont Street
ORGANIZER;CN="Jessie Meskel Smith":MAILTO:jessie@westhills-montessori.com
END:VEVENT
BEGIN:VEVENT
DTSTART;TZID=America/Los_Angeles:20180511T153000
DTEND;TZID=America/Los_Angeles:20180511T161500
DTSTAMP:20260422T145010
CREATED:20160923T172528Z
LAST-MODIFIED:20180105T171958Z
UID:3049-1526052600-1526055300@westhills-montessori.com
SUMMARY:Elementary Ukulele
DESCRIPTION:Elementary Ukulele Class for pre-registered students. Class will be held in the Butterfly Room.
URL:https://westhills-montessori.com/cal-event/elementary-ukulele-copy-2/
LOCATION:Vermont Street Campus\, 4920 SW Vermont Street\, Portland\, 97219
CATEGORIES:Vermont Street
END:VEVENT
BEGIN:VEVENT
DTSTART;TZID=America/Los_Angeles:20180509T153000
DTEND;TZID=America/Los_Angeles:20180509T161500
DTSTAMP:20260422T145010
CREATED:20170823T162503Z
LAST-MODIFIED:20170823T162830Z
UID:3631-1525879800-1525882500@westhills-montessori.com
SUMMARY:Primary Spanish Class
DESCRIPTION:Primary Spanish Class for 5-and-6-year-old students. This class will be held in the Sunflower Room. *Please see the front office for registration.
URL:https://westhills-montessori.com/cal-event/primary-spanish-class-28-copy-copy-copy-2-copy-2-copy-2-copy-2-copy/
LOCATION:Vermont Street Campus\, 4920 SW Vermont Street\, Portland\, 97219
CATEGORIES:Vermont Street
ORGANIZER;CN="Jessie Meskel Smith":MAILTO:jessie@westhills-montessori.com
END:VEVENT
BEGIN:VEVENT
DTSTART;VALUE=DATE:20180504
DTEND;VALUE=DATE:20180505
DTSTAMP:20260422T145010
CREATED:20170911T222826Z
LAST-MODIFIED:20170911T222826Z
UID:3712-1525392000-1525478399@westhills-montessori.com
SUMMARY:Optional Year-End Conferences/No Classes*
DESCRIPTION:*School open for limited childcare only. Please see the front office for details.
URL:https://westhills-montessori.com/cal-event/optional-year-end-conferencesno-classes/
CATEGORIES:Lake Oswego,Vermont Street
END:VEVENT
BEGIN:VEVENT
DTSTART;TZID=America/Los_Angeles:20180502T153000
DTEND;TZID=America/Los_Angeles:20180502T161500
DTSTAMP:20260422T145010
CREATED:20170823T162508Z
LAST-MODIFIED:20170823T162803Z
UID:3632-1525275000-1525277700@westhills-montessori.com
SUMMARY:Primary Spanish Class
DESCRIPTION:Primary Spanish Class for 5-and-6-year-old students. This class will be held in the Sunflower Room. *Please see the front office for registration.
URL:https://westhills-montessori.com/cal-event/primary-spanish-class-28-copy-copy-copy-2-copy-2-copy-2-copy-2-copy-copy/
LOCATION:Vermont Street Campus\, 4920 SW Vermont Street\, Portland\, 97219
CATEGORIES:Vermont Street
ORGANIZER;CN="Jessie Meskel Smith":MAILTO:jessie@westhills-montessori.com
END:VEVENT
BEGIN:VEVENT
DTSTART;TZID=America/Los_Angeles:20180429T110000
DTEND;TZID=America/Los_Angeles:20180429T123000
DTSTAMP:20260422T145010
CREATED:20180314T184314Z
LAST-MODIFIED:20180314T184314Z
UID:3831-1524999600-1525005000@westhills-montessori.com
SUMMARY:SW Portland Campus - Upcoming Open House!
DESCRIPTION:We hope your family can join us at the Vermont Street Campus in SW Portland for an upcoming Open House! \nTour our campus\, visit a classroom and meet our staff. Children are welcome! \nSunday\, April 22 and Sunday\, April 29\, 11:00am – 12:30pm\nVermont Street Campus (4920 SW Vermont St\, Pdx 97219) \nSW Campus: Limited 9:00-1:00 and 9:00-3:00 space available in the Primary Program (children ages 3-6) for the 2018-2019 school year. \nWe welcome your application!
URL:https://westhills-montessori.com/cal-event/sw-portland-campus-upcoming-open-house/
LOCATION:Vermont Street Campus\, 4920 SW Vermont St\, Portland\, OR\, 97219\, United States
CATEGORIES:New Parents
END:VEVENT
BEGIN:VEVENT
DTSTART;TZID=America/Los_Angeles:20180427T153000
DTEND;TZID=America/Los_Angeles:20180427T161500
DTSTAMP:20260422T145010
CREATED:20160923T172536Z
LAST-MODIFIED:20180105T172107Z
UID:3052-1524843000-1524845700@westhills-montessori.com
SUMMARY:Elementary Ukulele
DESCRIPTION:Elementary Ukulele Class for pre-registered students. Class will be held in the Butterfly Room.
URL:https://westhills-montessori.com/cal-event/elementary-ukulele-copy-copy-copy-copy/
LOCATION:Vermont Street Campus\, 4920 SW Vermont Street\, Portland\, 97219
CATEGORIES:Vermont Street
END:VEVENT
BEGIN:VEVENT
DTSTART;VALUE=DATE:20180427
DTEND;VALUE=DATE:20180428
DTSTAMP:20260422T145010
CREATED:20180413T174147Z
LAST-MODIFIED:20180413T174147Z
UID:3845-1524787200-1524873599@westhills-montessori.com
SUMMARY:Flower Order Forms Due
DESCRIPTION:Thank you for supporting our fundraiser!
URL:https://westhills-montessori.com/cal-event/flower-order-forms-due/
CATEGORIES:Lake Oswego,Vermont Street
ORGANIZER;CN="Jessie Meskel Smith":MAILTO:jessie@westhills-montessori.com
END:VEVENT
BEGIN:VEVENT
DTSTART;TZID=America/Los_Angeles:20180425T153000
DTEND;TZID=America/Los_Angeles:20180425T161500
DTSTAMP:20260422T145010
CREATED:20170823T162513Z
LAST-MODIFIED:20170823T162733Z
UID:3633-1524670200-1524672900@westhills-montessori.com
SUMMARY:Primary Spanish Class
DESCRIPTION:Primary Spanish Class for 5-and-6-year-old students. This class will be held in the Sunflower Room. *Please see the front office for registration.
URL:https://westhills-montessori.com/cal-event/primary-spanish-class-28-copy-copy-copy-2-copy-2-copy-2-copy-2-copy-copy-copy/
LOCATION:Vermont Street Campus\, 4920 SW Vermont Street\, Portland\, 97219
CATEGORIES:Vermont Street
ORGANIZER;CN="Jessie Meskel Smith":MAILTO:jessie@westhills-montessori.com
END:VEVENT
BEGIN:VEVENT
DTSTART;TZID=America/Los_Angeles:20180422T110000
DTEND;TZID=America/Los_Angeles:20180422T123000
DTSTAMP:20260422T145010
CREATED:20180314T184208Z
LAST-MODIFIED:20180314T184346Z
UID:3829-1524394800-1524400200@westhills-montessori.com
SUMMARY:SW Portland Campus - Upcoming Open House!
DESCRIPTION:We hope your family can join us at the Vermont Street Campus in SW Portland for an upcoming Open House! \nTour our campus\, visit a classroom and meet our staff. Children are welcome! \nSunday\, April 22 and Sunday\, April 29\, 11:00am – 12:30pm\nVermont Street Campus (4920 SW Vermont St\, Pdx 97219) \nSW Campus: Limited 9:00-1:00 and 9:00-3:00 space available in the Primary Program (children ages 3-6) for the 2018-2019 school year. \nWe welcome your application!
URL:https://westhills-montessori.com/cal-event/sw-portland-campus-upcoming-open-houses/
LOCATION:Vermont Street Campus\, 4920 SW Vermont St\, Portland\, OR\, 97219\, United States
CATEGORIES:New Parents
END:VEVENT
BEGIN:VEVENT
DTSTART;TZID=America/Los_Angeles:20180420T153000
DTEND;TZID=America/Los_Angeles:20180420T161500
DTSTAMP:20260422T145010
CREATED:20160923T172541Z
LAST-MODIFIED:20180105T172141Z
UID:3054-1524238200-1524240900@westhills-montessori.com
SUMMARY:Elementary Ukulele
DESCRIPTION:Elementary Ukulele Class for pre-registered students. Class will be held in the Butterfly Room.
URL:https://westhills-montessori.com/cal-event/elementary-ukulele-copy-copy-copy-copy-copy-copy/
LOCATION:Vermont Street Campus\, 4920 SW Vermont Street\, Portland\, 97219
CATEGORIES:Vermont Street
END:VEVENT
BEGIN:VEVENT
DTSTART;TZID=America/Los_Angeles:20180420T091500
DTEND;TZID=America/Los_Angeles:20180420T093500
DTSTAMP:20260422T145010
CREATED:20180413T173952Z
LAST-MODIFIED:20180413T173952Z
UID:3841-1524215700-1524216900@westhills-montessori.com
SUMMARY:Maple Room Open House (P-T)
DESCRIPTION:
URL:https://westhills-montessori.com/cal-event/maple-room-open-house-p-t/
LOCATION:Vermont Street Campus\, 4920 SW Vermont Street\, Portland\, 97219
CATEGORIES:Vermont Street
END:VEVENT
BEGIN:VEVENT
DTSTART;VALUE=DATE:20180420
DTEND;VALUE=DATE:20180421
DTSTAMP:20260422T145010
CREATED:20180413T173423Z
LAST-MODIFIED:20180413T173423Z
UID:3836-1524182400-1524268799@westhills-montessori.com
SUMMARY:All-School Earth Day Celebration for the Children
DESCRIPTION:
URL:https://westhills-montessori.com/cal-event/all-school-earth-day-celebration-for-the-children/
LOCATION:Vermont Street Campus\, 4920 SW Vermont Street\, Portland\, 97219
CATEGORIES:Vermont Street
END:VEVENT
BEGIN:VEVENT
DTSTART;TZID=America/Los_Angeles:20180418T153000
DTEND;TZID=America/Los_Angeles:20180418T161500
DTSTAMP:20260422T145010
CREATED:20170823T162518Z
LAST-MODIFIED:20170823T162713Z
UID:3634-1524065400-1524068100@westhills-montessori.com
SUMMARY:Primary Spanish Class
DESCRIPTION:Primary Spanish Class for 5-and-6-year-old students. This class will be held in the Sunflower Room. *Please see the front office for registration.
URL:https://westhills-montessori.com/cal-event/primary-spanish-class-28-copy-copy-copy-2-copy-2-copy-2-copy-2-copy-copy-copy-copy/
LOCATION:Vermont Street Campus\, 4920 SW Vermont Street\, Portland\, 97219
CATEGORIES:Vermont Street
ORGANIZER;CN="Jessie Meskel Smith":MAILTO:jessie@westhills-montessori.com
END:VEVENT
END:VCALENDAR