BEGIN:VCALENDAR
VERSION:2.0
PRODID:-//West Hills Montessori School - ECPv6.15.20//NONSGML v1.0//EN
CALSCALE:GREGORIAN
METHOD:PUBLISH
X-WR-CALNAME:West Hills Montessori School
X-ORIGINAL-URL:https://westhills-montessori.com
X-WR-CALDESC:Events for West Hills Montessori School
REFRESH-INTERVAL;VALUE=DURATION:PT1H
X-Robots-Tag:noindex
X-PUBLISHED-TTL:PT1H
BEGIN:VTIMEZONE
TZID:America/Los_Angeles
BEGIN:DAYLIGHT
TZOFFSETFROM:-0800
TZOFFSETTO:-0700
TZNAME:PDT
DTSTART:20170312T100000
END:DAYLIGHT
BEGIN:STANDARD
TZOFFSETFROM:-0700
TZOFFSETTO:-0800
TZNAME:PST
DTSTART:20171105T090000
END:STANDARD
BEGIN:DAYLIGHT
TZOFFSETFROM:-0800
TZOFFSETTO:-0700
TZNAME:PDT
DTSTART:20180311T100000
END:DAYLIGHT
BEGIN:STANDARD
TZOFFSETFROM:-0700
TZOFFSETTO:-0800
TZNAME:PST
DTSTART:20181104T090000
END:STANDARD
BEGIN:DAYLIGHT
TZOFFSETFROM:-0800
TZOFFSETTO:-0700
TZNAME:PDT
DTSTART:20190310T100000
END:DAYLIGHT
BEGIN:STANDARD
TZOFFSETFROM:-0700
TZOFFSETTO:-0800
TZNAME:PST
DTSTART:20191103T090000
END:STANDARD
END:VTIMEZONE
BEGIN:VEVENT
DTSTART;TZID=America/Los_Angeles:20180420T153000
DTEND;TZID=America/Los_Angeles:20180420T161500
DTSTAMP:20260422T151911
CREATED:20160923T172541Z
LAST-MODIFIED:20180105T172141Z
UID:3054-1524238200-1524240900@westhills-montessori.com
SUMMARY:Elementary Ukulele
DESCRIPTION:Elementary Ukulele Class for pre-registered students. Class will be held in the Butterfly Room.
URL:https://westhills-montessori.com/cal-event/elementary-ukulele-copy-copy-copy-copy-copy-copy/
LOCATION:Vermont Street Campus\, 4920 SW Vermont Street\, Portland\, 97219
CATEGORIES:Vermont Street
END:VEVENT
BEGIN:VEVENT
DTSTART;TZID=America/Los_Angeles:20180420T091500
DTEND;TZID=America/Los_Angeles:20180420T093500
DTSTAMP:20260422T151911
CREATED:20180413T173952Z
LAST-MODIFIED:20180413T173952Z
UID:3841-1524215700-1524216900@westhills-montessori.com
SUMMARY:Maple Room Open House (P-T)
DESCRIPTION:
URL:https://westhills-montessori.com/cal-event/maple-room-open-house-p-t/
LOCATION:Vermont Street Campus\, 4920 SW Vermont Street\, Portland\, 97219
CATEGORIES:Vermont Street
END:VEVENT
BEGIN:VEVENT
DTSTART;VALUE=DATE:20180420
DTEND;VALUE=DATE:20180421
DTSTAMP:20260422T151911
CREATED:20180413T173423Z
LAST-MODIFIED:20180413T173423Z
UID:3836-1524182400-1524268799@westhills-montessori.com
SUMMARY:All-School Earth Day Celebration for the Children
DESCRIPTION:
URL:https://westhills-montessori.com/cal-event/all-school-earth-day-celebration-for-the-children/
LOCATION:Vermont Street Campus\, 4920 SW Vermont Street\, Portland\, 97219
CATEGORIES:Vermont Street
END:VEVENT
BEGIN:VEVENT
DTSTART;TZID=America/Los_Angeles:20180418T153000
DTEND;TZID=America/Los_Angeles:20180418T161500
DTSTAMP:20260422T151911
CREATED:20170823T162518Z
LAST-MODIFIED:20170823T162713Z
UID:3634-1524065400-1524068100@westhills-montessori.com
SUMMARY:Primary Spanish Class
DESCRIPTION:Primary Spanish Class for 5-and-6-year-old students. This class will be held in the Sunflower Room. *Please see the front office for registration.
URL:https://westhills-montessori.com/cal-event/primary-spanish-class-28-copy-copy-copy-2-copy-2-copy-2-copy-2-copy-copy-copy-copy/
LOCATION:Vermont Street Campus\, 4920 SW Vermont Street\, Portland\, 97219
CATEGORIES:Vermont Street
ORGANIZER;CN="Jessie Meskel Smith":MAILTO:jessie@westhills-montessori.com
END:VEVENT
BEGIN:VEVENT
DTSTART;TZID=America/Los_Angeles:20180418T091500
DTEND;TZID=America/Los_Angeles:20180418T093500
DTSTAMP:20260422T151911
CREATED:20180413T173757Z
LAST-MODIFIED:20180413T174045Z
UID:3838-1524042900-1524044100@westhills-montessori.com
SUMMARY:Maple Room Open House (A-O)
DESCRIPTION:
URL:https://westhills-montessori.com/cal-event/willow-room-open-house-a-o/
LOCATION:Vermont Street Campus\, 4920 SW Vermont Street\, Portland\, 97219
CATEGORIES:Vermont Street
END:VEVENT
BEGIN:VEVENT
DTSTART;VALUE=DATE:20180413
DTEND;VALUE=DATE:20180414
DTSTAMP:20260422T151911
CREATED:20170911T222729Z
LAST-MODIFIED:20170911T222729Z
UID:3710-1523577600-1523663999@westhills-montessori.com
SUMMARY:All School In-Service/SCHOOL CLOSED
DESCRIPTION:
URL:https://westhills-montessori.com/cal-event/school-serviceschool-closed-6/
CATEGORIES:Lake Oswego,Vermont Street
END:VEVENT
BEGIN:VEVENT
DTSTART;TZID=America/Los_Angeles:20180411T153000
DTEND;TZID=America/Los_Angeles:20180411T161500
DTSTAMP:20260422T151911
CREATED:20170823T162523Z
LAST-MODIFIED:20170823T162652Z
UID:3635-1523460600-1523463300@westhills-montessori.com
SUMMARY:Primary Spanish Class
DESCRIPTION:Primary Spanish Class for 5-and-6-year-old students. This class will be held in the Sunflower Room. *Please see the front office for registration.
URL:https://westhills-montessori.com/cal-event/primary-spanish-class-28-copy-copy-copy-2-copy-2-copy-2-copy-2-copy-copy-copy-copy-copy/
LOCATION:Vermont Street Campus\, 4920 SW Vermont Street\, Portland\, 97219
CATEGORIES:Vermont Street
ORGANIZER;CN="Jessie Meskel Smith":MAILTO:jessie@westhills-montessori.com
END:VEVENT
BEGIN:VEVENT
DTSTART;TZID=America/Los_Angeles:20180406T153000
DTEND;TZID=America/Los_Angeles:20180406T161500
DTSTAMP:20260422T151911
CREATED:20160923T172545Z
LAST-MODIFIED:20180105T172225Z
UID:3055-1523028600-1523031300@westhills-montessori.com
SUMMARY:Elementary Ukulele
DESCRIPTION:Elementary Ukulele Class for pre-registered students. Class will be held in the Butterfly Room.
URL:https://westhills-montessori.com/cal-event/elementary-ukulele-copy-copy-copy-copy-copy-copy-copy/
LOCATION:Vermont Street Campus\, 4920 SW Vermont Street\, Portland\, 97219
CATEGORIES:Vermont Street
END:VEVENT
BEGIN:VEVENT
DTSTART;TZID=America/Los_Angeles:20180404T153000
DTEND;TZID=America/Los_Angeles:20180404T161500
DTSTAMP:20260422T151911
CREATED:20170823T162528Z
LAST-MODIFIED:20170823T162631Z
UID:3636-1522855800-1522858500@westhills-montessori.com
SUMMARY:Primary Spanish Class
DESCRIPTION:Primary Spanish Class for 5-and-6-year-old students. This class will be held in the Sunflower Room. *Please see the front office for registration.
URL:https://westhills-montessori.com/cal-event/primary-spanish-class-28-copy-copy-copy-2-copy-2-copy-2-copy-2-copy-copy-copy-copy-copy-copy/
LOCATION:Vermont Street Campus\, 4920 SW Vermont Street\, Portland\, 97219
CATEGORIES:Vermont Street
ORGANIZER;CN="Jessie Meskel Smith":MAILTO:jessie@westhills-montessori.com
END:VEVENT
BEGIN:VEVENT
DTSTART;VALUE=DATE:20180326
DTEND;VALUE=DATE:20180331
DTSTAMP:20260422T151911
CREATED:20170911T222645Z
LAST-MODIFIED:20170911T222645Z
UID:3708-1522022400-1522454399@westhills-montessori.com
SUMMARY:Spring Break/SCHOOL CLOSED
DESCRIPTION:
URL:https://westhills-montessori.com/cal-event/spring-breakschool-closed-5/
CATEGORIES:Lake Oswego,Vermont Street
END:VEVENT
BEGIN:VEVENT
DTSTART;TZID=America/Los_Angeles:20180323T153000
DTEND;TZID=America/Los_Angeles:20180323T161500
DTSTAMP:20260422T151911
CREATED:20160923T172531Z
LAST-MODIFIED:20180105T172305Z
UID:3050-1521819000-1521821700@westhills-montessori.com
SUMMARY:Elementary Ukulele
DESCRIPTION:Elementary Ukulele Class for pre-registered students. Class will be held in the Butterfly Room.
URL:https://westhills-montessori.com/cal-event/elementary-ukulele-copy-copy/
LOCATION:Vermont Street Campus\, 4920 SW Vermont Street\, Portland\, 97219
CATEGORIES:Vermont Street
END:VEVENT
BEGIN:VEVENT
DTSTART;TZID=America/Los_Angeles:20180321T153000
DTEND;TZID=America/Los_Angeles:20180321T161500
DTSTAMP:20260422T151911
CREATED:20170823T162533Z
LAST-MODIFIED:20170823T162603Z
UID:3637-1521646200-1521648900@westhills-montessori.com
SUMMARY:Primary Spanish Class
DESCRIPTION:Primary Spanish Class for 5-and-6-year-old students. This class will be held in the Sunflower Room. *Please see the front office for registration.
URL:https://westhills-montessori.com/cal-event/primary-spanish-class-28-copy-copy-copy-2-copy-2-copy-2-copy-2-copy-copy-copy-copy-copy-copy-copy/
LOCATION:Vermont Street Campus\, 4920 SW Vermont Street\, Portland\, 97219
CATEGORIES:Vermont Street
ORGANIZER;CN="Jessie Meskel Smith":MAILTO:jessie@westhills-montessori.com
END:VEVENT
BEGIN:VEVENT
DTSTART;TZID=America/Los_Angeles:20180316T153000
DTEND;TZID=America/Los_Angeles:20180316T161500
DTSTAMP:20260422T151911
CREATED:20160923T172548Z
LAST-MODIFIED:20180105T172423Z
UID:3056-1521214200-1521216900@westhills-montessori.com
SUMMARY:Elementary Ukulele
DESCRIPTION:Elementary Ukulele Class for pre-registered students. Class will be held in the Butterfly Room.
URL:https://westhills-montessori.com/cal-event/elementary-ukulele-copy-copy-copy-copy-copy-copy-copy-copy/
LOCATION:Vermont Street Campus\, 4920 SW Vermont Street\, Portland\, 97219
CATEGORIES:Vermont Street
END:VEVENT
BEGIN:VEVENT
DTSTART;TZID=America/Los_Angeles:20180316T151500
DTEND;TZID=America/Los_Angeles:20180316T161500
DTSTAMP:20260422T151911
CREATED:20180307T230722Z
LAST-MODIFIED:20180307T230722Z
UID:3823-1521213300-1521216900@westhills-montessori.com
SUMMARY:Lake Oswego Drama Class FINAL PERFORMANCE
DESCRIPTION:
URL:https://westhills-montessori.com/cal-event/lake-oswego-drama-class-final-performance/
LOCATION:Lake Oswego Campus
CATEGORIES:Lake Oswego
END:VEVENT
BEGIN:VEVENT
DTSTART;TZID=America/Los_Angeles:20180314T180000
DTEND;TZID=America/Los_Angeles:20180314T193000
DTSTAMP:20260422T151911
CREATED:20170908T231324Z
LAST-MODIFIED:20171212T214829Z
UID:3679-1521050400-1521055800@westhills-montessori.com
SUMMARY:Elementary Curriculum Night @ Vermont Street\, Topic: Math and Geometry
DESCRIPTION:Come and hear a lively presentation about the dynamic elementary math curriculum and how it builds upon the work in the primary.
URL:https://westhills-montessori.com/cal-event/elementary-curriculum-night-vermont-street-topic-math-geometry/
LOCATION:Vermont Street Campus\, 4920 SW Vermont Street\, Portland\, 97219
CATEGORIES:Lake Oswego,Vermont Street
END:VEVENT
BEGIN:VEVENT
DTSTART;TZID=America/Los_Angeles:20180314T153000
DTEND;TZID=America/Los_Angeles:20180314T161500
DTSTAMP:20260422T151911
CREATED:20170823T162201Z
LAST-MODIFIED:20170823T162443Z
UID:3620-1521041400-1521044100@westhills-montessori.com
SUMMARY:Primary Spanish Class
DESCRIPTION:Primary Spanish Class for 5-and-6-year-old students. This class will be held in the Sunflower Room. *Please see the front office for registration.
URL:https://westhills-montessori.com/cal-event/primary-spanish-class-28-copy-copy-copy-2-copy-2-copy-2/
LOCATION:Vermont Street Campus\, 4920 SW Vermont Street\, Portland\, 97219
CATEGORIES:Vermont Street
ORGANIZER;CN="Jessie Meskel Smith":MAILTO:jessie@westhills-montessori.com
END:VEVENT
BEGIN:VEVENT
DTSTART;TZID=America/Los_Angeles:20180314T091500
DTEND;TZID=America/Los_Angeles:20180314T101500
DTSTAMP:20260422T151911
CREATED:20170908T231125Z
LAST-MODIFIED:20171212T214758Z
UID:3677-1521018900-1521022500@westhills-montessori.com
SUMMARY:Parent/Guide Forum @ Vermont Street\, Topic: Reasons we do not use screens in our primary environments
DESCRIPTION:Join us for an open discussion about screen time and its effects on children\, as well as ideas for managing your child’s screen time.
URL:https://westhills-montessori.com/cal-event/parentguide-forum-vermont-street-topic-reasons-not-use-screens-primary-environments/
LOCATION:Vermont Street Campus\, 4920 SW Vermont Street\, Portland\, 97219
CATEGORIES:Lake Oswego,Vermont Street
END:VEVENT
BEGIN:VEVENT
DTSTART;VALUE=DATE:20180311
DTEND;VALUE=DATE:20180312
DTSTAMP:20260422T151911
CREATED:20180307T230609Z
LAST-MODIFIED:20180307T230609Z
UID:3821-1520726400-1520809199@westhills-montessori.com
SUMMARY:Daylight Savings Time "Spring Forward"
DESCRIPTION:
URL:https://westhills-montessori.com/cal-event/daylight-savings-time-spring-forward/
CATEGORIES:Lake Oswego,Vermont Street
END:VEVENT
BEGIN:VEVENT
DTSTART;TZID=America/Los_Angeles:20180309T153000
DTEND;TZID=America/Los_Angeles:20180309T161500
DTSTAMP:20260422T151911
CREATED:20160923T172550Z
LAST-MODIFIED:20180105T172455Z
UID:3057-1520609400-1520612100@westhills-montessori.com
SUMMARY:Elementary Ukulele
DESCRIPTION:Elementary Ukulele Class for pre-registered students. Class will be held in the Butterfly Room.
URL:https://westhills-montessori.com/cal-event/elementary-ukulele-copy-copy-copy-copy-copy-copy-copy-copy-copy/
LOCATION:Vermont Street Campus\, 4920 SW Vermont Street\, Portland\, 97219
CATEGORIES:Vermont Street
END:VEVENT
BEGIN:VEVENT
DTSTART;TZID=America/Los_Angeles:20180309T151500
DTEND;TZID=America/Los_Angeles:20180309T161500
DTSTAMP:20260422T151911
CREATED:20180307T230508Z
LAST-MODIFIED:20180307T230745Z
UID:3818-1520608500-1520612100@westhills-montessori.com
SUMMARY:Lake Oswego Drama Class
DESCRIPTION:
URL:https://westhills-montessori.com/cal-event/lake-oswego-drama-class/
LOCATION:Lake Oswego Campus\, 4515 Parkview Drive\, Lake Oswego\, 97035
CATEGORIES:Lake Oswego
END:VEVENT
BEGIN:VEVENT
DTSTART;VALUE=DATE:20180309
DTEND;VALUE=DATE:20180310
DTSTAMP:20260422T151911
CREATED:20180307T231608Z
LAST-MODIFIED:20180307T231608Z
UID:3826-1520553600-1520639999@westhills-montessori.com
SUMMARY:Zoo Snooze  for Cedar and Redwood Students
DESCRIPTION:
URL:https://westhills-montessori.com/cal-event/zoo-snooze-for-cedar-and-redwood-students/
CATEGORIES:Vermont Street
END:VEVENT
BEGIN:VEVENT
DTSTART;TZID=America/Los_Angeles:20180307T153000
DTEND;TZID=America/Los_Angeles:20180307T161500
DTSTAMP:20260422T151911
CREATED:20170823T162207Z
LAST-MODIFIED:20170823T162410Z
UID:3621-1520436600-1520439300@westhills-montessori.com
SUMMARY:Primary Spanish Class
DESCRIPTION:Primary Spanish Class for 5-and-6-year-old students. This class will be held in the Sunflower Room. *Please see the front office for registration.
URL:https://westhills-montessori.com/cal-event/primary-spanish-class-28-copy-copy-copy-2-copy-2-copy-2-copy/
LOCATION:Vermont Street Campus\, 4920 SW Vermont Street\, Portland\, 97219
CATEGORIES:Vermont Street
ORGANIZER;CN="Jessie Meskel Smith":MAILTO:jessie@westhills-montessori.com
END:VEVENT
BEGIN:VEVENT
DTSTART;TZID=America/Los_Angeles:20180302T153000
DTEND;TZID=America/Los_Angeles:20180302T161500
DTSTAMP:20260422T151911
CREATED:20160923T172553Z
LAST-MODIFIED:20180105T172530Z
UID:3058-1520004600-1520007300@westhills-montessori.com
SUMMARY:Elementary Ukulele
DESCRIPTION:Elementary Ukulele Class for pre-registered students. Class will be held in the Butterfly Room.
URL:https://westhills-montessori.com/cal-event/elementary-ukulele-copy-copy-copy-copy-copy-copy-copy-copy-copy-copy/
LOCATION:Vermont Street Campus\, 4920 SW Vermont Street\, Portland\, 97219
CATEGORIES:Vermont Street
END:VEVENT
BEGIN:VEVENT
DTSTART;TZID=America/Los_Angeles:20180228T153000
DTEND;TZID=America/Los_Angeles:20180228T161500
DTSTAMP:20260422T151911
CREATED:20170823T162212Z
LAST-MODIFIED:20170823T162348Z
UID:3622-1519831800-1519834500@westhills-montessori.com
SUMMARY:Primary Spanish Class
DESCRIPTION:Primary Spanish Class for 5-and-6-year-old students. This class will be held in the Sunflower Room. *Please see the front office for registration.
URL:https://westhills-montessori.com/cal-event/primary-spanish-class-28-copy-copy-copy-2-copy-2-copy-2-copy-copy/
LOCATION:Vermont Street Campus\, 4920 SW Vermont Street\, Portland\, 97219
CATEGORIES:Vermont Street
ORGANIZER;CN="Jessie Meskel Smith":MAILTO:jessie@westhills-montessori.com
END:VEVENT
BEGIN:VEVENT
DTSTART;VALUE=DATE:20180226
DTEND;VALUE=DATE:20180227
DTSTAMP:20260422T151911
CREATED:20170911T222553Z
LAST-MODIFIED:20170911T222553Z
UID:3706-1519603200-1519689599@westhills-montessori.com
SUMMARY:Parent/Teacher Conferences/No Classes*
DESCRIPTION:*School open for limited childcare only. Please see the front office for details.
URL:https://westhills-montessori.com/cal-event/parentteacher-conferencesno-classes-2/
CATEGORIES:Lake Oswego,Vermont Street
END:VEVENT
BEGIN:VEVENT
DTSTART;VALUE=DATE:20180223
DTEND;VALUE=DATE:20180224
DTSTAMP:20260422T151911
CREATED:20170911T222451Z
LAST-MODIFIED:20170911T222451Z
UID:3704-1519344000-1519430399@westhills-montessori.com
SUMMARY:Parent/Teacher Conferences/No Classes*
DESCRIPTION:*School open for limited childcare only. Please see the front office for details.
URL:https://westhills-montessori.com/cal-event/parentteacher-conferencesno-classes/
CATEGORIES:Lake Oswego,Vermont Street
END:VEVENT
BEGIN:VEVENT
DTSTART;VALUE=DATE:20180222
DTEND;VALUE=DATE:20180223
DTSTAMP:20260422T151911
CREATED:20180222T134404Z
LAST-MODIFIED:20180222T134404Z
UID:3816-1519257600-1519343999@westhills-montessori.com
SUMMARY:Both campuses will open at 11:00am on Thursday\, February 22
DESCRIPTION:
URL:https://westhills-montessori.com/cal-event/campuses-will-open-1100am-thursday-february-22/
CATEGORIES:Lake Oswego,Vermont Street
END:VEVENT
BEGIN:VEVENT
DTSTART;TZID=America/Los_Angeles:20180221T153000
DTEND;TZID=America/Los_Angeles:20180221T161500
DTSTAMP:20260422T151911
CREATED:20170823T162225Z
LAST-MODIFIED:20170823T162325Z
UID:3624-1519227000-1519229700@westhills-montessori.com
SUMMARY:Primary Spanish Class
DESCRIPTION:Primary Spanish Class for 5-and-6-year-old students. This class will be held in the Sunflower Room. *Please see the front office for registration.
URL:https://westhills-montessori.com/cal-event/primary-spanish-class-28-copy-copy-copy-2-copy-2-copy-2-copy-copy-copy-copy/
LOCATION:Vermont Street Campus\, 4920 SW Vermont Street\, Portland\, 97219
CATEGORIES:Vermont Street
ORGANIZER;CN="Jessie Meskel Smith":MAILTO:jessie@westhills-montessori.com
END:VEVENT
BEGIN:VEVENT
DTSTART;VALUE=DATE:20180221
DTEND;VALUE=DATE:20180222
DTSTAMP:20260422T151911
CREATED:20180221T055020Z
LAST-MODIFIED:20180221T055020Z
UID:3814-1519171200-1519257599@westhills-montessori.com
SUMMARY:Both campuses will be CLOSED on Wednesday\, February 21
DESCRIPTION:Both campuses will be CLOSED on Wednesday\, February 21 (SW Portland Campus and Lake Oswego Campus) \nAs always\, we thank you for your support and understanding during this time. The safety of our families\, children and staff is always our top priority!
URL:https://westhills-montessori.com/cal-event/campuses-will-closed-wednesday-february-21/
CATEGORIES:Lake Oswego,Vermont Street
END:VEVENT
BEGIN:VEVENT
DTSTART;VALUE=DATE:20180219
DTEND;VALUE=DATE:20180220
DTSTAMP:20260422T151911
CREATED:20170911T222401Z
LAST-MODIFIED:20170911T222401Z
UID:3702-1518998400-1519084799@westhills-montessori.com
SUMMARY:President's Day/SCHOOL CLOSED
DESCRIPTION:
URL:https://westhills-montessori.com/cal-event/presidents-dayschool-closed-5/
CATEGORIES:Lake Oswego,Vermont Street
END:VEVENT
END:VCALENDAR