BEGIN:VCALENDAR
VERSION:2.0
PRODID:-//West Hills Montessori School - ECPv6.15.20//NONSGML v1.0//EN
CALSCALE:GREGORIAN
METHOD:PUBLISH
X-WR-CALNAME:West Hills Montessori School
X-ORIGINAL-URL:https://westhills-montessori.com
X-WR-CALDESC:Events for West Hills Montessori School
REFRESH-INTERVAL;VALUE=DURATION:PT1H
X-Robots-Tag:noindex
X-PUBLISHED-TTL:PT1H
BEGIN:VTIMEZONE
TZID:America/Los_Angeles
BEGIN:DAYLIGHT
TZOFFSETFROM:-0800
TZOFFSETTO:-0700
TZNAME:PDT
DTSTART:20160313T100000
END:DAYLIGHT
BEGIN:STANDARD
TZOFFSETFROM:-0700
TZOFFSETTO:-0800
TZNAME:PST
DTSTART:20161106T090000
END:STANDARD
BEGIN:DAYLIGHT
TZOFFSETFROM:-0800
TZOFFSETTO:-0700
TZNAME:PDT
DTSTART:20170312T100000
END:DAYLIGHT
BEGIN:STANDARD
TZOFFSETFROM:-0700
TZOFFSETTO:-0800
TZNAME:PST
DTSTART:20171105T090000
END:STANDARD
BEGIN:DAYLIGHT
TZOFFSETFROM:-0800
TZOFFSETTO:-0700
TZNAME:PDT
DTSTART:20180311T100000
END:DAYLIGHT
BEGIN:STANDARD
TZOFFSETFROM:-0700
TZOFFSETTO:-0800
TZNAME:PST
DTSTART:20181104T090000
END:STANDARD
BEGIN:DAYLIGHT
TZOFFSETFROM:-0800
TZOFFSETTO:-0700
TZNAME:PDT
DTSTART:20190310T100000
END:DAYLIGHT
BEGIN:STANDARD
TZOFFSETFROM:-0700
TZOFFSETTO:-0800
TZNAME:PST
DTSTART:20191103T090000
END:STANDARD
END:VTIMEZONE
BEGIN:VEVENT
DTSTART;TZID=America/Los_Angeles:20180105T153000
DTEND;TZID=America/Los_Angeles:20180105T161500
DTSTAMP:20260423T012943
CREATED:20180105T172710Z
LAST-MODIFIED:20180105T172734Z
UID:3789-1515166200-1515168900@westhills-montessori.com
SUMMARY:Elementary Ukulele
DESCRIPTION:Elementary Ukulele Class for pre-registered students. Class will be held in the Butterfly Room.
URL:https://westhills-montessori.com/cal-event/elementary-ukulele-copy-copy-3-copy-copy-copy-copy/
LOCATION:Vermont Street Campus\, 4920 SW Vermont Street\, Portland\, 97219
CATEGORIES:Vermont Street
END:VEVENT
BEGIN:VEVENT
DTSTART;TZID=America/Los_Angeles:20180103T153000
DTEND;TZID=America/Los_Angeles:20180103T161500
DTSTAMP:20260423T012944
CREATED:20170823T161602Z
LAST-MODIFIED:20170823T161843Z
UID:3600-1514993400-1514996100@westhills-montessori.com
SUMMARY:Primary Spanish Class
DESCRIPTION:Primary Spanish Class for 5-and-6-year-old students. This class will be held in the Sunflower Room. *Please see the front office for registration.
URL:https://westhills-montessori.com/cal-event/primary-spanish-class-28-copy-copy-copy-2/
LOCATION:Vermont Street Campus\, 4920 SW Vermont Street\, Portland\, 97219
CATEGORIES:Vermont Street
ORGANIZER;CN="Jessie Meskel Smith":MAILTO:jessie@westhills-montessori.com
END:VEVENT
BEGIN:VEVENT
DTSTART;VALUE=DATE:20180102
DTEND;VALUE=DATE:20180103
DTSTAMP:20260423T012944
CREATED:20170911T222144Z
LAST-MODIFIED:20170911T222144Z
UID:3696-1514851200-1514937599@westhills-montessori.com
SUMMARY:Classes Resume from Winter Break
DESCRIPTION:
URL:https://westhills-montessori.com/cal-event/classes-resume-winter-break/
CATEGORIES:Lake Oswego,Vermont Street
END:VEVENT
BEGIN:VEVENT
DTSTART;VALUE=DATE:20171218
DTEND;VALUE=DATE:20180102
DTSTAMP:20260423T012944
CREATED:20170911T222111Z
LAST-MODIFIED:20170911T222111Z
UID:3694-1513555200-1514851199@westhills-montessori.com
SUMMARY:Winter Break/SCHOOL CLOSED
DESCRIPTION:
URL:https://westhills-montessori.com/cal-event/winter-breakschool-closed-5/
CATEGORIES:Lake Oswego,Vermont Street
END:VEVENT
BEGIN:VEVENT
DTSTART;TZID=America/Los_Angeles:20171206T180000
DTEND;TZID=America/Los_Angeles:20171206T193000
DTSTAMP:20260423T012944
CREATED:20170908T230215Z
LAST-MODIFIED:20170908T230215Z
UID:3669-1512583200-1512588600@westhills-montessori.com
SUMMARY:Elementary: The Montessori Advantage @Lake Oswego
DESCRIPTION:Come and learn how the wonder of Montessori continues on into the elementary years to provide the best possible learning experience for your child.
URL:https://westhills-montessori.com/cal-event/elementary-montessori-advantage-lake-oswego/
LOCATION:Lake Oswego Campus\, 4515 Parkview Drive\, Lake Oswego\, 97035
CATEGORIES:Lake Oswego,New Parents,Vermont Street
END:VEVENT
BEGIN:VEVENT
DTSTART;TZID=America/Los_Angeles:20171206T153000
DTEND;TZID=America/Los_Angeles:20171206T161500
DTSTAMP:20260423T012944
CREATED:20170823T161610Z
LAST-MODIFIED:20170823T161808Z
UID:3601-1512574200-1512576900@westhills-montessori.com
SUMMARY:Primary Spanish Class
DESCRIPTION:Primary Spanish Class for 5-and-6-year-old students. This class will be held in the Sunflower Room. *Please see the front office for registration.
URL:https://westhills-montessori.com/cal-event/primary-spanish-class-28-copy-copy-copy-2-copy/
LOCATION:Vermont Street Campus\, 4920 SW Vermont Street\, Portland\, 97219
CATEGORIES:Vermont Street
ORGANIZER;CN="Jessie Meskel Smith":MAILTO:jessie@westhills-montessori.com
END:VEVENT
BEGIN:VEVENT
DTSTART;TZID=America/Los_Angeles:20171129T153000
DTEND;TZID=America/Los_Angeles:20171129T161500
DTSTAMP:20260423T012944
CREATED:20170823T161614Z
LAST-MODIFIED:20170823T161742Z
UID:3602-1511969400-1511972100@westhills-montessori.com
SUMMARY:Primary Spanish Class
DESCRIPTION:Primary Spanish Class for 5-and-6-year-old students. This class will be held in the Sunflower Room. *Please see the front office for registration.
URL:https://westhills-montessori.com/cal-event/primary-spanish-class-28-copy-copy-copy-2-copy-copy/
LOCATION:Vermont Street Campus\, 4920 SW Vermont Street\, Portland\, 97219
CATEGORIES:Vermont Street
ORGANIZER;CN="Jessie Meskel Smith":MAILTO:jessie@westhills-montessori.com
END:VEVENT
BEGIN:VEVENT
DTSTART;VALUE=DATE:20171123
DTEND;VALUE=DATE:20171125
DTSTAMP:20260423T012944
CREATED:20170911T222012Z
LAST-MODIFIED:20170911T222012Z
UID:3692-1511395200-1511567999@westhills-montessori.com
SUMMARY:Thanksgiving Holiday/SCHOOL CLOSED
DESCRIPTION:
URL:https://westhills-montessori.com/cal-event/thanksgiving-holidayschool-closed-5/
CATEGORIES:Lake Oswego,Vermont Street
END:VEVENT
BEGIN:VEVENT
DTSTART;TZID=America/Los_Angeles:20171116T183000
DTEND;TZID=America/Los_Angeles:20171116T193000
DTSTAMP:20260423T012944
CREATED:20171018T200225Z
LAST-MODIFIED:20171018T200303Z
UID:3748-1510857000-1510860600@westhills-montessori.com
SUMMARY:Preschool: The Montessori Advantage (SW Portland Campus)
DESCRIPTION:Interested in learning more about our Montessori primary program for children ages 3-6? We hope you can join our staff for one of these informative and engaging parent education events. \n*Please note these are parent only events\n\nThursday\, November 16\, 6:30-7:30pm\, Vermont Street Campus
URL:https://westhills-montessori.com/cal-event/preschool-montessori-advantage-6/
LOCATION:Vermont Street Campus\, 4920 SW Vermont St\, Portland\, OR\, 97219\, United States
CATEGORIES:New Parents,Vermont Street
END:VEVENT
BEGIN:VEVENT
DTSTART;TZID=America/Los_Angeles:20171115T183000
DTEND;TZID=America/Los_Angeles:20171115T193000
DTSTAMP:20260423T012944
CREATED:20171018T195918Z
LAST-MODIFIED:20171018T195918Z
UID:3746-1510770600-1510774200@westhills-montessori.com
SUMMARY:Preschool: The Montessori Advantage (Lake Oswego Campus)
DESCRIPTION:Interested in learning more about our Montessori primary program for children ages 3-6? We hope you can join our staff for one of these informative and engaging parent education events. \n*Please note these are parent only events\n\nWednesday\, November 15\, 6:30-7:30pm\, Lake Oswego Campus
URL:https://westhills-montessori.com/cal-event/preschool-montessori-advantage-lake-oswego-campus/
LOCATION:Lake Oswego Campus\, 4515 Parkview Dr\, Lake Oswego
CATEGORIES:Lake Oswego,New Parents
END:VEVENT
BEGIN:VEVENT
DTSTART;TZID=America/Los_Angeles:20171115T153000
DTEND;TZID=America/Los_Angeles:20171115T161500
DTSTAMP:20260423T012944
CREATED:20170823T161619Z
LAST-MODIFIED:20170823T161709Z
UID:3603-1510759800-1510762500@westhills-montessori.com
SUMMARY:Primary Spanish Class
DESCRIPTION:Primary Spanish Class for 5-and-6-year-old students. This class will be held in the Sunflower Room. *Please see the front office for registration.
URL:https://westhills-montessori.com/cal-event/primary-spanish-class-28-copy-copy-copy-2-copy-copy-copy/
LOCATION:Vermont Street Campus\, 4920 SW Vermont Street\, Portland\, 97219
CATEGORIES:Vermont Street
ORGANIZER;CN="Jessie Meskel Smith":MAILTO:jessie@westhills-montessori.com
END:VEVENT
BEGIN:VEVENT
DTSTART;TZID=America/Los_Angeles:20171114T180000
DTEND;TZID=America/Los_Angeles:20171114T193000
DTSTAMP:20260423T012944
CREATED:20170908T230033Z
LAST-MODIFIED:20170908T230033Z
UID:3667-1510682400-1510687800@westhills-montessori.com
SUMMARY:Elementary: The Montessori Advantage @ Vermont Street
DESCRIPTION:Come and learn how the wonder of Montessori continues on into the elementary years to provide the best possible learning experience for your child.
URL:https://westhills-montessori.com/cal-event/elementary-montessori-advantage-vermont-street/
LOCATION:Vermont Street Campus\, 4920 SW Vermont Street\, Portland\, 97219
CATEGORIES:Lake Oswego,New Parents,Vermont Street
END:VEVENT
BEGIN:VEVENT
DTSTART;TZID=America/Los_Angeles:20171114T091500
DTEND;TZID=America/Los_Angeles:20171114T101500
DTSTAMP:20260423T012944
CREATED:20170908T225854Z
LAST-MODIFIED:20171025T213641Z
UID:3665-1510650900-1510654500@westhills-montessori.com
SUMMARY:Parent/Guide Forum @ Vermont Street\, Topic: Supporting Self-Regulation
DESCRIPTION:Join us for a lively discussion and sharing about the Montessori approach to discipline and learn how you can apply the same principles at home to increase cooperation\, collaboration and joy.
URL:https://westhills-montessori.com/cal-event/parentguide-forum-vermont-street-topic-supporting-self-regulation/
LOCATION:Vermont Street Campus\, 4920 SW Vermont Street\, Portland\, 97219
CATEGORIES:Lake Oswego,Vermont Street
END:VEVENT
BEGIN:VEVENT
DTSTART;VALUE=DATE:20171110
DTEND;VALUE=DATE:20171111
DTSTAMP:20260423T012944
CREATED:20170911T221931Z
LAST-MODIFIED:20170911T221931Z
UID:3690-1510272000-1510358399@westhills-montessori.com
SUMMARY:Veteran's Day/SCHOOL CLOSED
DESCRIPTION:
URL:https://westhills-montessori.com/cal-event/veterans-dayschool-closed-4/
CATEGORIES:Lake Oswego,Vermont Street
END:VEVENT
BEGIN:VEVENT
DTSTART;VALUE=DATE:20171109
DTEND;VALUE=DATE:20171110
DTSTAMP:20260423T012944
CREATED:20170911T221903Z
LAST-MODIFIED:20170911T221904Z
UID:3688-1510185600-1510271999@westhills-montessori.com
SUMMARY:All School In-Service/SCHOOL CLOSED
DESCRIPTION:
URL:https://westhills-montessori.com/cal-event/school-serviceschool-closed-4/
CATEGORIES:Lake Oswego,Vermont Street
END:VEVENT
BEGIN:VEVENT
DTSTART;TZID=America/Los_Angeles:20171108T153000
DTEND;TZID=America/Los_Angeles:20171108T161500
DTSTAMP:20260423T012944
CREATED:20170823T161625Z
LAST-MODIFIED:20170823T161642Z
UID:3604-1510155000-1510157700@westhills-montessori.com
SUMMARY:Primary Spanish Class
DESCRIPTION:Primary Spanish Class for 5-and-6-year-old students. This class will be held in the Sunflower Room. *Please see the front office for registration.
URL:https://westhills-montessori.com/cal-event/primary-spanish-class-28-copy-copy-copy-2-copy-copy-copy-copy/
LOCATION:Vermont Street Campus\, 4920 SW Vermont Street\, Portland\, 97219
CATEGORIES:Vermont Street
ORGANIZER;CN="Jessie Meskel Smith":MAILTO:jessie@westhills-montessori.com
END:VEVENT
BEGIN:VEVENT
DTSTART;TZID=America/Los_Angeles:20171101T153000
DTEND;TZID=America/Los_Angeles:20171101T161500
DTSTAMP:20260423T012944
CREATED:20170823T161304Z
LAST-MODIFIED:20170823T161528Z
UID:3593-1509550200-1509552900@westhills-montessori.com
SUMMARY:Primary Spanish Class
DESCRIPTION:Primary Spanish Class for 5-and-6-year-old students. This class will be held in the Sunflower Room. *Please see the front office for registration.
URL:https://westhills-montessori.com/cal-event/primary-spanish-class-28-copy-copy/
LOCATION:Vermont Street Campus\, 4920 SW Vermont Street\, Portland\, 97219
CATEGORIES:Vermont Street
ORGANIZER;CN="Jessie Meskel Smith":MAILTO:jessie@westhills-montessori.com
END:VEVENT
BEGIN:VEVENT
DTSTART;VALUE=DATE:20171030
DTEND;VALUE=DATE:20171031
DTSTAMP:20260423T012944
CREATED:20170911T221640Z
LAST-MODIFIED:20170911T221640Z
UID:3686-1509321600-1509407999@westhills-montessori.com
SUMMARY:Parent Teacher Conferences/No Classes*
DESCRIPTION:*School open for limited childcare only. Please see the front office for details.
URL:https://westhills-montessori.com/cal-event/parent-teacher-conferencesno-classes-2/
CATEGORIES:Lake Oswego,Vermont Street
END:VEVENT
BEGIN:VEVENT
DTSTART;VALUE=DATE:20171027
DTEND;VALUE=DATE:20171028
DTSTAMP:20260423T012944
CREATED:20170911T221345Z
LAST-MODIFIED:20170911T221523Z
UID:3683-1509062400-1509148799@westhills-montessori.com
SUMMARY:Parent Teacher Conferences/NO Classes*
DESCRIPTION:*School open for limited childcare only. Please see the front office for details.
URL:https://westhills-montessori.com/cal-event/parent-teacher-conferencesno-classes/
CATEGORIES:Lake Oswego,Vermont Street
END:VEVENT
BEGIN:VEVENT
DTSTART;TZID=America/Los_Angeles:20171025T153000
DTEND;TZID=America/Los_Angeles:20171025T161500
DTSTAMP:20260423T012944
CREATED:20170823T161309Z
LAST-MODIFIED:20170823T161455Z
UID:3594-1508945400-1508948100@westhills-montessori.com
SUMMARY:Primary Spanish Class
DESCRIPTION:Primary Spanish Class for 5-and-6-year-old students. This class will be held in the Sunflower Room. *Please see the front office for registration.
URL:https://westhills-montessori.com/cal-event/primary-spanish-class-28-copy-copy-copy/
LOCATION:Vermont Street Campus\, 4920 SW Vermont Street\, Portland\, 97219
CATEGORIES:Vermont Street
ORGANIZER;CN="Jessie Meskel Smith":MAILTO:jessie@westhills-montessori.com
END:VEVENT
BEGIN:VEVENT
DTSTART;TZID=America/Los_Angeles:20171019T091500
DTEND;TZID=America/Los_Angeles:20171019T101500
DTSTAMP:20260423T012944
CREATED:20170908T225643Z
LAST-MODIFIED:20170908T225643Z
UID:3663-1508404500-1508408100@westhills-montessori.com
SUMMARY:Parent/Guide Forum @ Lake Oswego\, Topic: Supporting Montessori at Home
DESCRIPTION:Come and learn ways to support your child’s experience at school while also encouraging greater independence and cooperation at home.
URL:https://westhills-montessori.com/cal-event/parentguide-forum-lake-oswego-topic-supporting-montessori-home/
LOCATION:Lake Oswego Campus
CATEGORIES:Lake Oswego,New Parents,Vermont Street
END:VEVENT
BEGIN:VEVENT
DTSTART;TZID=America/Los_Angeles:20171018T153000
DTEND;TZID=America/Los_Angeles:20171018T161500
DTSTAMP:20260423T012944
CREATED:20170823T161314Z
LAST-MODIFIED:20170823T161426Z
UID:3595-1508340600-1508343300@westhills-montessori.com
SUMMARY:Primary Spanish Class
DESCRIPTION:Primary Spanish Class for 5-and-6-year-old students. This class will be held in the Sunflower Room. *Please see the front office for registration.
URL:https://westhills-montessori.com/cal-event/primary-spanish-class-28-copy-copy-copy-copy/
LOCATION:Vermont Street Campus\, 4920 SW Vermont Street\, Portland\, 97219
CATEGORIES:Vermont Street
ORGANIZER;CN="Jessie Meskel Smith":MAILTO:jessie@westhills-montessori.com
END:VEVENT
BEGIN:VEVENT
DTSTART;TZID=America/Los_Angeles:20171018T091500
DTEND;TZID=America/Los_Angeles:20171018T101500
DTSTAMP:20260423T012944
CREATED:20170908T225455Z
LAST-MODIFIED:20170908T225455Z
UID:3660-1508318100-1508321700@westhills-montessori.com
SUMMARY:Parent/Guide Forum @ Vermont Street\, Topic: Supporting Montessori at Home
DESCRIPTION:Come and learn ways to support your child’s experience at school while also encouraging greater independence and cooperation at home.
URL:https://westhills-montessori.com/cal-event/parentguide-forum-vermont-street-topic-supporting-montessori-home/
LOCATION:Vermont Street Campus\, 4920 SW Vermont Street\, Portland\, 97219
CATEGORIES:Lake Oswego,New Parents,Vermont Street
END:VEVENT
BEGIN:VEVENT
DTSTART;TZID=America/Los_Angeles:20171013T173000
DTEND;TZID=America/Los_Angeles:20171013T203000
DTSTAMP:20260423T012944
CREATED:20170908T225108Z
LAST-MODIFIED:20170908T225108Z
UID:3658-1507915800-1507926600@westhills-montessori.com
SUMMARY:Journey and Discovery @ Vermont Street Campus
DESCRIPTION:The Journey and Discovery Experience allows you to explore and interact with the unique Montessori environment through the eyes of a child because\, for a few hours\, you get to be the child. You’ll explore the Montessori classrooms\, receive some actual lessons\, learn more about how and why we do what we do\, and mingle with other families in the West Hills community. \n*Limited space available for this popular event which fills quickly. Watch for an Evite with details!
URL:https://westhills-montessori.com/cal-event/journey-discovery-vermont-street-campus/
LOCATION:Vermont Street Campus\, 4920 SW Vermont Street\, Portland\, 97219
CATEGORIES:Lake Oswego,New Parents,Vermont Street
END:VEVENT
BEGIN:VEVENT
DTSTART;VALUE=DATE:20171013
DTEND;VALUE=DATE:20171014
DTSTAMP:20260423T012944
CREATED:20170911T221215Z
LAST-MODIFIED:20170911T221215Z
UID:3681-1507852800-1507939199@westhills-montessori.com
SUMMARY:All School In-Service/SCHOOL CLOSED
DESCRIPTION:
URL:https://westhills-montessori.com/cal-event/school-serviceschool-closed-3/
CATEGORIES:Lake Oswego,New Parents,Vermont Street
END:VEVENT
BEGIN:VEVENT
DTSTART;TZID=America/Los_Angeles:20171011T153000
DTEND;TZID=America/Los_Angeles:20171011T161500
DTSTAMP:20260423T012944
CREATED:20170823T161258Z
LAST-MODIFIED:20170823T161350Z
UID:3592-1507735800-1507738500@westhills-montessori.com
SUMMARY:Primary Spanish Class
DESCRIPTION:Primary Spanish Class for 5-and-6-year-old students. This class will be held in the Sunflower Room. *Please see the front office for registration.
URL:https://westhills-montessori.com/cal-event/primary-spanish-class-28-copy/
LOCATION:Vermont Street Campus\, 4920 SW Vermont Street\, Portland\, 97219
CATEGORIES:Vermont Street
ORGANIZER;CN="Jessie Meskel Smith":MAILTO:jessie@westhills-montessori.com
END:VEVENT
BEGIN:VEVENT
DTSTART;TZID=America/Los_Angeles:20171007T130000
DTEND;TZID=America/Los_Angeles:20171007T160000
DTSTAMP:20260423T012944
CREATED:20170908T224743Z
LAST-MODIFIED:20170908T224743Z
UID:3656-1507381200-1507392000@westhills-montessori.com
SUMMARY:Fall Festival @ Vermont Street!
DESCRIPTION:The Fall Festival is our most popular community event of the year. Hosted by the elementary community at our Vermont Street campus\, there are fun fall activities for all ages. Bring your whole family and join us for a fun-filled autumn afternoon!
URL:https://westhills-montessori.com/cal-event/fall-festival-vermont-street/
LOCATION:Vermont Street Campus\, 4920 SW Vermont Street\, Portland\, 97219
CATEGORIES:Lake Oswego,New Parents,Vermont Street
END:VEVENT
BEGIN:VEVENT
DTSTART;TZID=America/Los_Angeles:20171004T153000
DTEND;TZID=America/Los_Angeles:20171004T161500
DTSTAMP:20260423T012944
CREATED:20170823T161218Z
LAST-MODIFIED:20170823T161218Z
UID:3589-1507131000-1507133700@westhills-montessori.com
SUMMARY:Primary Spanish Class
DESCRIPTION:Primary Spanish Class for 5-and-6-year-old students. This class will be held in the Sunflower Room. *Please see the front office for registration.
URL:https://westhills-montessori.com/cal-event/primary-spanish-class-28/
LOCATION:Vermont Street Campus\, 4920 SW Vermont Street\, Portland\, 97219
CATEGORIES:Vermont Street
ORGANIZER;CN="Jessie Meskel Smith":MAILTO:jessie@westhills-montessori.com
END:VEVENT
BEGIN:VEVENT
DTSTART;TZID=America/Los_Angeles:20170926T154500
DTEND;TZID=America/Los_Angeles:20170926T164500
DTSTAMP:20260423T012944
CREATED:20170915T202249Z
LAST-MODIFIED:20170915T202249Z
UID:3729-1506440700-1506444300@westhills-montessori.com
SUMMARY:Fall Festival Volunteer Meeting
DESCRIPTION:
URL:https://westhills-montessori.com/cal-event/fall-festival-volunteer-meeting-2/
LOCATION:Cedar Room
CATEGORIES:Vermont Street
END:VEVENT
BEGIN:VEVENT
DTSTART;VALUE=DATE:20170921
DTEND;VALUE=DATE:20170922
DTSTAMP:20260423T012944
CREATED:20170915T201644Z
LAST-MODIFIED:20170915T201644Z
UID:3718-1505952000-1506038399@westhills-montessori.com
SUMMARY:Lake Oswego Individual and Class Photos
DESCRIPTION:
URL:https://westhills-montessori.com/cal-event/lake-oswego-individual-class-photos/
LOCATION:Lake Oswego Campus
CATEGORIES:Lake Oswego
END:VEVENT
END:VCALENDAR