BEGIN:VCALENDAR
VERSION:2.0
PRODID:-//West Hills Montessori School - ECPv6.15.20//NONSGML v1.0//EN
CALSCALE:GREGORIAN
METHOD:PUBLISH
X-WR-CALNAME:West Hills Montessori School
X-ORIGINAL-URL:https://westhills-montessori.com
X-WR-CALDESC:Events for West Hills Montessori School
REFRESH-INTERVAL;VALUE=DURATION:PT1H
X-Robots-Tag:noindex
X-PUBLISHED-TTL:PT1H
BEGIN:VTIMEZONE
TZID:America/Los_Angeles
BEGIN:DAYLIGHT
TZOFFSETFROM:-0800
TZOFFSETTO:-0700
TZNAME:PDT
DTSTART:20160313T100000
END:DAYLIGHT
BEGIN:STANDARD
TZOFFSETFROM:-0700
TZOFFSETTO:-0800
TZNAME:PST
DTSTART:20161106T090000
END:STANDARD
BEGIN:DAYLIGHT
TZOFFSETFROM:-0800
TZOFFSETTO:-0700
TZNAME:PDT
DTSTART:20170312T100000
END:DAYLIGHT
BEGIN:STANDARD
TZOFFSETFROM:-0700
TZOFFSETTO:-0800
TZNAME:PST
DTSTART:20171105T090000
END:STANDARD
BEGIN:DAYLIGHT
TZOFFSETFROM:-0800
TZOFFSETTO:-0700
TZNAME:PDT
DTSTART:20180311T100000
END:DAYLIGHT
BEGIN:STANDARD
TZOFFSETFROM:-0700
TZOFFSETTO:-0800
TZNAME:PST
DTSTART:20181104T090000
END:STANDARD
END:VTIMEZONE
BEGIN:VEVENT
DTSTART;TZID=America/Los_Angeles:20171004T153000
DTEND;TZID=America/Los_Angeles:20171004T161500
DTSTAMP:20260423T003803
CREATED:20170823T161218Z
LAST-MODIFIED:20170823T161218Z
UID:3589-1507131000-1507133700@westhills-montessori.com
SUMMARY:Primary Spanish Class
DESCRIPTION:Primary Spanish Class for 5-and-6-year-old students. This class will be held in the Sunflower Room. *Please see the front office for registration.
URL:https://westhills-montessori.com/cal-event/primary-spanish-class-28/
LOCATION:Vermont Street Campus\, 4920 SW Vermont Street\, Portland\, 97219
CATEGORIES:Vermont Street
ORGANIZER;CN="Jessie Meskel Smith":MAILTO:jessie@westhills-montessori.com
END:VEVENT
BEGIN:VEVENT
DTSTART;TZID=America/Los_Angeles:20170926T154500
DTEND;TZID=America/Los_Angeles:20170926T164500
DTSTAMP:20260423T003803
CREATED:20170915T202249Z
LAST-MODIFIED:20170915T202249Z
UID:3729-1506440700-1506444300@westhills-montessori.com
SUMMARY:Fall Festival Volunteer Meeting
DESCRIPTION:
URL:https://westhills-montessori.com/cal-event/fall-festival-volunteer-meeting-2/
LOCATION:Cedar Room
CATEGORIES:Vermont Street
END:VEVENT
BEGIN:VEVENT
DTSTART;VALUE=DATE:20170921
DTEND;VALUE=DATE:20170922
DTSTAMP:20260423T003803
CREATED:20170915T201644Z
LAST-MODIFIED:20170915T201644Z
UID:3718-1505952000-1506038399@westhills-montessori.com
SUMMARY:Lake Oswego Individual and Class Photos
DESCRIPTION:
URL:https://westhills-montessori.com/cal-event/lake-oswego-individual-class-photos/
LOCATION:Lake Oswego Campus
CATEGORIES:Lake Oswego
END:VEVENT
BEGIN:VEVENT
DTSTART;VALUE=DATE:20170920
DTEND;VALUE=DATE:20170921
DTSTAMP:20260423T003803
CREATED:20170915T202200Z
LAST-MODIFIED:20170915T202200Z
UID:3727-1505865600-1505951999@westhills-montessori.com
SUMMARY:Vermont Street Individual & Class Photos
DESCRIPTION:Maple\, Fig and Willow
URL:https://westhills-montessori.com/cal-event/vermont-street-individual-class-photos-2/
LOCATION:Vermont Street Campus\, 4920 SW Vermont Street\, Portland\, 97219
CATEGORIES:Vermont Street
END:VEVENT
BEGIN:VEVENT
DTSTART;TZID=America/Los_Angeles:20170919T154500
DTEND;TZID=America/Los_Angeles:20170919T164500
DTSTAMP:20260423T003803
CREATED:20170915T202058Z
LAST-MODIFIED:20170915T202058Z
UID:3724-1505835900-1505839500@westhills-montessori.com
SUMMARY:Fall Festival Volunteer Meeting
DESCRIPTION:
URL:https://westhills-montessori.com/cal-event/fall-festival-volunteer-meeting/
LOCATION:Cedar Room
CATEGORIES:Vermont Street
END:VEVENT
BEGIN:VEVENT
DTSTART;VALUE=DATE:20170919
DTEND;VALUE=DATE:20170920
DTSTAMP:20260423T003803
CREATED:20170915T201940Z
LAST-MODIFIED:20170915T202335Z
UID:3721-1505779200-1505865599@westhills-montessori.com
SUMMARY:Vermont Street Individual & Class Photos
DESCRIPTION:Redwood\, Cedar\, Sunflower and Butterfly
URL:https://westhills-montessori.com/cal-event/vermont-street-individual-class-photos/
LOCATION:Vermont Street Campus\, 4920 SW Vermont Street\, Portland\, 97219
CATEGORIES:Vermont Street
END:VEVENT
BEGIN:VEVENT
DTSTART;VALUE=DATE:20170907
DTEND;VALUE=DATE:20170908
DTSTAMP:20260423T003803
CREATED:20170907T181500Z
LAST-MODIFIED:20170907T181540Z
UID:3650-1504742400-1504828799@westhills-montessori.com
SUMMARY:Due to the air quality children at both campuses will stay indoors today\, Thursday\, September 7
DESCRIPTION:Due to the current air quality children at both campuses will stay indoors today\, Thursday\, September 7. \nWe will continue to monitor the AQI (Air Quality Index) for tomorrow.
URL:https://westhills-montessori.com/cal-event/children-campuses-will-stay-indoors-today-thursday-september-7/
CATEGORIES:Lake Oswego,Vermont Street
END:VEVENT
BEGIN:VEVENT
DTSTART;VALUE=DATE:20170906
DTEND;VALUE=DATE:20170907
DTSTAMP:20260423T003803
CREATED:20170906T211425Z
LAST-MODIFIED:20170906T211458Z
UID:3648-1504656000-1504742399@westhills-montessori.com
SUMMARY:Update: PM Care programs at both campuses will stay indoors today (Wednesday\, September 6)
DESCRIPTION:Update: \nOut of an abundance of caution we have made the decision to keep our PM Care programs indoors today at both campuses (Wednesday\, September 6). \nWe will continue to monitor the Air Quality Index for tomorrow.
URL:https://westhills-montessori.com/cal-event/update-pm-care-programs-campuses-will-stay-indoors-today-wednesday-september-6/
CATEGORIES:Lake Oswego,Vermont Street
END:VEVENT
BEGIN:VEVENT
DTSTART;VALUE=DATE:20170906
DTEND;VALUE=DATE:20170907
DTSTAMP:20260423T003803
CREATED:20170906T173821Z
LAST-MODIFIED:20170906T173848Z
UID:3646-1504656000-1504742399@westhills-montessori.com
SUMMARY:Mid-day recess will be held inside today at both campuses due to current air conditions (Wednesday\, September 6)
DESCRIPTION:Due to the current air quality our mid-day recess will be held inside today (Wednesday\, September 6) at both campuses. \nWe are going to monitor the AQI (Air Quality Index) throughout the day to determine the plan for our PM Care program later today.
URL:https://westhills-montessori.com/cal-event/mid-day-recess-will-held-inside-today-campuses-due-current-air-conditions-wednesday-september-6/
CATEGORIES:Lake Oswego,Vermont Street
END:VEVENT
BEGIN:VEVENT
DTSTART;TZID=America/Los_Angeles:20170813T110000
DTEND;TZID=America/Los_Angeles:20170813T130000
DTSTAMP:20260423T003803
CREATED:20170530T202100Z
LAST-MODIFIED:20170725T204907Z
UID:3496-1502622000-1502629200@westhills-montessori.com
SUMMARY:Upcoming Open House - SW Portland Campus!  Limited openings available for the 2017-2018 school year!
DESCRIPTION:We hope your family can join us at the Vermont Street Campus in SW Portland for an upcoming Open House! \nWe have limited 9:00-1:00 and 9:00-3:00 Primary Program availability at our Vermont Street campus for the 2017-2018 school year. \nTour our campus\, visit a classroom and meet our staff. Children are welcome! \nSunday\, August 13\n11:00am – 1:00pm\nVermont Street Campus (4920 SW Vermont St\, Pdx 97219)
URL:https://westhills-montessori.com/cal-event/upcoming-open-house-sw-portland-campus-limited-openings-available-2017-2018-school-year/
LOCATION:Vermont Street Campus
CATEGORIES:New Parents
END:VEVENT
BEGIN:VEVENT
DTSTART;VALUE=DATE:20170609
DTEND;VALUE=DATE:20170610
DTSTAMP:20260423T003803
CREATED:20160831T220900Z
LAST-MODIFIED:20170228T170654Z
UID:2870-1496966400-1497052799@westhills-montessori.com
SUMMARY:Last Day of School for Students
DESCRIPTION:
URL:https://westhills-montessori.com/cal-event/last-day-school-students/
CATEGORIES:Lake Oswego,Vermont Street
END:VEVENT
BEGIN:VEVENT
DTSTART;TZID=America/Los_Angeles:20170601T163000
DTEND;TZID=America/Los_Angeles:20170601T171500
DTSTAMP:20260423T003803
CREATED:20170322T181228Z
LAST-MODIFIED:20170322T181545Z
UID:3438-1496334600-1496337300@westhills-montessori.com
SUMMARY:Primary Drama with Liz-Late Class Performance!
DESCRIPTION:Primary Drama performance in the Maple Room for the families of children enrolled in the drama program.
URL:https://westhills-montessori.com/cal-event/primary-drama-9-copy-copy-4/
LOCATION:Vermont Street Campus\, 4920 SW Vermont Street\, Portland\, 97219
CATEGORIES:Vermont Street
END:VEVENT
BEGIN:VEVENT
DTSTART;TZID=America/Los_Angeles:20170601T153000
DTEND;TZID=America/Los_Angeles:20170601T163000
DTSTAMP:20260423T003803
CREATED:20170322T181319Z
LAST-MODIFIED:20170322T181509Z
UID:3444-1496331000-1496334600@westhills-montessori.com
SUMMARY:Primary Drama with Liz-Late Class
DESCRIPTION:
URL:https://westhills-montessori.com/cal-event/primary-drama-liz-early-class-copy-copy-copy-copy-copy-copy-copy-copy/
LOCATION:Vermont Street Campus\, 4920 SW Vermont Street\, Portland\, 97219
CATEGORIES:Vermont Street
END:VEVENT
BEGIN:VEVENT
DTSTART;TZID=America/Los_Angeles:20170601T153000
DTEND;TZID=America/Los_Angeles:20170601T160500
DTSTAMP:20260423T003803
CREATED:20170322T183601Z
LAST-MODIFIED:20170322T185057Z
UID:3456-1496331000-1496333100@westhills-montessori.com
SUMMARY:Soccer Shots-Vermont Street
DESCRIPTION:
URL:https://westhills-montessori.com/cal-event/soccer-shots-vermont-street-copy-copy-copy/
CATEGORIES:Vermont Street
END:VEVENT
BEGIN:VEVENT
DTSTART;TZID=America/Los_Angeles:20170531T153000
DTEND;TZID=America/Los_Angeles:20170531T170000
DTSTAMP:20260423T003803
CREATED:20160922T180819Z
LAST-MODIFIED:20170322T182831Z
UID:3012-1496244600-1496250000@westhills-montessori.com
SUMMARY:Elementary PlayWell Engineering Class
DESCRIPTION:Lego Engineering Class for pre-registered Elementary students.
URL:https://westhills-montessori.com/cal-event/elementary-playwell-engineering-class-copy-copy-copy-copy-copy-copy/
LOCATION:Vermont Street Campus\, 4920 SW Vermont Street\, Portland\, 97219
CATEGORIES:Vermont Street
END:VEVENT
BEGIN:VEVENT
DTSTART;TZID=America/Los_Angeles:20170531T153000
DTEND;TZID=America/Los_Angeles:20170531T160500
DTSTAMP:20260423T003803
CREATED:20170322T183553Z
LAST-MODIFIED:20170322T185018Z
UID:3454-1496244600-1496246700@westhills-montessori.com
SUMMARY:Soccer Shots-Vermont Street
DESCRIPTION:
URL:https://westhills-montessori.com/cal-event/soccer-shots-vermont-street-copy/
CATEGORIES:Vermont Street
END:VEVENT
BEGIN:VEVENT
DTSTART;TZID=America/Los_Angeles:20170530T163000
DTEND;TZID=America/Los_Angeles:20170530T171500
DTSTAMP:20260423T003803
CREATED:20160919T185425Z
LAST-MODIFIED:20170322T180947Z
UID:2874-1496161800-1496164500@westhills-montessori.com
SUMMARY:Primary Drama with Liz-Early Class Performance!
DESCRIPTION:Primary Drama performance in the Maple Room for the families of children enrolled in the drama program.
URL:https://westhills-montessori.com/cal-event/primary-drama-9-copy/
LOCATION:Vermont Street Campus\, 4920 SW Vermont Street\, Portland\, 97219
CATEGORIES:Vermont Street
END:VEVENT
BEGIN:VEVENT
DTSTART;TZID=America/Los_Angeles:20170530T153000
DTEND;TZID=America/Los_Angeles:20170530T163000
DTSTAMP:20260423T003803
CREATED:20170322T181011Z
LAST-MODIFIED:20170322T181030Z
UID:3432-1496158200-1496161800@westhills-montessori.com
SUMMARY:Primary Drama with Liz-Early Class
DESCRIPTION:
URL:https://westhills-montessori.com/cal-event/primary-drama-liz-early-class-copy-copy/
LOCATION:Vermont Street Campus\, 4920 SW Vermont Street\, Portland\, 97219
CATEGORIES:Vermont Street
END:VEVENT
BEGIN:VEVENT
DTSTART;VALUE=DATE:20170529
DTEND;VALUE=DATE:20170530
DTSTAMP:20260423T003803
CREATED:20160831T220130Z
LAST-MODIFIED:20160831T220147Z
UID:2868-1496016000-1496102399@westhills-montessori.com
SUMMARY:Memorial Day/SCHOOL CLOSED
DESCRIPTION:
URL:https://westhills-montessori.com/cal-event/memorial-dayschool-closed-2/
CATEGORIES:Lake Oswego,Vermont Street
END:VEVENT
BEGIN:VEVENT
DTSTART;TZID=America/Los_Angeles:20170525T153000
DTEND;TZID=America/Los_Angeles:20170525T160500
DTSTAMP:20260423T003803
CREATED:20170322T183659Z
LAST-MODIFIED:20170322T184844Z
UID:3465-1495726200-1495728300@westhills-montessori.com
SUMMARY:Soccer Shots-Vermont Street
DESCRIPTION:
URL:https://westhills-montessori.com/cal-event/soccer-shots-vermont-street-copy-copy-copy-copy-copy-copy-copy-copy-copy-copy-copy-copy/
CATEGORIES:Vermont Street
END:VEVENT
BEGIN:VEVENT
DTSTART;TZID=America/Los_Angeles:20170524T153000
DTEND;TZID=America/Los_Angeles:20170524T170000
DTSTAMP:20260423T003803
CREATED:20160922T180815Z
LAST-MODIFIED:20170322T182758Z
UID:3011-1495639800-1495645200@westhills-montessori.com
SUMMARY:Elementary PlayWell Engineering Class
DESCRIPTION:Lego Engineering Class for pre-registered Elementary students.
URL:https://westhills-montessori.com/cal-event/elementary-playwell-engineering-class-copy-copy-copy-copy-copy/
LOCATION:Vermont Street Campus\, 4920 SW Vermont Street\, Portland\, 97219
CATEGORIES:Vermont Street
END:VEVENT
BEGIN:VEVENT
DTSTART;TZID=America/Los_Angeles:20170524T153000
DTEND;TZID=America/Los_Angeles:20170524T160500
DTSTAMP:20260423T003803
CREATED:20170322T183607Z
LAST-MODIFIED:20170322T184647Z
UID:3457-1495639800-1495641900@westhills-montessori.com
SUMMARY:Soccer Shots-Vermont Street
DESCRIPTION:
URL:https://westhills-montessori.com/cal-event/soccer-shots-vermont-street-copy-copy-copy-copy/
CATEGORIES:Vermont Street
END:VEVENT
BEGIN:VEVENT
DTSTART;TZID=America/Los_Angeles:20170523T163000
DTEND;TZID=America/Los_Angeles:20170523T173000
DTSTAMP:20260423T003803
CREATED:20170322T181057Z
LAST-MODIFIED:20170322T181204Z
UID:3434-1495557000-1495560600@westhills-montessori.com
SUMMARY:Primary Drama with Liz-Late Class
DESCRIPTION:
URL:https://westhills-montessori.com/cal-event/primary-drama-liz-early-class-copy-copy-2/
LOCATION:Vermont Street Campus\, 4920 SW Vermont Street\, Portland\, 97219
CATEGORIES:Vermont Street
END:VEVENT
BEGIN:VEVENT
DTSTART;TZID=America/Los_Angeles:20170523T153000
DTEND;TZID=America/Los_Angeles:20170523T163000
DTSTAMP:20260423T003803
CREATED:20170322T180409Z
LAST-MODIFIED:20170322T180845Z
UID:3419-1495553400-1495557000@westhills-montessori.com
SUMMARY:Primary Drama with Liz-Early Class
DESCRIPTION:
URL:https://westhills-montessori.com/cal-event/primary-drama-liz-early-class-copy/
LOCATION:Vermont Street Campus\, 4920 SW Vermont Street\, Portland\, 97219
CATEGORIES:Vermont Street
END:VEVENT
BEGIN:VEVENT
DTSTART;TZID=America/Los_Angeles:20170518T153000
DTEND;TZID=America/Los_Angeles:20170518T160500
DTSTAMP:20260423T003803
CREATED:20170322T183612Z
LAST-MODIFIED:20170322T184724Z
UID:3458-1495121400-1495123500@westhills-montessori.com
SUMMARY:Soccer Shots-Vermont Street
DESCRIPTION:
URL:https://westhills-montessori.com/cal-event/soccer-shots-vermont-street-copy-copy-copy-copy-copy/
CATEGORIES:Vermont Street
END:VEVENT
BEGIN:VEVENT
DTSTART;TZID=America/Los_Angeles:20170517T153000
DTEND;TZID=America/Los_Angeles:20170517T170000
DTSTAMP:20260423T003803
CREATED:20160922T180746Z
LAST-MODIFIED:20170322T182720Z
UID:3007-1495035000-1495040400@westhills-montessori.com
SUMMARY:Elementary PlayWell Engineering Class
DESCRIPTION:Lego Engineering Class for pre-registered Elementary students.
URL:https://westhills-montessori.com/cal-event/elementary-playwell-engineering-class-copy/
LOCATION:Vermont Street Campus\, 4920 SW Vermont Street\, Portland\, 97219
CATEGORIES:Vermont Street
END:VEVENT
BEGIN:VEVENT
DTSTART;TZID=America/Los_Angeles:20170517T153000
DTEND;TZID=America/Los_Angeles:20170517T160500
DTSTAMP:20260423T003803
CREATED:20170322T183616Z
LAST-MODIFIED:20170322T184730Z
UID:3459-1495035000-1495037100@westhills-montessori.com
SUMMARY:Soccer Shots-Vermont Street
DESCRIPTION:
URL:https://westhills-montessori.com/cal-event/soccer-shots-vermont-street-copy-copy-copy-copy-copy-copy/
CATEGORIES:Vermont Street
END:VEVENT
BEGIN:VEVENT
DTSTART;TZID=America/Los_Angeles:20170517T080000
DTEND;TZID=America/Los_Angeles:20170517T170000
DTSTAMP:20260423T003803
CREATED:20160922T171951Z
LAST-MODIFIED:20160922T171951Z
UID:2947-1495008000-1495040400@westhills-montessori.com
SUMMARY:Primary Spanish
DESCRIPTION:Primary Spanish for pre-enrolled students. Class will be held in the Sunflower Room.
URL:https://westhills-montessori.com/cal-event/primary-spanish/
LOCATION:Vermont Street Campus\, 4920 SW Vermont Street\, Portland\, 97219
CATEGORIES:Vermont Street
END:VEVENT
BEGIN:VEVENT
DTSTART;TZID=America/Los_Angeles:20170516T163000
DTEND;TZID=America/Los_Angeles:20170516T173000
DTSTAMP:20260423T003803
CREATED:20170322T181106Z
LAST-MODIFIED:20170322T181132Z
UID:3435-1494952200-1494955800@westhills-montessori.com
SUMMARY:Primary Drama with Liz-Late Class
DESCRIPTION:
URL:https://westhills-montessori.com/cal-event/primary-drama-liz-early-class-copy-2-copy/
LOCATION:Vermont Street Campus\, 4920 SW Vermont Street\, Portland\, 97219
CATEGORIES:Vermont Street
END:VEVENT
BEGIN:VEVENT
DTSTART;TZID=America/Los_Angeles:20170516T153000
DTEND;TZID=America/Los_Angeles:20170516T163000
DTSTAMP:20260423T003803
CREATED:20170322T180420Z
LAST-MODIFIED:20170322T180811Z
UID:3420-1494948600-1494952200@westhills-montessori.com
SUMMARY:Primary Drama with Liz-Early Class
DESCRIPTION:
URL:https://westhills-montessori.com/cal-event/primary-drama-liz-early-class-copy-2/
LOCATION:Vermont Street Campus\, 4920 SW Vermont Street\, Portland\, 97219
CATEGORIES:Vermont Street
END:VEVENT
END:VCALENDAR