BEGIN:VCALENDAR
VERSION:2.0
PRODID:-//West Hills Montessori School - ECPv6.15.20//NONSGML v1.0//EN
CALSCALE:GREGORIAN
METHOD:PUBLISH
X-WR-CALNAME:West Hills Montessori School
X-ORIGINAL-URL:https://westhills-montessori.com
X-WR-CALDESC:Events for West Hills Montessori School
REFRESH-INTERVAL;VALUE=DURATION:PT1H
X-Robots-Tag:noindex
X-PUBLISHED-TTL:PT1H
BEGIN:VTIMEZONE
TZID:America/Los_Angeles
BEGIN:DAYLIGHT
TZOFFSETFROM:-0800
TZOFFSETTO:-0700
TZNAME:PDT
DTSTART:20160313T100000
END:DAYLIGHT
BEGIN:STANDARD
TZOFFSETFROM:-0700
TZOFFSETTO:-0800
TZNAME:PST
DTSTART:20161106T090000
END:STANDARD
BEGIN:DAYLIGHT
TZOFFSETFROM:-0800
TZOFFSETTO:-0700
TZNAME:PDT
DTSTART:20170312T100000
END:DAYLIGHT
BEGIN:STANDARD
TZOFFSETFROM:-0700
TZOFFSETTO:-0800
TZNAME:PST
DTSTART:20171105T090000
END:STANDARD
BEGIN:DAYLIGHT
TZOFFSETFROM:-0800
TZOFFSETTO:-0700
TZNAME:PDT
DTSTART:20180311T100000
END:DAYLIGHT
BEGIN:STANDARD
TZOFFSETFROM:-0700
TZOFFSETTO:-0800
TZNAME:PST
DTSTART:20181104T090000
END:STANDARD
END:VTIMEZONE
BEGIN:VEVENT
DTSTART;VALUE=DATE:20170428
DTEND;VALUE=DATE:20170429
DTSTAMP:20260423T141224
CREATED:20170323T224929Z
LAST-MODIFIED:20170323T224949Z
UID:3494-1493337600-1493423999@westhills-montessori.com
SUMMARY:Creative Movement for the Primary Classes at Vermont Street!
DESCRIPTION:Please help your child choose safe and appropriate shoes for their time with Jumpin’ Joan
URL:https://westhills-montessori.com/cal-event/creative-movement-primary-classes-vermont-street-copy-copy/
LOCATION:Vermont Street Campus\, 4920 SW Vermont Street\, Portland\, 97219
CATEGORIES:Vermont Street
END:VEVENT
BEGIN:VEVENT
DTSTART;TZID=America/Los_Angeles:20170427T153000
DTEND;TZID=America/Los_Angeles:20170427T160500
DTSTAMP:20260423T141224
CREATED:20170322T183652Z
LAST-MODIFIED:20170322T184807Z
UID:3464-1493307000-1493309100@westhills-montessori.com
SUMMARY:Soccer Shots-Vermont Street
DESCRIPTION:
URL:https://westhills-montessori.com/cal-event/soccer-shots-vermont-street-copy-copy-copy-copy-copy-copy-copy-copy-copy-copy-copy/
CATEGORIES:Vermont Street
END:VEVENT
BEGIN:VEVENT
DTSTART;TZID=America/Los_Angeles:20170426T153000
DTEND;TZID=America/Los_Angeles:20170426T170000
DTSTAMP:20260423T141224
CREATED:20160922T180752Z
LAST-MODIFIED:20170322T182402Z
UID:3008-1493220600-1493226000@westhills-montessori.com
SUMMARY:Elementary PlayWell Engineering Class
DESCRIPTION:Lego Engineering Class for pre-registered Elementary students.
URL:https://westhills-montessori.com/cal-event/elementary-playwell-engineering-class-copy-copy/
LOCATION:Vermont Street Campus\, 4920 SW Vermont Street\, Portland\, 97219
CATEGORIES:Vermont Street
END:VEVENT
BEGIN:VEVENT
DTSTART;TZID=America/Los_Angeles:20170426T153000
DTEND;TZID=America/Los_Angeles:20170426T161500
DTSTAMP:20260423T141224
CREATED:20160922T172547Z
LAST-MODIFIED:20160922T175221Z
UID:2951-1493220600-1493223300@westhills-montessori.com
SUMMARY:Primary Spanish
DESCRIPTION:Primary Spanish for pre-enrolled students. Class will be held in the Sunflower Room.
URL:https://westhills-montessori.com/cal-event/primary-spanish-copy-copy-copy/
LOCATION:Vermont Street Campus\, 4920 SW Vermont Street\, Portland\, 97219
CATEGORIES:Vermont Street
END:VEVENT
BEGIN:VEVENT
DTSTART;TZID=America/Los_Angeles:20170426T153000
DTEND;TZID=America/Los_Angeles:20170426T160500
DTSTAMP:20260423T141224
CREATED:20170322T183708Z
LAST-MODIFIED:20170322T184813Z
UID:3466-1493220600-1493222700@westhills-montessori.com
SUMMARY:Soccer Shots-Vermont Street
DESCRIPTION:
URL:https://westhills-montessori.com/cal-event/soccer-shots-vermont-street-copy-copy-copy-copy-copy-copy-copy-copy-copy-copy-copy-copy-copy/
CATEGORIES:Vermont Street
END:VEVENT
BEGIN:VEVENT
DTSTART;TZID=America/Los_Angeles:20170425T163000
DTEND;TZID=America/Los_Angeles:20170425T173000
DTSTAMP:20260423T141224
CREATED:20170322T181258Z
LAST-MODIFIED:20170322T181748Z
UID:3441-1493137800-1493141400@westhills-montessori.com
SUMMARY:Primary Drama with Liz-Late Class
DESCRIPTION:
URL:https://westhills-montessori.com/cal-event/primary-drama-liz-early-class-copy-copy-copy-copy-copy/
LOCATION:Vermont Street Campus\, 4920 SW Vermont Street\, Portland\, 97219
CATEGORIES:Vermont Street
END:VEVENT
BEGIN:VEVENT
DTSTART;TZID=America/Los_Angeles:20170425T153000
DTEND;TZID=America/Los_Angeles:20170425T163000
DTSTAMP:20260423T141224
CREATED:20170322T180450Z
LAST-MODIFIED:20170322T180542Z
UID:3423-1493134200-1493137800@westhills-montessori.com
SUMMARY:Primary Drama with Liz-Early Class
DESCRIPTION:
URL:https://westhills-montessori.com/cal-event/primary-drama-liz-early-class-copy-3-copy-copy/
LOCATION:Vermont Street Campus\, 4920 SW Vermont Street\, Portland\, 97219
CATEGORIES:Vermont Street
END:VEVENT
BEGIN:VEVENT
DTSTART;VALUE=DATE:20170421
DTEND;VALUE=DATE:20170422
DTSTAMP:20260423T141224
CREATED:20170322T190121Z
LAST-MODIFIED:20170322T190121Z
UID:3490-1492732800-1492819199@westhills-montessori.com
SUMMARY:Earth Day Celebration for Vermont Street Students
DESCRIPTION:
URL:https://westhills-montessori.com/cal-event/earth-day-celebration-vermont-street-students/
END:VEVENT
BEGIN:VEVENT
DTSTART;TZID=America/Los_Angeles:20170420T153000
DTEND;TZID=America/Los_Angeles:20170420T160500
DTSTAMP:20260423T141224
CREATED:20170322T183715Z
LAST-MODIFIED:20170322T184922Z
UID:3467-1492702200-1492704300@westhills-montessori.com
SUMMARY:Soccer Shots-Vermont Street
DESCRIPTION:
URL:https://westhills-montessori.com/cal-event/soccer-shots-vermont-street-copy-copy-copy-copy-copy-copy-copy-copy-copy-copy-copy-copy-copy-copy/
CATEGORIES:Vermont Street
END:VEVENT
BEGIN:VEVENT
DTSTART;TZID=America/Los_Angeles:20170419T153000
DTEND;TZID=America/Los_Angeles:20170419T170000
DTSTAMP:20260423T141224
CREATED:20160922T180721Z
LAST-MODIFIED:20170322T182325Z
UID:3005-1492615800-1492621200@westhills-montessori.com
SUMMARY:Elementary PlayWell Engineering Class
DESCRIPTION:Lego Engineering Class for pre-registered Elementary students.
URL:https://westhills-montessori.com/cal-event/elementary-playwell-engineering-class/
LOCATION:Vermont Street Campus\, 4920 SW Vermont Street\, Portland\, 97219
CATEGORIES:Vermont Street
END:VEVENT
BEGIN:VEVENT
DTSTART;TZID=America/Los_Angeles:20170419T153000
DTEND;TZID=America/Los_Angeles:20170419T161500
DTSTAMP:20260423T141224
CREATED:20160922T172551Z
LAST-MODIFIED:20160922T175033Z
UID:2952-1492615800-1492618500@westhills-montessori.com
SUMMARY:Primary Spanish
DESCRIPTION:Primary Spanish for pre-enrolled students. Class will be held in the Sunflower Room.
URL:https://westhills-montessori.com/cal-event/primary-spanish-copy-copy-copy-copy/
LOCATION:Vermont Street Campus\, 4920 SW Vermont Street\, Portland\, 97219
CATEGORIES:Vermont Street
END:VEVENT
BEGIN:VEVENT
DTSTART;TZID=America/Los_Angeles:20170419T153000
DTEND;TZID=America/Los_Angeles:20170419T160500
DTSTAMP:20260423T141224
CREATED:20170322T183726Z
LAST-MODIFIED:20170322T184929Z
UID:3468-1492615800-1492617900@westhills-montessori.com
SUMMARY:Soccer Shots-Vermont Street
DESCRIPTION:
URL:https://westhills-montessori.com/cal-event/soccer-shots-vermont-street-copy-copy-copy-copy-copy-copy-copy-copy-copy-copy-copy-copy-copy-copy-copy/
CATEGORIES:Vermont Street
END:VEVENT
BEGIN:VEVENT
DTSTART;TZID=America/Los_Angeles:20170418T163000
DTEND;TZID=America/Los_Angeles:20170418T173000
DTSTAMP:20260423T141224
CREATED:20170322T181253Z
LAST-MODIFIED:20170322T181851Z
UID:3440-1492533000-1492536600@westhills-montessori.com
SUMMARY:Primary Drama with Liz-Late Class
DESCRIPTION:
URL:https://westhills-montessori.com/cal-event/primary-drama-liz-early-class-copy-copy-copy-copy/
LOCATION:Vermont Street Campus\, 4920 SW Vermont Street\, Portland\, 97219
CATEGORIES:Vermont Street
END:VEVENT
BEGIN:VEVENT
DTSTART;TZID=America/Los_Angeles:20170418T153000
DTEND;TZID=America/Los_Angeles:20170418T163000
DTSTAMP:20260423T141224
CREATED:20170322T180454Z
LAST-MODIFIED:20170322T180512Z
UID:3424-1492529400-1492533000@westhills-montessori.com
SUMMARY:Primary Drama with Liz-Early Class
DESCRIPTION:
URL:https://westhills-montessori.com/cal-event/primary-drama-liz-early-class-copy-3-copy-copy-copy/
LOCATION:Vermont Street Campus\, 4920 SW Vermont Street\, Portland\, 97219
CATEGORIES:Vermont Street
END:VEVENT
BEGIN:VEVENT
DTSTART;TZID=America/Los_Angeles:20170413T153000
DTEND;TZID=America/Los_Angeles:20170413T160500
DTSTAMP:20260423T141224
CREATED:20170322T183731Z
LAST-MODIFIED:20170322T184936Z
UID:3469-1492097400-1492099500@westhills-montessori.com
SUMMARY:Soccer Shots-Vermont Street
DESCRIPTION:
URL:https://westhills-montessori.com/cal-event/soccer-shots-vermont-street-copy-copy-copy-copy-copy-copy-copy-copy-copy-copy-copy-copy-copy-copy-copy-copy/
CATEGORIES:Vermont Street
END:VEVENT
BEGIN:VEVENT
DTSTART;TZID=America/Los_Angeles:20170412T153000
DTEND;TZID=America/Los_Angeles:20170412T161500
DTSTAMP:20260423T141224
CREATED:20160922T172559Z
LAST-MODIFIED:20160922T174952Z
UID:2953-1492011000-1492013700@westhills-montessori.com
SUMMARY:Primary Spanish
DESCRIPTION:Primary Spanish for pre-enrolled students. Class will be held in the Sunflower Room.
URL:https://westhills-montessori.com/cal-event/primary-spanish-copy-copy-copy-copy-copy/
LOCATION:Vermont Street Campus\, 4920 SW Vermont Street\, Portland\, 97219
CATEGORIES:Vermont Street
END:VEVENT
BEGIN:VEVENT
DTSTART;TZID=America/Los_Angeles:20170412T153000
DTEND;TZID=America/Los_Angeles:20170412T160500
DTSTAMP:20260423T141224
CREATED:20170322T183216Z
LAST-MODIFIED:20170322T184946Z
UID:3452-1492011000-1492013100@westhills-montessori.com
SUMMARY:Soccer Shots-Vermont Street
DESCRIPTION:
URL:https://westhills-montessori.com/cal-event/soccer-shots-vermont-street/
CATEGORIES:Vermont Street
END:VEVENT
BEGIN:VEVENT
DTSTART;VALUE=DATE:20170412
DTEND;VALUE=DATE:20170415
DTSTAMP:20260423T141224
CREATED:20170322T190007Z
LAST-MODIFIED:20170322T190007Z
UID:3488-1491955200-1492214399@westhills-montessori.com
SUMMARY:Elementary Classes at OMSI Camp
DESCRIPTION:
URL:https://westhills-montessori.com/cal-event/elementary-classes-omsi-camp/
LOCATION:Vermont Street Campus\, 4920 SW Vermont Street\, Portland\, 97219
CATEGORIES:Vermont Street
END:VEVENT
BEGIN:VEVENT
DTSTART;TZID=America/Los_Angeles:20170411T163000
DTEND;TZID=America/Los_Angeles:20170411T173000
DTSTAMP:20260423T141224
CREATED:20170322T181246Z
LAST-MODIFIED:20170322T181953Z
UID:3439-1491928200-1491931800@westhills-montessori.com
SUMMARY:Primary Drama with Liz-Late Class
DESCRIPTION:
URL:https://westhills-montessori.com/cal-event/primary-drama-liz-early-class-copy-copy-copy/
LOCATION:Vermont Street Campus\, 4920 SW Vermont Street\, Portland\, 97219
CATEGORIES:Vermont Street
END:VEVENT
BEGIN:VEVENT
DTSTART;TZID=America/Los_Angeles:20170411T153000
DTEND;TZID=America/Los_Angeles:20170411T163000
DTSTAMP:20260423T141224
CREATED:20170322T180259Z
LAST-MODIFIED:20170322T180259Z
UID:3417-1491924600-1491928200@westhills-montessori.com
SUMMARY:Primary Drama with Liz-Early Class
DESCRIPTION:
URL:https://westhills-montessori.com/cal-event/primary-drama-liz-early-class/
LOCATION:Vermont Street Campus\, 4920 SW Vermont Street\, Portland\, 97219
CATEGORIES:Vermont Street
END:VEVENT
BEGIN:VEVENT
DTSTART;VALUE=DATE:20170411
DTEND;VALUE=DATE:20170412
DTSTAMP:20260423T141224
CREATED:20170322T185929Z
LAST-MODIFIED:20170322T185929Z
UID:3486-1491868800-1491955199@westhills-montessori.com
SUMMARY:Class Pictures at Vermont Street Campus
DESCRIPTION:
URL:https://westhills-montessori.com/cal-event/class-pictures-vermont-street-campus/
LOCATION:Vermont Street Campus\, 4920 SW Vermont Street\, Portland\, 97219
CATEGORIES:Vermont Street
END:VEVENT
BEGIN:VEVENT
DTSTART;VALUE=DATE:20170407
DTEND;VALUE=DATE:20170408
DTSTAMP:20260423T141224
CREATED:20170110T165229Z
LAST-MODIFIED:20170322T190048Z
UID:3321-1491523200-1491609599@westhills-montessori.com
SUMMARY:Creative Movement for the Primary Classes at Vermont Street!
DESCRIPTION:Please help your child choose safe and appropriate shoes for their time with Jumpin’ Joan
URL:https://westhills-montessori.com/cal-event/creative-movement-primary-classes-vermont-street-copy/
LOCATION:Vermont Street Campus\, 4920 SW Vermont Street\, Portland\, 97219
CATEGORIES:Vermont Street
END:VEVENT
BEGIN:VEVENT
DTSTART;TZID=America/Los_Angeles:20170405T153000
DTEND;TZID=America/Los_Angeles:20170405T161500
DTSTAMP:20260423T141224
CREATED:20160922T172607Z
LAST-MODIFIED:20160922T174921Z
UID:2954-1491406200-1491408900@westhills-montessori.com
SUMMARY:Primary Spanish
DESCRIPTION:Primary Spanish for pre-enrolled students. Class will be held in the Sunflower Room.
URL:https://westhills-montessori.com/cal-event/primary-spanish-copy-copy-copy-copy-copy-2/
LOCATION:Vermont Street Campus\, 4920 SW Vermont Street\, Portland\, 97219
CATEGORIES:Vermont Street
END:VEVENT
BEGIN:VEVENT
DTSTART;VALUE=DATE:20170327
DTEND;VALUE=DATE:20170401
DTSTAMP:20260423T141224
CREATED:20160831T215950Z
LAST-MODIFIED:20160831T215950Z
UID:2864-1490572800-1491004799@westhills-montessori.com
SUMMARY:Spring Break/SCHOOL CLOSED
DESCRIPTION:
URL:https://westhills-montessori.com/cal-event/spring-breakschool-closed-4/
CATEGORIES:Lake Oswego,Vermont Street
END:VEVENT
BEGIN:VEVENT
DTSTART;TZID=America/Los_Angeles:20170323T163000
DTEND;TZID=America/Los_Angeles:20170323T171500
DTSTAMP:20260423T141224
CREATED:20170126T175703Z
LAST-MODIFIED:20170126T175832Z
UID:3363-1490286600-1490289300@westhills-montessori.com
SUMMARY:Elementary Drama Class Performance
DESCRIPTION:The performance will be held in the Maple Room. Family and friends are welcome!
URL:https://westhills-montessori.com/cal-event/elementary-drama-class-full-copy-copy-copy/
LOCATION:Vermont Street Campus\, 4920 SW Vermont Street\, Portland\, 97219
CATEGORIES:Vermont Street
END:VEVENT
BEGIN:VEVENT
DTSTART;TZID=America/Los_Angeles:20170323T153000
DTEND;TZID=America/Los_Angeles:20170323T163000
DTSTAMP:20260423T141224
CREATED:20170126T175624Z
LAST-MODIFIED:20170126T175655Z
UID:3361-1490283000-1490286600@westhills-montessori.com
SUMMARY:Elementary Drama Class (Full)
DESCRIPTION:Drama class with Liz Hayden for registered Elementary children! Class is held in the Butterfly Room.
URL:https://westhills-montessori.com/cal-event/elementary-drama-class-full-copy-copy/
LOCATION:Vermont Street Campus\, 4920 SW Vermont Street\, Portland\, 97219
CATEGORIES:Vermont Street
END:VEVENT
BEGIN:VEVENT
DTSTART;TZID=America/Los_Angeles:20170322T152500
DTEND;TZID=America/Los_Angeles:20170322T161500
DTSTAMP:20260423T141224
CREATED:20160922T172611Z
LAST-MODIFIED:20160922T174843Z
UID:2955-1490196300-1490199300@westhills-montessori.com
SUMMARY:Primary Spanish
DESCRIPTION:Primary Spanish for pre-enrolled students. Class will be held in the Sunflower Room.
URL:https://westhills-montessori.com/cal-event/primary-spanish-copy-copy-copy-copy-copy-copy/
LOCATION:Vermont Street Campus\, 4920 SW Vermont Street\, Portland\, 97219
CATEGORIES:Vermont Street
END:VEVENT
BEGIN:VEVENT
DTSTART;TZID=America/Los_Angeles:20170321T153000
DTEND;TZID=America/Los_Angeles:20170321T163000
DTSTAMP:20260423T141224
CREATED:20170126T180249Z
LAST-MODIFIED:20170126T181418Z
UID:3372-1490110200-1490113800@westhills-montessori.com
SUMMARY:Primary 3:30 Drama
DESCRIPTION:Primary Drama in the Butterfly Room for pre-registered children.
URL:https://westhills-montessori.com/cal-event/primary-drama-9-copy-copy-copy-2-copy-2-copy-2/
LOCATION:Vermont Street Campus\, 4920 SW Vermont Street\, Portland\, 97219
CATEGORIES:Vermont Street
END:VEVENT
BEGIN:VEVENT
DTSTART;TZID=America/Los_Angeles:20170320T163000
DTEND;TZID=America/Los_Angeles:20170320T171500
DTSTAMP:20260423T141224
CREATED:20170126T180030Z
LAST-MODIFIED:20170126T180051Z
UID:3367-1490027400-1490030100@westhills-montessori.com
SUMMARY:Primary Late Class Drama Performance
DESCRIPTION:Primary Drama performance in the Maple Room for families of children enrolled in the drama program.
URL:https://westhills-montessori.com/cal-event/primary-drama-9-copy-copy-3/
LOCATION:Vermont Street Campus\, 4920 SW Vermont Street\, Portland\, 97219
CATEGORIES:Vermont Street
END:VEVENT
BEGIN:VEVENT
DTSTART;TZID=America/Los_Angeles:20170320T153000
DTEND;TZID=America/Los_Angeles:20170320T163000
DTSTAMP:20260423T141224
CREATED:20170126T181547Z
LAST-MODIFIED:20170126T181938Z
UID:3386-1490023800-1490027400@westhills-montessori.com
SUMMARY:Primary Late Drama-Last Class
DESCRIPTION:Primary Late Drama-last class before the performance at 4:30. \n*Please note that there will be no class on 3/21.
URL:https://westhills-montessori.com/cal-event/primary-drama-9-copy-copy-3-copy/
LOCATION:Vermont Street Campus\, 4920 SW Vermont Street\, Portland\, 97219
CATEGORIES:Vermont Street
END:VEVENT
END:VCALENDAR