BEGIN:VCALENDAR
VERSION:2.0
PRODID:-//West Hills Montessori School - ECPv6.15.20//NONSGML v1.0//EN
CALSCALE:GREGORIAN
METHOD:PUBLISH
X-WR-CALNAME:West Hills Montessori School
X-ORIGINAL-URL:https://westhills-montessori.com
X-WR-CALDESC:Events for West Hills Montessori School
REFRESH-INTERVAL;VALUE=DURATION:PT1H
X-Robots-Tag:noindex
X-PUBLISHED-TTL:PT1H
BEGIN:VTIMEZONE
TZID:America/Los_Angeles
BEGIN:DAYLIGHT
TZOFFSETFROM:-0800
TZOFFSETTO:-0700
TZNAME:PDT
DTSTART:20160313T100000
END:DAYLIGHT
BEGIN:STANDARD
TZOFFSETFROM:-0700
TZOFFSETTO:-0800
TZNAME:PST
DTSTART:20161106T090000
END:STANDARD
BEGIN:DAYLIGHT
TZOFFSETFROM:-0800
TZOFFSETTO:-0700
TZNAME:PDT
DTSTART:20170312T100000
END:DAYLIGHT
BEGIN:STANDARD
TZOFFSETFROM:-0700
TZOFFSETTO:-0800
TZNAME:PST
DTSTART:20171105T090000
END:STANDARD
BEGIN:DAYLIGHT
TZOFFSETFROM:-0800
TZOFFSETTO:-0700
TZNAME:PDT
DTSTART:20180311T100000
END:DAYLIGHT
BEGIN:STANDARD
TZOFFSETFROM:-0700
TZOFFSETTO:-0800
TZNAME:PST
DTSTART:20181104T090000
END:STANDARD
END:VTIMEZONE
BEGIN:VEVENT
DTSTART;VALUE=DATE:20170411
DTEND;VALUE=DATE:20170412
DTSTAMP:20260423T130416
CREATED:20170322T185929Z
LAST-MODIFIED:20170322T185929Z
UID:3486-1491868800-1491955199@westhills-montessori.com
SUMMARY:Class Pictures at Vermont Street Campus
DESCRIPTION:
URL:https://westhills-montessori.com/cal-event/class-pictures-vermont-street-campus/
LOCATION:Vermont Street Campus\, 4920 SW Vermont Street\, Portland\, 97219
CATEGORIES:Vermont Street
END:VEVENT
BEGIN:VEVENT
DTSTART;VALUE=DATE:20170407
DTEND;VALUE=DATE:20170408
DTSTAMP:20260423T130416
CREATED:20170110T165229Z
LAST-MODIFIED:20170322T190048Z
UID:3321-1491523200-1491609599@westhills-montessori.com
SUMMARY:Creative Movement for the Primary Classes at Vermont Street!
DESCRIPTION:Please help your child choose safe and appropriate shoes for their time with Jumpin’ Joan
URL:https://westhills-montessori.com/cal-event/creative-movement-primary-classes-vermont-street-copy/
LOCATION:Vermont Street Campus\, 4920 SW Vermont Street\, Portland\, 97219
CATEGORIES:Vermont Street
END:VEVENT
BEGIN:VEVENT
DTSTART;TZID=America/Los_Angeles:20170405T153000
DTEND;TZID=America/Los_Angeles:20170405T161500
DTSTAMP:20260423T130416
CREATED:20160922T172607Z
LAST-MODIFIED:20160922T174921Z
UID:2954-1491406200-1491408900@westhills-montessori.com
SUMMARY:Primary Spanish
DESCRIPTION:Primary Spanish for pre-enrolled students. Class will be held in the Sunflower Room.
URL:https://westhills-montessori.com/cal-event/primary-spanish-copy-copy-copy-copy-copy-2/
LOCATION:Vermont Street Campus\, 4920 SW Vermont Street\, Portland\, 97219
CATEGORIES:Vermont Street
END:VEVENT
BEGIN:VEVENT
DTSTART;VALUE=DATE:20170327
DTEND;VALUE=DATE:20170401
DTSTAMP:20260423T130416
CREATED:20160831T215950Z
LAST-MODIFIED:20160831T215950Z
UID:2864-1490572800-1491004799@westhills-montessori.com
SUMMARY:Spring Break/SCHOOL CLOSED
DESCRIPTION:
URL:https://westhills-montessori.com/cal-event/spring-breakschool-closed-4/
CATEGORIES:Lake Oswego,Vermont Street
END:VEVENT
BEGIN:VEVENT
DTSTART;TZID=America/Los_Angeles:20170323T163000
DTEND;TZID=America/Los_Angeles:20170323T171500
DTSTAMP:20260423T130416
CREATED:20170126T175703Z
LAST-MODIFIED:20170126T175832Z
UID:3363-1490286600-1490289300@westhills-montessori.com
SUMMARY:Elementary Drama Class Performance
DESCRIPTION:The performance will be held in the Maple Room. Family and friends are welcome!
URL:https://westhills-montessori.com/cal-event/elementary-drama-class-full-copy-copy-copy/
LOCATION:Vermont Street Campus\, 4920 SW Vermont Street\, Portland\, 97219
CATEGORIES:Vermont Street
END:VEVENT
BEGIN:VEVENT
DTSTART;TZID=America/Los_Angeles:20170323T153000
DTEND;TZID=America/Los_Angeles:20170323T163000
DTSTAMP:20260423T130416
CREATED:20170126T175624Z
LAST-MODIFIED:20170126T175655Z
UID:3361-1490283000-1490286600@westhills-montessori.com
SUMMARY:Elementary Drama Class (Full)
DESCRIPTION:Drama class with Liz Hayden for registered Elementary children! Class is held in the Butterfly Room.
URL:https://westhills-montessori.com/cal-event/elementary-drama-class-full-copy-copy/
LOCATION:Vermont Street Campus\, 4920 SW Vermont Street\, Portland\, 97219
CATEGORIES:Vermont Street
END:VEVENT
BEGIN:VEVENT
DTSTART;TZID=America/Los_Angeles:20170322T152500
DTEND;TZID=America/Los_Angeles:20170322T161500
DTSTAMP:20260423T130416
CREATED:20160922T172611Z
LAST-MODIFIED:20160922T174843Z
UID:2955-1490196300-1490199300@westhills-montessori.com
SUMMARY:Primary Spanish
DESCRIPTION:Primary Spanish for pre-enrolled students. Class will be held in the Sunflower Room.
URL:https://westhills-montessori.com/cal-event/primary-spanish-copy-copy-copy-copy-copy-copy/
LOCATION:Vermont Street Campus\, 4920 SW Vermont Street\, Portland\, 97219
CATEGORIES:Vermont Street
END:VEVENT
BEGIN:VEVENT
DTSTART;TZID=America/Los_Angeles:20170321T153000
DTEND;TZID=America/Los_Angeles:20170321T163000
DTSTAMP:20260423T130416
CREATED:20170126T180249Z
LAST-MODIFIED:20170126T181418Z
UID:3372-1490110200-1490113800@westhills-montessori.com
SUMMARY:Primary 3:30 Drama
DESCRIPTION:Primary Drama in the Butterfly Room for pre-registered children.
URL:https://westhills-montessori.com/cal-event/primary-drama-9-copy-copy-copy-2-copy-2-copy-2/
LOCATION:Vermont Street Campus\, 4920 SW Vermont Street\, Portland\, 97219
CATEGORIES:Vermont Street
END:VEVENT
BEGIN:VEVENT
DTSTART;TZID=America/Los_Angeles:20170320T163000
DTEND;TZID=America/Los_Angeles:20170320T171500
DTSTAMP:20260423T130416
CREATED:20170126T180030Z
LAST-MODIFIED:20170126T180051Z
UID:3367-1490027400-1490030100@westhills-montessori.com
SUMMARY:Primary Late Class Drama Performance
DESCRIPTION:Primary Drama performance in the Maple Room for families of children enrolled in the drama program.
URL:https://westhills-montessori.com/cal-event/primary-drama-9-copy-copy-3/
LOCATION:Vermont Street Campus\, 4920 SW Vermont Street\, Portland\, 97219
CATEGORIES:Vermont Street
END:VEVENT
BEGIN:VEVENT
DTSTART;TZID=America/Los_Angeles:20170320T153000
DTEND;TZID=America/Los_Angeles:20170320T163000
DTSTAMP:20260423T130416
CREATED:20170126T181547Z
LAST-MODIFIED:20170126T181938Z
UID:3386-1490023800-1490027400@westhills-montessori.com
SUMMARY:Primary Late Drama-Last Class
DESCRIPTION:Primary Late Drama-last class before the performance at 4:30. \n*Please note that there will be no class on 3/21.
URL:https://westhills-montessori.com/cal-event/primary-drama-9-copy-copy-3-copy/
LOCATION:Vermont Street Campus\, 4920 SW Vermont Street\, Portland\, 97219
CATEGORIES:Vermont Street
END:VEVENT
BEGIN:VEVENT
DTSTART;TZID=America/Los_Angeles:20170316T153000
DTEND;TZID=America/Los_Angeles:20170316T163000
DTSTAMP:20260423T130416
CREATED:20170126T173613Z
LAST-MODIFIED:20170126T175434Z
UID:3347-1489678200-1489681800@westhills-montessori.com
SUMMARY:Elementary Drama Class (Full)
DESCRIPTION:Drama class with Liz Hayden for registered Elementary children! Class is held in the Butterfly Room.
URL:https://westhills-montessori.com/cal-event/elementary-drama-class-full-copy/
LOCATION:Vermont Street Campus\, 4920 SW Vermont Street\, Portland\, 97219
CATEGORIES:Vermont Street
END:VEVENT
BEGIN:VEVENT
DTSTART;TZID=America/Los_Angeles:20170315T153000
DTEND;TZID=America/Los_Angeles:20170315T161500
DTSTAMP:20260423T130416
CREATED:20160922T172615Z
LAST-MODIFIED:20160922T174807Z
UID:2956-1489591800-1489594500@westhills-montessori.com
SUMMARY:Primary Spanish
DESCRIPTION:Primary Spanish for pre-enrolled students. Class will be held in the Sunflower Room.
URL:https://westhills-montessori.com/cal-event/primary-spanish-copy-copy-copy-copy-copy-2-copy/
LOCATION:Vermont Street Campus\, 4920 SW Vermont Street\, Portland\, 97219
CATEGORIES:Vermont Street
END:VEVENT
BEGIN:VEVENT
DTSTART;TZID=America/Los_Angeles:20170314T163000
DTEND;TZID=America/Los_Angeles:20170314T173000
DTSTAMP:20260423T130416
CREATED:20170126T181556Z
LAST-MODIFIED:20170126T182015Z
UID:3387-1489509000-1489512600@westhills-montessori.com
SUMMARY:Primary 4:30 Drama
DESCRIPTION:Primary Drama in the Butterfly Room for pre-registered children.
URL:https://westhills-montessori.com/cal-event/primary-drama-9-copy-copy-copy-2-copy-2-copy-copy/
LOCATION:Vermont Street Campus\, 4920 SW Vermont Street\, Portland\, 97219
CATEGORIES:Vermont Street
END:VEVENT
BEGIN:VEVENT
DTSTART;TZID=America/Los_Angeles:20170314T153000
DTEND;TZID=America/Los_Angeles:20170314T163000
DTSTAMP:20260423T130416
CREATED:20170126T180243Z
LAST-MODIFIED:20170126T181341Z
UID:3371-1489505400-1489509000@westhills-montessori.com
SUMMARY:Primary 3:30 Drama
DESCRIPTION:Primary Drama in the Butterfly Room for pre-registered children.
URL:https://westhills-montessori.com/cal-event/primary-drama-9-copy-copy-copy-2-copy-2-copy/
LOCATION:Vermont Street Campus\, 4920 SW Vermont Street\, Portland\, 97219
CATEGORIES:Vermont Street
END:VEVENT
BEGIN:VEVENT
DTSTART;TZID=America/Los_Angeles:20170312T110000
DTEND;TZID=America/Los_Angeles:20170312T130000
DTSTAMP:20260423T130416
CREATED:20161201T201206Z
LAST-MODIFIED:20161201T201206Z
UID:3279-1489316400-1489323600@westhills-montessori.com
SUMMARY:OPEN HOUSE!  Lake Oswego Campus
DESCRIPTION:We hope your family can join us at the Lake Oswego Campus for an upcoming Open House! \nTour our campus\, visit a classroom and meet our staff. Children are welcome! \nSunday\, March 12\n11:00am – 1:00pm\nLake Oswego Campus (4515 Parkview Dr\, Lake Oswego\, 97035)
URL:https://westhills-montessori.com/cal-event/open-house-lake-oswego-campus-2/
LOCATION:Lake Oswego Campus\, 4515 Parkview Dr\, Lake Oswego
CATEGORIES:Lake Oswego,New Parents
END:VEVENT
BEGIN:VEVENT
DTSTART;TZID=America/Los_Angeles:20170309T153000
DTEND;TZID=America/Los_Angeles:20170309T163000
DTSTAMP:20260423T130416
CREATED:20170126T173622Z
LAST-MODIFIED:20170126T175335Z
UID:3348-1489073400-1489077000@westhills-montessori.com
SUMMARY:Elementary Drama Class (Full)
DESCRIPTION:Drama class with Liz Hayden for registered Elementary children! Class is held in the Butterfly Room.
URL:https://westhills-montessori.com/cal-event/elementary-drama-class-full-copy-2/
LOCATION:Vermont Street Campus\, 4920 SW Vermont Street\, Portland\, 97219
CATEGORIES:Vermont Street
END:VEVENT
BEGIN:VEVENT
DTSTART;TZID=America/Los_Angeles:20170308T153000
DTEND;TZID=America/Los_Angeles:20170308T161500
DTSTAMP:20260423T130416
CREATED:20160922T172619Z
LAST-MODIFIED:20160922T174711Z
UID:2957-1488987000-1488989700@westhills-montessori.com
SUMMARY:Primary Spanish
DESCRIPTION:Primary Spanish for pre-enrolled students. Class will be held in the Sunflower Room.
URL:https://westhills-montessori.com/cal-event/primary-spanish-copy-copy-copy-copy-copy-copy-copy/
LOCATION:Vermont Street Campus\, 4920 SW Vermont Street\, Portland\, 97219
CATEGORIES:Vermont Street
END:VEVENT
BEGIN:VEVENT
DTSTART;TZID=America/Los_Angeles:20170307T163000
DTEND;TZID=America/Los_Angeles:20170307T173000
DTSTAMP:20260423T130416
CREATED:20170126T181603Z
LAST-MODIFIED:20170126T182050Z
UID:3388-1488904200-1488907800@westhills-montessori.com
SUMMARY:Primary 4:30 Drama
DESCRIPTION:Primary Drama in the Butterfly Room for pre-registered children.
URL:https://westhills-montessori.com/cal-event/primary-drama-9-copy-copy-copy-2-copy-2-copy-2-copy-copy-2/
LOCATION:Vermont Street Campus\, 4920 SW Vermont Street\, Portland\, 97219
CATEGORIES:Vermont Street
END:VEVENT
BEGIN:VEVENT
DTSTART;TZID=America/Los_Angeles:20170307T153000
DTEND;TZID=America/Los_Angeles:20170307T163000
DTSTAMP:20260423T130416
CREATED:20170126T180259Z
LAST-MODIFIED:20170126T181141Z
UID:3373-1488900600-1488904200@westhills-montessori.com
SUMMARY:Primary 3:30 Drama
DESCRIPTION:Primary Drama in the Butterfly Room for pre-registered children.
URL:https://westhills-montessori.com/cal-event/primary-drama-9-copy-copy-copy-2-copy-2-copy-2-copy/
LOCATION:Vermont Street Campus\, 4920 SW Vermont Street\, Portland\, 97219
CATEGORIES:Vermont Street
END:VEVENT
BEGIN:VEVENT
DTSTART;TZID=America/Los_Angeles:20170305T110000
DTEND;TZID=America/Los_Angeles:20170305T130000
DTSTAMP:20260423T130416
CREATED:20161201T201054Z
LAST-MODIFIED:20161201T201054Z
UID:3277-1488711600-1488718800@westhills-montessori.com
SUMMARY:OPEN HOUSE!  SW Pdx Campus
DESCRIPTION:We hope your family can join us at the Vermont Street Campus in SW Portland for an upcoming Open House! \nTour our campus\, visit a classroom and meet our staff. Children are welcome! \nSunday\, March 5\n11:00am – 1:00pm\nVermont Street Campus (4920 SW Vermont St\, Pdx 97219)
URL:https://westhills-montessori.com/cal-event/open-house-sw-pdx-campus/
LOCATION:Vermont Street Campus\, 4920 SW Vermont St\, Portland\, OR\, 97219\, United States
CATEGORIES:New Parents,Vermont Street
END:VEVENT
BEGIN:VEVENT
DTSTART;TZID=America/Los_Angeles:20170302T153000
DTEND;TZID=America/Los_Angeles:20170302T163000
DTSTAMP:20260423T130416
CREATED:20170126T173636Z
LAST-MODIFIED:20170126T175248Z
UID:3350-1488468600-1488472200@westhills-montessori.com
SUMMARY:Elementary Drama Class (Full)
DESCRIPTION:Drama class with Liz Hayden for registered Elementary children! Class is held in the Butterfly Room.
URL:https://westhills-montessori.com/cal-event/elementary-drama-class-full-copy-4/
LOCATION:Vermont Street Campus\, 4920 SW Vermont Street\, Portland\, 97219
CATEGORIES:Vermont Street
END:VEVENT
BEGIN:VEVENT
DTSTART;TZID=America/Los_Angeles:20170301T153000
DTEND;TZID=America/Los_Angeles:20170301T161500
DTSTAMP:20260423T130416
CREATED:20160922T172626Z
LAST-MODIFIED:20160922T174555Z
UID:2958-1488382200-1488384900@westhills-montessori.com
SUMMARY:Primary Spanish
DESCRIPTION:Primary Spanish for pre-enrolled students. Class will be held in the Sunflower Room.
URL:https://westhills-montessori.com/cal-event/primary-spanish-copy-copy-copy-copy-copy-copy-copy-copy/
LOCATION:Vermont Street Campus\, 4920 SW Vermont Street\, Portland\, 97219
CATEGORIES:Vermont Street
END:VEVENT
BEGIN:VEVENT
DTSTART;TZID=America/Los_Angeles:20170228T163000
DTEND;TZID=America/Los_Angeles:20170228T173000
DTSTAMP:20260423T130416
CREATED:20170126T181611Z
LAST-MODIFIED:20170126T182453Z
UID:3389-1488299400-1488303000@westhills-montessori.com
SUMMARY:Primary 4:30 Drama
DESCRIPTION:Primary Drama in the Butterfly Room for pre-registered children.
URL:https://westhills-montessori.com/cal-event/primary-drama-9-copy-copy-copy-2-copy-2-copy-2-copy-copy-copy-3/
LOCATION:Vermont Street Campus\, 4920 SW Vermont Street\, Portland\, 97219
CATEGORIES:Vermont Street
END:VEVENT
BEGIN:VEVENT
DTSTART;TZID=America/Los_Angeles:20170228T153000
DTEND;TZID=America/Los_Angeles:20170228T163000
DTSTAMP:20260423T130416
CREATED:20170126T180304Z
LAST-MODIFIED:20170126T181105Z
UID:3374-1488295800-1488299400@westhills-montessori.com
SUMMARY:Primary 3:30 Drama
DESCRIPTION:Primary Drama in the Butterfly Room for pre-registered children.
URL:https://westhills-montessori.com/cal-event/primary-drama-9-copy-copy-copy-2-copy-2-copy-2-copy-copy/
LOCATION:Vermont Street Campus\, 4920 SW Vermont Street\, Portland\, 97219
CATEGORIES:Vermont Street
END:VEVENT
BEGIN:VEVENT
DTSTART;VALUE=DATE:20170227
DTEND;VALUE=DATE:20170228
DTSTAMP:20260423T130416
CREATED:20160831T205542Z
LAST-MODIFIED:20160831T205930Z
UID:2840-1488153600-1488239999@westhills-montessori.com
SUMMARY:Parent/Teacher Conferences-No Classes
DESCRIPTION:Daycare available for pre-registered families.
URL:https://westhills-montessori.com/cal-event/parentteacher-conferences-no-classes-copy-2/
CATEGORIES:Lake Oswego,Vermont Street
END:VEVENT
BEGIN:VEVENT
DTSTART;VALUE=DATE:20170224
DTEND;VALUE=DATE:20170225
DTSTAMP:20260423T130416
CREATED:20160923T174506Z
LAST-MODIFIED:20160923T175219Z
UID:3107-1487894400-1487980799@westhills-montessori.com
SUMMARY:No Elementary Ukulele-Parent/Teacher Conferences
DESCRIPTION:Elementary Ukulele Class for pre-registered students. Class will be held in the Butterfly Room.
URL:https://westhills-montessori.com/cal-event/elementary-ukulele-copy-copy-2-copy/
LOCATION:Vermont Street Campus\, 4920 SW Vermont Street\, Portland\, 97219
CATEGORIES:Vermont Street
END:VEVENT
BEGIN:VEVENT
DTSTART;VALUE=DATE:20170224
DTEND;VALUE=DATE:20170225
DTSTAMP:20260423T130416
CREATED:20160831T205549Z
LAST-MODIFIED:20160831T205824Z
UID:2841-1487894400-1487980799@westhills-montessori.com
SUMMARY:Parent/Teacher Conferences-No Classes
DESCRIPTION:Daycare available for pre-registered families.
URL:https://westhills-montessori.com/cal-event/parentteacher-conferences-no-classes-copy-3/
CATEGORIES:Lake Oswego,Vermont Street
END:VEVENT
BEGIN:VEVENT
DTSTART;TZID=America/Los_Angeles:20170223T183000
DTEND;TZID=America/Los_Angeles:20170223T193000
DTSTAMP:20260423T130416
CREATED:20161201T194544Z
LAST-MODIFIED:20161201T195913Z
UID:3274-1487874600-1487878200@westhills-montessori.com
SUMMARY:Preschool: The Montessori Advantage (Prospective parent event\, SW Pdx Campus)
DESCRIPTION:Interested in learning more about our Montessori primary program for children ages 3-6? We hope you can join our staff for one of these informative and engaging parent education events. \n*Please note these are parent only events\n\nThursday\, February 23\, 6:30-7:30pm\, Vermont Street Campus
URL:https://westhills-montessori.com/cal-event/preschool-montessori-advantage-prospective-parent-event-sw-pdx-campus/
LOCATION:Vermont Street Campus\, 4920 SW Vermont St\, Portland\, OR\, 97219\, United States
CATEGORIES:New Parents,Vermont Street
END:VEVENT
BEGIN:VEVENT
DTSTART;TZID=America/Los_Angeles:20170223T153000
DTEND;TZID=America/Los_Angeles:20170223T163000
DTSTAMP:20260423T130416
CREATED:20170126T173628Z
LAST-MODIFIED:20170126T175126Z
UID:3349-1487863800-1487867400@westhills-montessori.com
SUMMARY:Elementary Drama Class (Full)
DESCRIPTION:Drama class with Liz Hayden for registered Elementary children! Class is held in the Butterfly Room.
URL:https://westhills-montessori.com/cal-event/elementary-drama-class-full-copy-3/
LOCATION:Vermont Street Campus\, 4920 SW Vermont Street\, Portland\, 97219
CATEGORIES:Vermont Street
END:VEVENT
BEGIN:VEVENT
DTSTART;TZID=America/Los_Angeles:20170223T100000
DTEND;TZID=America/Los_Angeles:20170223T110000
DTSTAMP:20260423T130416
CREATED:20170126T173053Z
LAST-MODIFIED:20170126T173135Z
UID:3343-1487844000-1487847600@westhills-montessori.com
SUMMARY:Fig Room Open House (Last Name M-Z)
DESCRIPTION:
URL:https://westhills-montessori.com/cal-event/fig-room-open-house-last-name-l-copy/
LOCATION:Vermont Street Campus\, 4920 SW Vermont Street\, Portland\, 97219
CATEGORIES:Vermont Street
END:VEVENT
END:VCALENDAR