BEGIN:VCALENDAR
VERSION:2.0
PRODID:-//West Hills Montessori School - ECPv6.15.20//NONSGML v1.0//EN
CALSCALE:GREGORIAN
METHOD:PUBLISH
X-WR-CALNAME:West Hills Montessori School
X-ORIGINAL-URL:https://westhills-montessori.com
X-WR-CALDESC:Events for West Hills Montessori School
REFRESH-INTERVAL;VALUE=DURATION:PT1H
X-Robots-Tag:noindex
X-PUBLISHED-TTL:PT1H
BEGIN:VTIMEZONE
TZID:America/Los_Angeles
BEGIN:DAYLIGHT
TZOFFSETFROM:-0800
TZOFFSETTO:-0700
TZNAME:PDT
DTSTART:20160313T100000
END:DAYLIGHT
BEGIN:STANDARD
TZOFFSETFROM:-0700
TZOFFSETTO:-0800
TZNAME:PST
DTSTART:20161106T090000
END:STANDARD
BEGIN:DAYLIGHT
TZOFFSETFROM:-0800
TZOFFSETTO:-0700
TZNAME:PDT
DTSTART:20170312T100000
END:DAYLIGHT
BEGIN:STANDARD
TZOFFSETFROM:-0700
TZOFFSETTO:-0800
TZNAME:PST
DTSTART:20171105T090000
END:STANDARD
BEGIN:DAYLIGHT
TZOFFSETFROM:-0800
TZOFFSETTO:-0700
TZNAME:PDT
DTSTART:20180311T100000
END:DAYLIGHT
BEGIN:STANDARD
TZOFFSETFROM:-0700
TZOFFSETTO:-0800
TZNAME:PST
DTSTART:20181104T090000
END:STANDARD
END:VTIMEZONE
BEGIN:VEVENT
DTSTART;TZID=America/Los_Angeles:20170223T100000
DTEND;TZID=America/Los_Angeles:20170223T110000
DTSTAMP:20260423T171929
CREATED:20170126T173053Z
LAST-MODIFIED:20170126T173135Z
UID:3343-1487844000-1487847600@westhills-montessori.com
SUMMARY:Fig Room Open House (Last Name M-Z)
DESCRIPTION:
URL:https://westhills-montessori.com/cal-event/fig-room-open-house-last-name-l-copy/
LOCATION:Vermont Street Campus\, 4920 SW Vermont Street\, Portland\, 97219
CATEGORIES:Vermont Street
END:VEVENT
BEGIN:VEVENT
DTSTART;TZID=America/Los_Angeles:20170222T183000
DTEND;TZID=America/Los_Angeles:20170222T193000
DTSTAMP:20260423T171929
CREATED:20161201T194446Z
LAST-MODIFIED:20161201T200035Z
UID:3272-1487788200-1487791800@westhills-montessori.com
SUMMARY:Preschool: The Montessori Advantage (Prospective parent event\, Lake Oswego campus)
DESCRIPTION:Interested in learning more about our Montessori primary program for children ages 3-6? We hope you can join our staff for one of these informative and engaging parent education events. \n*Please note these are parent only events\n\nWednesday\, February 22\, 6:30-7:30pm\, Lake Oswego Campus \n 
URL:https://westhills-montessori.com/cal-event/preschool-montessori-advantage-prospective-parent-event-lake-oswego-campus/
LOCATION:Lake Oswego Campus\, 4515 Parkview Dr\, Lake Oswego
CATEGORIES:Lake Oswego,New Parents
END:VEVENT
BEGIN:VEVENT
DTSTART;TZID=America/Los_Angeles:20170222T153000
DTEND;TZID=America/Los_Angeles:20170222T161500
DTSTAMP:20260423T171929
CREATED:20160922T172630Z
LAST-MODIFIED:20160922T174434Z
UID:2959-1487777400-1487780100@westhills-montessori.com
SUMMARY:Primary Spanish
DESCRIPTION:Primary Spanish for pre-enrolled students. Class will be held in the Sunflower Room.
URL:https://westhills-montessori.com/cal-event/primary-spanish-copy-copy-copy-copy-copy-copy-copy-copy-copy/
LOCATION:Vermont Street Campus\, 4920 SW Vermont Street\, Portland\, 97219
CATEGORIES:Vermont Street
END:VEVENT
BEGIN:VEVENT
DTSTART;TZID=America/Los_Angeles:20170222T100000
DTEND;TZID=America/Los_Angeles:20170222T110000
DTSTAMP:20260423T171929
CREATED:20170126T173047Z
LAST-MODIFIED:20170126T173047Z
UID:3341-1487757600-1487761200@westhills-montessori.com
SUMMARY:Fig Room Open House (Last Name A-L)
DESCRIPTION:
URL:https://westhills-montessori.com/cal-event/fig-room-open-house-last-name-l/
LOCATION:Vermont Street Campus\, 4920 SW Vermont Street\, Portland\, 97219
CATEGORIES:Vermont Street
END:VEVENT
BEGIN:VEVENT
DTSTART;TZID=America/Los_Angeles:20170221T163000
DTEND;TZID=America/Los_Angeles:20170221T173000
DTSTAMP:20260423T171929
CREATED:20170126T181618Z
LAST-MODIFIED:20170126T182546Z
UID:3390-1487694600-1487698200@westhills-montessori.com
SUMMARY:Primary 4:30 Drama
DESCRIPTION:Primary Drama in the Butterfly Room for pre-registered children.
URL:https://westhills-montessori.com/cal-event/primary-drama-9-copy-copy-copy-2-copy-2-copy-2-copy-copy-copy-copy/
LOCATION:Vermont Street Campus\, 4920 SW Vermont Street\, Portland\, 97219
CATEGORIES:Vermont Street
END:VEVENT
BEGIN:VEVENT
DTSTART;TZID=America/Los_Angeles:20170221T153000
DTEND;TZID=America/Los_Angeles:20170221T163000
DTSTAMP:20260423T171929
CREATED:20170126T180310Z
LAST-MODIFIED:20170126T181034Z
UID:3375-1487691000-1487694600@westhills-montessori.com
SUMMARY:Primary 3:30 Drama
DESCRIPTION:Primary Drama in the Butterfly Room for pre-registered children.
URL:https://westhills-montessori.com/cal-event/primary-drama-9-copy-copy-copy-2-copy-2-copy-2-copy-copy-copy/
LOCATION:Vermont Street Campus\, 4920 SW Vermont Street\, Portland\, 97219
CATEGORIES:Vermont Street
END:VEVENT
BEGIN:VEVENT
DTSTART;VALUE=DATE:20170220
DTEND;VALUE=DATE:20170221
DTSTAMP:20260423T171929
CREATED:20160831T215854Z
LAST-MODIFIED:20160831T215854Z
UID:2862-1487548800-1487635199@westhills-montessori.com
SUMMARY:President's Day/SCHOOL CLOSED
DESCRIPTION:
URL:https://westhills-montessori.com/cal-event/presidents-dayschool-closed-4/
CATEGORIES:Lake Oswego,Vermont Street
END:VEVENT
BEGIN:VEVENT
DTSTART;TZID=America/Los_Angeles:20170216T153000
DTEND;TZID=America/Los_Angeles:20170216T163000
DTSTAMP:20260423T171929
CREATED:20170126T173645Z
LAST-MODIFIED:20170126T175004Z
UID:3351-1487259000-1487262600@westhills-montessori.com
SUMMARY:Elementary Drama Class (Full)
DESCRIPTION:Drama class with Liz Hayden for registered Elementary children! Class is held in the Butterfly Room.
URL:https://westhills-montessori.com/cal-event/elementary-drama-class-full-copy-5/
LOCATION:Vermont Street Campus\, 4920 SW Vermont Street\, Portland\, 97219
CATEGORIES:Vermont Street
END:VEVENT
BEGIN:VEVENT
DTSTART;TZID=America/Los_Angeles:20170215T153000
DTEND;TZID=America/Los_Angeles:20170215T161500
DTSTAMP:20260423T171929
CREATED:20160922T172634Z
LAST-MODIFIED:20160922T174323Z
UID:2960-1487172600-1487175300@westhills-montessori.com
SUMMARY:Primary Spanish
DESCRIPTION:Primary Spanish for pre-enrolled students. Class will be held in the Sunflower Room.
URL:https://westhills-montessori.com/cal-event/primary-spanish-copy-copy-copy-copy-copy-copy-copy-copy-copy-2/
LOCATION:Vermont Street Campus\, 4920 SW Vermont Street\, Portland\, 97219
CATEGORIES:Vermont Street
END:VEVENT
BEGIN:VEVENT
DTSTART;TZID=America/Los_Angeles:20170214T163000
DTEND;TZID=America/Los_Angeles:20170214T173000
DTSTAMP:20260423T171929
CREATED:20170126T181625Z
LAST-MODIFIED:20170126T183121Z
UID:3391-1487089800-1487093400@westhills-montessori.com
SUMMARY:Primary 4:30 Drama
DESCRIPTION:Primary Drama in the Butterfly Room for pre-registered children.
URL:https://westhills-montessori.com/cal-event/primary-drama-9-copy-copy-copy-2-copy-2-copy-2-copy-copy-copy-2-copy-2/
LOCATION:Vermont Street Campus\, 4920 SW Vermont Street\, Portland\, 97219
CATEGORIES:Vermont Street
END:VEVENT
BEGIN:VEVENT
DTSTART;TZID=America/Los_Angeles:20170214T153000
DTEND;TZID=America/Los_Angeles:20170214T163000
DTSTAMP:20260423T171929
CREATED:20170126T180319Z
LAST-MODIFIED:20170126T180420Z
UID:3376-1487086200-1487089800@westhills-montessori.com
SUMMARY:Primary 3:30 Drama
DESCRIPTION:Primary Drama in the Butterfly Room for pre-registered children.
URL:https://westhills-montessori.com/cal-event/primary-drama-9-copy-copy-copy-2-copy-2-copy-2-copy-copy-copy-2/
LOCATION:Vermont Street Campus\, 4920 SW Vermont Street\, Portland\, 97219
CATEGORIES:Vermont Street
END:VEVENT
BEGIN:VEVENT
DTSTART;TZID=America/Los_Angeles:20170210T153000
DTEND;TZID=America/Los_Angeles:20170210T161500
DTSTAMP:20260423T171929
CREATED:20160923T172556Z
LAST-MODIFIED:20160923T173332Z
UID:3059-1486740600-1486743300@westhills-montessori.com
SUMMARY:Elementary Ukulele
DESCRIPTION:Elementary Ukulele Class for pre-registered students. Class will be held in the Butterfly Room.
URL:https://westhills-montessori.com/cal-event/elementary-ukulele-copy-copy-copy-copy-copy-copy-copy-copy-copy-copy-copy/
LOCATION:Vermont Street Campus\, 4920 SW Vermont Street\, Portland\, 97219
CATEGORIES:Vermont Street
END:VEVENT
BEGIN:VEVENT
DTSTART;TZID=America/Los_Angeles:20170209T153000
DTEND;TZID=America/Los_Angeles:20170209T163000
DTSTAMP:20260423T171929
CREATED:20170126T173653Z
LAST-MODIFIED:20170126T174557Z
UID:3352-1486654200-1486657800@westhills-montessori.com
SUMMARY:Elementary Drama Class (Full)
DESCRIPTION:Drama class with Liz Hayden for registered Elementary children! Class is held in the Butterfly Room.
URL:https://westhills-montessori.com/cal-event/elementary-drama-class-full-copy-6/
LOCATION:Vermont Street Campus\, 4920 SW Vermont Street\, Portland\, 97219
CATEGORIES:Vermont Street
END:VEVENT
BEGIN:VEVENT
DTSTART;TZID=America/Los_Angeles:20170208T153000
DTEND;TZID=America/Los_Angeles:20170208T161500
DTSTAMP:20260423T171929
CREATED:20160922T172638Z
LAST-MODIFIED:20160922T174248Z
UID:2961-1486567800-1486570500@westhills-montessori.com
SUMMARY:Primary Spanish
DESCRIPTION:Primary Spanish for pre-enrolled students. Class will be held in the Sunflower Room.
URL:https://westhills-montessori.com/cal-event/primary-spanish-copy-copy-copy-copy-copy-copy-copy-copy-copy-copy/
LOCATION:Vermont Street Campus\, 4920 SW Vermont Street\, Portland\, 97219
CATEGORIES:Vermont Street
END:VEVENT
BEGIN:VEVENT
DTSTART;TZID=America/Los_Angeles:20170207T163000
DTEND;TZID=America/Los_Angeles:20170207T173000
DTSTAMP:20260423T171929
CREATED:20170126T181634Z
LAST-MODIFIED:20170126T183203Z
UID:3392-1486485000-1486488600@westhills-montessori.com
SUMMARY:Primary 4:30 Drama
DESCRIPTION:Primary Drama in the Butterfly Room for pre-registered children.
URL:https://westhills-montessori.com/cal-event/primary-drama-9-copy-copy-copy-2-copy-2-copy-2-copy-copy-copy-2-copy-copy/
LOCATION:Vermont Street Campus\, 4920 SW Vermont Street\, Portland\, 97219
CATEGORIES:Vermont Street
END:VEVENT
BEGIN:VEVENT
DTSTART;TZID=America/Los_Angeles:20170207T153000
DTEND;TZID=America/Los_Angeles:20170207T163000
DTSTAMP:20260423T171929
CREATED:20170126T180331Z
LAST-MODIFIED:20170126T180352Z
UID:3377-1486481400-1486485000@westhills-montessori.com
SUMMARY:Primary 3:30 Drama
DESCRIPTION:Primary Drama in the Butterfly Room for pre-registered children.
URL:https://westhills-montessori.com/cal-event/primary-drama-9-copy-copy-copy-2-copy-2-copy-2-copy-copy-copy-2-copy/
LOCATION:Vermont Street Campus\, 4920 SW Vermont Street\, Portland\, 97219
CATEGORIES:Vermont Street
END:VEVENT
BEGIN:VEVENT
DTSTART;VALUE=DATE:20170203
DTEND;VALUE=DATE:20170204
DTSTAMP:20260423T171929
CREATED:20170203T140840Z
LAST-MODIFIED:20170203T161529Z
UID:3402-1486080000-1486166399@westhills-montessori.com
SUMMARY:UPDATE: Both campuses will be CLOSED on Friday\, February 3
DESCRIPTION:Update: BOTH campuses will be CLOSED on Friday\, February 3 \nThe road conditions around both of our campuses are a mix in terms of safe driving conditions. Because the safety of our families\, children and staff are our top priority we have made the decision to CLOSE both campuses today.
URL:https://westhills-montessori.com/cal-event/delayed-start-campuses-friday-february-3-open-1100am-watch-updates/
CATEGORIES:Lake Oswego,Vermont Street
END:VEVENT
BEGIN:VEVENT
DTSTART;TZID=America/Los_Angeles:20170202T153000
DTEND;TZID=America/Los_Angeles:20170202T163000
DTSTAMP:20260423T171929
CREATED:20170126T173700Z
LAST-MODIFIED:20170126T173746Z
UID:3353-1486049400-1486053000@westhills-montessori.com
SUMMARY:Elementary Drama Class (Full)
DESCRIPTION:Drama class with Liz Hayden for registered Elementary children! Class is held in the Butterfly Room.
URL:https://westhills-montessori.com/cal-event/elementary-drama-class-full-copy-7/
LOCATION:Vermont Street Campus\, 4920 SW Vermont Street\, Portland\, 97219
CATEGORIES:Vermont Street
END:VEVENT
BEGIN:VEVENT
DTSTART;TZID=America/Los_Angeles:20170201T153000
DTEND;TZID=America/Los_Angeles:20170201T161500
DTSTAMP:20260423T171929
CREATED:20160922T172642Z
LAST-MODIFIED:20160922T174215Z
UID:2962-1485963000-1485965700@westhills-montessori.com
SUMMARY:Primary Spanish
DESCRIPTION:Primary Spanish for pre-enrolled students. Class will be held in the Sunflower Room.
URL:https://westhills-montessori.com/cal-event/primary-spanish-copy-copy-copy-copy-copy-copy-copy-copy-copy-2-copy/
LOCATION:Vermont Street Campus\, 4920 SW Vermont Street\, Portland\, 97219
CATEGORIES:Vermont Street
END:VEVENT
BEGIN:VEVENT
DTSTART;TZID=America/Los_Angeles:20170131T163000
DTEND;TZID=America/Los_Angeles:20170131T173000
DTSTAMP:20260423T171929
CREATED:20170126T180232Z
LAST-MODIFIED:20170126T181516Z
UID:3370-1485880200-1485883800@westhills-montessori.com
SUMMARY:Primary 4:30 Drama
DESCRIPTION:Primary Drama in the Butterfly Room for pre-registered children.
URL:https://westhills-montessori.com/cal-event/primary-drama-9-copy-copy-copy-2-copy-2/
LOCATION:Vermont Street Campus\, 4920 SW Vermont Street\, Portland\, 97219
CATEGORIES:Vermont Street
END:VEVENT
BEGIN:VEVENT
DTSTART;TZID=America/Los_Angeles:20170131T153000
DTEND;TZID=America/Los_Angeles:20170131T163000
DTSTAMP:20260423T171929
CREATED:20160922T183504Z
LAST-MODIFIED:20170126T180144Z
UID:3025-1485876600-1485880200@westhills-montessori.com
SUMMARY:Primary 3:30 Drama
DESCRIPTION:Primary Drama in the Butterfly Room for pre-registered children.
URL:https://westhills-montessori.com/cal-event/primary-drama-9-copy-copy-copy-2/
LOCATION:Vermont Street Campus\, 4920 SW Vermont Street\, Portland\, 97219
CATEGORIES:Vermont Street
END:VEVENT
BEGIN:VEVENT
DTSTART;TZID=America/Los_Angeles:20170127T181500
DTEND;TZID=America/Los_Angeles:20170127T191500
DTSTAMP:20260423T171929
CREATED:20170103T201915Z
LAST-MODIFIED:20170118T002803Z
UID:3304-1485540900-1485544500@westhills-montessori.com
SUMMARY:Cedar Room Peace Celebration
DESCRIPTION:
URL:https://westhills-montessori.com/cal-event/cedar-room-peace-celebration/
LOCATION:Vermont Street Campus\, 4920 SW Vermont Street\, Portland\, 97219
CATEGORIES:Vermont Street
END:VEVENT
BEGIN:VEVENT
DTSTART;TZID=America/Los_Angeles:20170127T153000
DTEND;TZID=America/Los_Angeles:20170127T161500
DTSTAMP:20260423T171929
CREATED:20170118T195132Z
LAST-MODIFIED:20170118T195242Z
UID:3337-1485531000-1485533700@westhills-montessori.com
SUMMARY:Elementary Ukulele-Snow Day Make-Up Class
DESCRIPTION:Elementary Ukulele Class for pre-registered students. Class will be held in the Butterfly Room.
URL:https://westhills-montessori.com/cal-event/elementary-ukulele-copy-5/
LOCATION:Vermont Street Campus\, 4920 SW Vermont Street\, Portland\, 97219
CATEGORIES:Vermont Street
END:VEVENT
BEGIN:VEVENT
DTSTART;TZID=America/Los_Angeles:20170126T183000
DTEND;TZID=America/Los_Angeles:20170126T193000
DTSTAMP:20260423T171929
CREATED:20161201T194136Z
LAST-MODIFIED:20161201T194326Z
UID:3267-1485455400-1485459000@westhills-montessori.com
SUMMARY:Preschool: The Montessori Advantage (Prospective parent event\, Lake Oswego Campus)
DESCRIPTION:Interested in learning more about our Montessori primary program for children ages 3-6? We hope you can join our staff for one of these informative and engaging parent education events. \n*Please note these are parent only events\n\nThursday\, January 26\, 6:30-7:30pm\, Lake Oswego Campus
URL:https://westhills-montessori.com/cal-event/preschool-montessori-advantage-january-2017-event-prospective-parents-lake-oswego-campus/
CATEGORIES:Lake Oswego,New Parents
END:VEVENT
BEGIN:VEVENT
DTSTART;TZID=America/Los_Angeles:20170126T153000
DTEND;TZID=America/Los_Angeles:20170126T163000
DTSTAMP:20260423T171929
CREATED:20170126T173541Z
LAST-MODIFIED:20170126T173541Z
UID:3345-1485444600-1485448200@westhills-montessori.com
SUMMARY:Elementary Drama Class (Full)
DESCRIPTION:Drama class with Liz Hayden for registered Elementary children! Class is held in the Butterfly Room.
URL:https://westhills-montessori.com/cal-event/elementary-drama-class-full/
LOCATION:Vermont Street Campus\, 4920 SW Vermont Street\, Portland\, 97219
CATEGORIES:Vermont Street
END:VEVENT
BEGIN:VEVENT
DTSTART;TZID=America/Los_Angeles:20170126T153000
DTEND;TZID=America/Los_Angeles:20170126T163000
DTSTAMP:20260423T171929
CREATED:20170103T202822Z
LAST-MODIFIED:20170103T202822Z
UID:3310-1485444600-1485448200@westhills-montessori.com
SUMMARY:Elementary Materials Showcase for Prospective Families
DESCRIPTION:Please join our Elementary community for a materials showcase and learn about daily life in our Montessori Elementary classrooms.
URL:https://westhills-montessori.com/cal-event/elementary-materials-showcase-prospective-families/
LOCATION:Vermont Street Campus
CATEGORIES:Lake Oswego,New Parents,Vermont Street
END:VEVENT
BEGIN:VEVENT
DTSTART;TZID=America/Los_Angeles:20170125T183000
DTEND;TZID=America/Los_Angeles:20170125T193000
DTSTAMP:20260423T171929
CREATED:20170103T202210Z
LAST-MODIFIED:20170104T172920Z
UID:3308-1485369000-1485372600@westhills-montessori.com
SUMMARY:Preschool: The Montessori Advantage
DESCRIPTION:Hosted by Crystal Harris \nPresented by Delila Olsson\, Lydia Mirocha and Ashley Crawford
URL:https://westhills-montessori.com/cal-event/preschool-montessori-advantage-5/
LOCATION:Vermont Street Campus\, 4920 SW Vermont Street\, Portland\, 97219
CATEGORIES:Lake Oswego,New Parents,Vermont Street
END:VEVENT
BEGIN:VEVENT
DTSTART;TZID=America/Los_Angeles:20170125T183000
DTEND;TZID=America/Los_Angeles:20170125T193000
DTSTAMP:20260423T171929
CREATED:20161201T193954Z
LAST-MODIFIED:20161201T194254Z
UID:3265-1485369000-1485372600@westhills-montessori.com
SUMMARY:Preschool: The Montessori Advantage (Prospective parent event\, SW Pdx campus)
DESCRIPTION:Interested in learning more about our Montessori primary program for children ages 3-6? We hope you can join our staff for one of these informative and engaging parent education events. \n*Please note these are parent only events\n\nWednesday\, January 25\, 6:30-7:30pm\, Vermont Street Campus \n 
URL:https://westhills-montessori.com/cal-event/preschool-montessori-advantage-january-2017-event-prospective-parents/
LOCATION:Vermont Street Campus\, 4920 SW Vermont St\, Portland\, OR\, 97219\, United States
CATEGORIES:New Parents,Vermont Street
END:VEVENT
BEGIN:VEVENT
DTSTART;TZID=America/Los_Angeles:20170125T153000
DTEND;TZID=America/Los_Angeles:20170125T163000
DTSTAMP:20260423T171929
CREATED:20170105T173121Z
LAST-MODIFIED:20170105T173150Z
UID:3316-1485358200-1485361800@westhills-montessori.com
SUMMARY:Elementary Materials Showcase for Current Families
DESCRIPTION:Please join our Elementary community for a materials showcase and learn about daily life in our Montessori Elementary classrooms.
URL:https://westhills-montessori.com/cal-event/elementary-materials-showcase-prospective-families-copy/
LOCATION:Vermont Street Campus
CATEGORIES:Lake Oswego,New Parents,Vermont Street
END:VEVENT
BEGIN:VEVENT
DTSTART;TZID=America/Los_Angeles:20170125T153000
DTEND;TZID=America/Los_Angeles:20170125T161500
DTSTAMP:20260423T171929
CREATED:20160922T172645Z
LAST-MODIFIED:20160922T174139Z
UID:2963-1485358200-1485360900@westhills-montessori.com
SUMMARY:Primary Spanish
DESCRIPTION:Primary Spanish for pre-enrolled students. Class will be held in the Sunflower Room.
URL:https://westhills-montessori.com/cal-event/primary-spanish-copy-copy-copy-copy-copy-copy-copy-copy-copy-copy-copy/
LOCATION:Vermont Street Campus\, 4920 SW Vermont Street\, Portland\, 97219
CATEGORIES:Vermont Street
END:VEVENT
END:VCALENDAR