BEGIN:VCALENDAR
VERSION:2.0
PRODID:-//West Hills Montessori School - ECPv6.15.20//NONSGML v1.0//EN
CALSCALE:GREGORIAN
METHOD:PUBLISH
X-WR-CALNAME:West Hills Montessori School
X-ORIGINAL-URL:https://westhills-montessori.com
X-WR-CALDESC:Events for West Hills Montessori School
REFRESH-INTERVAL;VALUE=DURATION:PT1H
X-Robots-Tag:noindex
X-PUBLISHED-TTL:PT1H
BEGIN:VTIMEZONE
TZID:America/Los_Angeles
BEGIN:DAYLIGHT
TZOFFSETFROM:-0800
TZOFFSETTO:-0700
TZNAME:PDT
DTSTART:20150308T100000
END:DAYLIGHT
BEGIN:STANDARD
TZOFFSETFROM:-0700
TZOFFSETTO:-0800
TZNAME:PST
DTSTART:20151101T090000
END:STANDARD
BEGIN:DAYLIGHT
TZOFFSETFROM:-0800
TZOFFSETTO:-0700
TZNAME:PDT
DTSTART:20160313T100000
END:DAYLIGHT
BEGIN:STANDARD
TZOFFSETFROM:-0700
TZOFFSETTO:-0800
TZNAME:PST
DTSTART:20161106T090000
END:STANDARD
BEGIN:DAYLIGHT
TZOFFSETFROM:-0800
TZOFFSETTO:-0700
TZNAME:PDT
DTSTART:20170312T100000
END:DAYLIGHT
BEGIN:STANDARD
TZOFFSETFROM:-0700
TZOFFSETTO:-0800
TZNAME:PST
DTSTART:20171105T090000
END:STANDARD
END:VTIMEZONE
BEGIN:VEVENT
DTSTART;TZID=America/Los_Angeles:20161116T180000
DTEND;TZID=America/Los_Angeles:20161116T193000
DTSTAMP:20260424T090108
CREATED:20151105T182431Z
LAST-MODIFIED:20161108T181441Z
UID:2497-1479319200-1479324600@westhills-montessori.com
SUMMARY:Elementary Curriculum Night: Biology and Geography
DESCRIPTION:Come join Ashley and Kelly as they take you on a journey through the Biology and Geography curriculum covered by the elementary children! It will be a chance to meet with other elementary families\, receive lessons\, and have fun. Hope you can come! Please note\, this is an adult event only.
URL:https://westhills-montessori.com/cal-event/elementary-curriculum-night-lets-talk-about-math/
LOCATION:Vermont Street Campus\, 4920 SW Vermont Street\, Portland\, 97219
CATEGORIES:Lake Oswego,Vermont Street
END:VEVENT
BEGIN:VEVENT
DTSTART;TZID=America/Los_Angeles:20161116T153000
DTEND;TZID=America/Los_Angeles:20161116T163000
DTSTAMP:20260424T090108
CREATED:20161006T161937Z
LAST-MODIFIED:20161006T162201Z
UID:3158-1479310200-1479313800@westhills-montessori.com
SUMMARY:Drama with Liz at the Lake Oswego Campus
DESCRIPTION:After school Drama enrichment program with Liz Hayden. Please see the front office to enroll your 4-6-year-old!
URL:https://westhills-montessori.com/cal-event/drama-liz-lake-oswego-campus-copy-copy-copy-copy/
LOCATION:Lake Oswego Campus\, 4515 Parkview Drive\, Lake Oswego\, 97035
CATEGORIES:Lake Oswego
END:VEVENT
BEGIN:VEVENT
DTSTART;TZID=America/Los_Angeles:20161116T153000
DTEND;TZID=America/Los_Angeles:20161116T161500
DTSTAMP:20260424T090108
CREATED:20160922T172706Z
LAST-MODIFIED:20160922T180516Z
UID:2968-1479310200-1479312900@westhills-montessori.com
SUMMARY:Primary Spanish
DESCRIPTION:Primary Spanish for pre-enrolled students. Class will be held in the Sunflower Room.
URL:https://westhills-montessori.com/cal-event/primary-spanish-copy-copy-copy-copy-copy-copy-copy-copy-copy-copy-copy-copy-copy-copy/
LOCATION:Vermont Street Campus\, 4920 SW Vermont Street\, Portland\, 97219
CATEGORIES:Vermont Street
END:VEVENT
BEGIN:VEVENT
DTSTART;VALUE=DATE:20161116
DTEND;VALUE=DATE:20161117
DTSTAMP:20260424T090108
CREATED:20161108T182539Z
LAST-MODIFIED:20161108T182539Z
UID:3235-1479254400-1479340799@westhills-montessori.com
SUMMARY:LO Maple Room Feast for the Children
DESCRIPTION:
URL:https://westhills-montessori.com/cal-event/lo-maple-room-feast-children/
LOCATION:Lake Oswego Campus
CATEGORIES:Lake Oswego
END:VEVENT
BEGIN:VEVENT
DTSTART;TZID=America/Los_Angeles:20161115T180000
DTEND;TZID=America/Los_Angeles:20161115T190000
DTSTAMP:20260424T090108
CREATED:20151105T182759Z
LAST-MODIFIED:20161108T181127Z
UID:2503-1479232800-1479236400@westhills-montessori.com
SUMMARY:Sunflower Room Thanksgiving Feast
DESCRIPTION:
URL:https://westhills-montessori.com/cal-event/sunflower-room-thanksgiving-feast-for-the-children/
LOCATION:Vermont Street Campus\, 4920 SW Vermont Street\, Portland\, 97219
CATEGORIES:Vermont Street
END:VEVENT
BEGIN:VEVENT
DTSTART;TZID=America/Los_Angeles:20161115T163000
DTEND;TZID=America/Los_Angeles:20161115T173000
DTSTAMP:20260424T090108
CREATED:20161004T181204Z
LAST-MODIFIED:20161004T181603Z
UID:3126-1479227400-1479231000@westhills-montessori.com
SUMMARY:Primary Drama-4:30 Class
DESCRIPTION:Primary Drama in the Butterfly Room for pre-registered children.
URL:https://westhills-montessori.com/cal-event/primary-drama-9-copy-copy-copy-2-copy-copy-2-copy-copy-copy-2/
LOCATION:Vermont Street Campus\, 4920 SW Vermont Street\, Portland\, 97219
CATEGORIES:Vermont Street
END:VEVENT
BEGIN:VEVENT
DTSTART;TZID=America/Los_Angeles:20161115T153000
DTEND;TZID=America/Los_Angeles:20161115T163000
DTSTAMP:20260424T090108
CREATED:20160919T185442Z
LAST-MODIFIED:20160919T190108Z
UID:2876-1479223800-1479227400@westhills-montessori.com
SUMMARY:Primary Drama
DESCRIPTION:Primary Drama in the Butterfly Room for pre-registered children.
URL:https://westhills-montessori.com/cal-event/primary-drama-9-copy-copy-copy/
LOCATION:Vermont Street Campus\, 4920 SW Vermont Street\, Portland\, 97219
CATEGORIES:Vermont Street
END:VEVENT
BEGIN:VEVENT
DTSTART;TZID=America/Los_Angeles:20161115T153000
DTEND;TZID=America/Los_Angeles:20161115T161500
DTSTAMP:20260424T090108
CREATED:20160922T165710Z
LAST-MODIFIED:20160922T170721Z
UID:2913-1479223800-1479226500@westhills-montessori.com
SUMMARY:Elementary Spanish
DESCRIPTION:Elementary Spanish class for pre-enrolled children in the Sunflower Room.
URL:https://westhills-montessori.com/cal-event/elementary-spanish-2-copy-copy-copy-copy-copy-copy-copy-copy-copy/
LOCATION:Vermont Street Campus\, 4920 SW Vermont Street\, Portland\, 97219
CATEGORIES:Vermont Street
END:VEVENT
BEGIN:VEVENT
DTSTART;VALUE=DATE:20161111
DTEND;VALUE=DATE:20161112
DTSTAMP:20260424T090108
CREATED:20160923T174645Z
LAST-MODIFIED:20160923T192651Z
UID:3110-1478822400-1478908799@westhills-montessori.com
SUMMARY:No Elementary Ukulele-Veteran's Day/School Closed
DESCRIPTION:
URL:https://westhills-montessori.com/cal-event/no-elementary-ukulele-veterans-dayschool-closed/
CATEGORIES:Vermont Street
END:VEVENT
BEGIN:VEVENT
DTSTART;VALUE=DATE:20161111
DTEND;VALUE=DATE:20161112
DTSTAMP:20260424T090108
CREATED:20160831T215154Z
LAST-MODIFIED:20160831T215154Z
UID:2850-1478822400-1478908799@westhills-montessori.com
SUMMARY:Veteran's Day/SCHOOL CLOSED
DESCRIPTION:
URL:https://westhills-montessori.com/cal-event/veterans-dayschool-closed-3/
CATEGORIES:Lake Oswego,Vermont Street
END:VEVENT
BEGIN:VEVENT
DTSTART;VALUE=DATE:20161110
DTEND;VALUE=DATE:20161111
DTSTAMP:20260424T090108
CREATED:20160831T215107Z
LAST-MODIFIED:20160831T215107Z
UID:2848-1478736000-1478822399@westhills-montessori.com
SUMMARY:All School In-Service/SCHOOL CLOSED
DESCRIPTION:
URL:https://westhills-montessori.com/cal-event/school-serviceschool-closed-2/
CATEGORIES:Lake Oswego,Vermont Street
END:VEVENT
BEGIN:VEVENT
DTSTART;TZID=America/Los_Angeles:20161109T153000
DTEND;TZID=America/Los_Angeles:20161109T163000
DTSTAMP:20260424T090108
CREATED:20161006T161940Z
LAST-MODIFIED:20161006T162131Z
UID:3159-1478705400-1478709000@westhills-montessori.com
SUMMARY:Drama with Liz at the Lake Oswego Campus
DESCRIPTION:After school Drama enrichment program with Liz Hayden. Please see the front office to enroll your 4-6-year-old!
URL:https://westhills-montessori.com/cal-event/drama-liz-lake-oswego-campus-copy-copy-copy-copy-copy/
LOCATION:Lake Oswego Campus\, 4515 Parkview Drive\, Lake Oswego\, 97035
CATEGORIES:Lake Oswego
END:VEVENT
BEGIN:VEVENT
DTSTART;VALUE=DATE:20161109
DTEND;VALUE=DATE:20161110
DTSTAMP:20260424T090108
CREATED:20161108T182451Z
LAST-MODIFIED:20161108T182451Z
UID:3233-1478649600-1478735999@westhills-montessori.com
SUMMARY:Hearing and Vision Screening at the Lake Oswego Campus
DESCRIPTION:
URL:https://westhills-montessori.com/cal-event/hearing-vision-screening-lake-oswego-campus/
LOCATION:Lake Oswego Campus
CATEGORIES:Lake Oswego
END:VEVENT
BEGIN:VEVENT
DTSTART;TZID=America/Los_Angeles:20161108T163000
DTEND;TZID=America/Los_Angeles:20161108T173000
DTSTAMP:20260424T090108
CREATED:20161004T181159Z
LAST-MODIFIED:20161004T181650Z
UID:3125-1478622600-1478626200@westhills-montessori.com
SUMMARY:Primary Drama-4:30 Class
DESCRIPTION:Primary Drama in the Butterfly Room for pre-registered children.
URL:https://westhills-montessori.com/cal-event/primary-drama-9-copy-copy-copy-2-copy-copy-2-copy-copy-copy/
LOCATION:Vermont Street Campus\, 4920 SW Vermont Street\, Portland\, 97219
CATEGORIES:Vermont Street
END:VEVENT
BEGIN:VEVENT
DTSTART;TZID=America/Los_Angeles:20161108T153000
DTEND;TZID=America/Los_Angeles:20161108T163000
DTSTAMP:20260424T090108
CREATED:20160919T185448Z
LAST-MODIFIED:20160919T190022Z
UID:2877-1478619000-1478622600@westhills-montessori.com
SUMMARY:Primary Drama
DESCRIPTION:Primary Drama in the Butterfly Room for pre-registered children.
URL:https://westhills-montessori.com/cal-event/primary-drama-9-copy-copy-copy-copy/
LOCATION:Vermont Street Campus\, 4920 SW Vermont Street\, Portland\, 97219
CATEGORIES:Vermont Street
END:VEVENT
BEGIN:VEVENT
DTSTART;TZID=America/Los_Angeles:20161108T153000
DTEND;TZID=America/Los_Angeles:20161108T161500
DTSTAMP:20260424T090108
CREATED:20160922T165713Z
LAST-MODIFIED:20160922T170652Z
UID:2914-1478619000-1478621700@westhills-montessori.com
SUMMARY:Elementary Spanish
DESCRIPTION:Elementary Spanish class for pre-enrolled children in the Sunflower Room.
URL:https://westhills-montessori.com/cal-event/elementary-spanish-2-copy-copy-copy-copy-copy-copy-copy-2-copy/
LOCATION:Vermont Street Campus\, 4920 SW Vermont Street\, Portland\, 97219
CATEGORIES:Vermont Street
END:VEVENT
BEGIN:VEVENT
DTSTART;TZID=America/Los_Angeles:20161104T153000
DTEND;TZID=America/Los_Angeles:20161104T161500
DTSTAMP:20260424T090108
CREATED:20160923T172622Z
LAST-MODIFIED:20160923T172947Z
UID:3068-1478273400-1478276100@westhills-montessori.com
SUMMARY:Elementary Ukulele
DESCRIPTION:Elementary Ukulele Class for pre-registered students. Class will be held in the Butterfly Room.
URL:https://westhills-montessori.com/cal-event/elementary-ukulele-copy-copy-copy-copy-copy-copy-copy-copy-copy-copy-copy-copy-copy-copy-copy-copy-copy-copy-copy-copy/
LOCATION:Vermont Street Campus\, 4920 SW Vermont Street\, Portland\, 97219
CATEGORIES:Vermont Street
END:VEVENT
BEGIN:VEVENT
DTSTART;TZID=America/Los_Angeles:20161103T153000
DTEND;TZID=America/Los_Angeles:20161103T163000
DTSTAMP:20260424T090108
CREATED:20160922T184055Z
LAST-MODIFIED:20160922T184313Z
UID:3032-1478187000-1478190600@westhills-montessori.com
SUMMARY:Elementary Drama
DESCRIPTION:Elementary Drama for pre-registered students. Class will be held in the Butterfly Room.
URL:https://westhills-montessori.com/cal-event/elementary-drama-8-copy-copy-copy-copy/
LOCATION:Vermont Street Campus\, 4920 SW Vermont Street\, Portland\, 97219
CATEGORIES:Vermont Street
END:VEVENT
BEGIN:VEVENT
DTSTART;TZID=America/Los_Angeles:20161102T153000
DTEND;TZID=America/Los_Angeles:20161102T163000
DTSTAMP:20260424T090108
CREATED:20161006T161943Z
LAST-MODIFIED:20161006T162058Z
UID:3160-1478100600-1478104200@westhills-montessori.com
SUMMARY:Drama with Liz at the Lake Oswego Campus
DESCRIPTION:After school Drama enrichment program with Liz Hayden. Please see the front office to enroll your 4-6-year-old!
URL:https://westhills-montessori.com/cal-event/drama-liz-lake-oswego-campus-copy-copy-copy-copy-copy-copy/
LOCATION:Lake Oswego Campus\, 4515 Parkview Drive\, Lake Oswego\, 97035
CATEGORIES:Lake Oswego
END:VEVENT
BEGIN:VEVENT
DTSTART;TZID=America/Los_Angeles:20161102T153000
DTEND;TZID=America/Los_Angeles:20161102T161500
DTSTAMP:20260424T090108
CREATED:20160922T172710Z
LAST-MODIFIED:20160922T180453Z
UID:2969-1478100600-1478103300@westhills-montessori.com
SUMMARY:Primary Spanish
DESCRIPTION:Primary Spanish for pre-enrolled students. Class will be held in the Sunflower Room.
URL:https://westhills-montessori.com/cal-event/primary-spanish-copy-copy-copy-copy-copy-copy-copy-copy-copy-copy-copy-copy-copy-copy-copy/
LOCATION:Vermont Street Campus\, 4920 SW Vermont Street\, Portland\, 97219
CATEGORIES:Vermont Street
END:VEVENT
BEGIN:VEVENT
DTSTART;TZID=America/Los_Angeles:20161101T163000
DTEND;TZID=America/Los_Angeles:20161101T173000
DTSTAMP:20260424T090108
CREATED:20161004T181143Z
LAST-MODIFIED:20161004T181825Z
UID:3123-1478017800-1478021400@westhills-montessori.com
SUMMARY:Primary Drama-4:30 Class
DESCRIPTION:Primary Drama in the Butterfly Room for pre-registered children.
URL:https://westhills-montessori.com/cal-event/primary-drama-9-copy-copy-copy-2-copy-copy-2-copy/
LOCATION:Vermont Street Campus\, 4920 SW Vermont Street\, Portland\, 97219
CATEGORIES:Vermont Street
END:VEVENT
BEGIN:VEVENT
DTSTART;TZID=America/Los_Angeles:20161101T153000
DTEND;TZID=America/Los_Angeles:20161101T163000
DTSTAMP:20260424T090108
CREATED:20160919T185456Z
LAST-MODIFIED:20160919T185940Z
UID:2878-1478014200-1478017800@westhills-montessori.com
SUMMARY:Primary Drama
DESCRIPTION:Primary Drama in the Butterfly Room for pre-registered children.
URL:https://westhills-montessori.com/cal-event/primary-drama-9-copy-copy-copy-copy-copy/
LOCATION:Vermont Street Campus\, 4920 SW Vermont Street\, Portland\, 97219
CATEGORIES:Vermont Street
END:VEVENT
BEGIN:VEVENT
DTSTART;TZID=America/Los_Angeles:20161101T153000
DTEND;TZID=America/Los_Angeles:20161101T161500
DTSTAMP:20260424T090108
CREATED:20160922T165718Z
LAST-MODIFIED:20160922T170459Z
UID:2915-1478014200-1478016900@westhills-montessori.com
SUMMARY:Elementary Spanish
DESCRIPTION:Elementary Spanish class for pre-enrolled children in the Sunflower Room.
URL:https://westhills-montessori.com/cal-event/elementary-spanish-2-copy-copy-copy-copy-copy-copy-2-copy-copy/
LOCATION:Vermont Street Campus\, 4920 SW Vermont Street\, Portland\, 97219
CATEGORIES:Vermont Street
END:VEVENT
BEGIN:VEVENT
DTSTART;VALUE=DATE:20161031
DTEND;VALUE=DATE:20161101
DTSTAMP:20260424T090108
CREATED:20160831T205555Z
LAST-MODIFIED:20160831T205725Z
UID:2842-1477872000-1477958399@westhills-montessori.com
SUMMARY:Parent/Teacher Conferences-No Classes
DESCRIPTION:Daycare available for pre-registered families.
URL:https://westhills-montessori.com/cal-event/parentteacher-conferences-no-classes-copy-4/
CATEGORIES:Lake Oswego,Vermont Street
END:VEVENT
BEGIN:VEVENT
DTSTART;TZID=America/Los_Angeles:20161028T153000
DTEND;TZID=America/Los_Angeles:20161028T161500
DTSTAMP:20260424T090108
CREATED:20160923T174457Z
LAST-MODIFIED:20160923T174607Z
UID:3106-1477668600-1477671300@westhills-montessori.com
SUMMARY:No Elementary Ukulele-Parent/Teacher Conferences
DESCRIPTION:Elementary Ukulele Class for pre-registered students. Class will be held in the Butterfly Room.
URL:https://westhills-montessori.com/cal-event/elementary-ukulele-copy-copy-2/
LOCATION:Vermont Street Campus\, 4920 SW Vermont Street\, Portland\, 97219
CATEGORIES:Vermont Street
END:VEVENT
BEGIN:VEVENT
DTSTART;VALUE=DATE:20161028
DTEND;VALUE=DATE:20161029
DTSTAMP:20260424T090108
CREATED:20160831T205329Z
LAST-MODIFIED:20160831T205329Z
UID:2836-1477612800-1477699199@westhills-montessori.com
SUMMARY:Parent/Teacher Conferences-No Classes
DESCRIPTION:Daycare available for pre-registered families.
URL:https://westhills-montessori.com/cal-event/parentteacher-conferences-no-classes/
CATEGORIES:Lake Oswego,Vermont Street
END:VEVENT
BEGIN:VEVENT
DTSTART;TZID=America/Los_Angeles:20161027T153000
DTEND;TZID=America/Los_Angeles:20161027T163000
DTSTAMP:20260424T090108
CREATED:20160922T184057Z
LAST-MODIFIED:20160922T184228Z
UID:3033-1477582200-1477585800@westhills-montessori.com
SUMMARY:Elementary Drama
DESCRIPTION:Elementary Drama for pre-registered students. Class will be held in the Butterfly Room.
URL:https://westhills-montessori.com/cal-event/elementary-drama-8-copy-copy-copy-copy-copy/
LOCATION:Vermont Street Campus\, 4920 SW Vermont Street\, Portland\, 97219
CATEGORIES:Vermont Street
END:VEVENT
BEGIN:VEVENT
DTSTART;VALUE=DATE:20161027
DTEND;VALUE=DATE:20161029
DTSTAMP:20260424T090108
CREATED:20161006T181211Z
LAST-MODIFIED:20161006T185628Z
UID:3172-1477526400-1477699199@westhills-montessori.com
SUMMARY:Barefoot Books Book Fair at the Lake Oswego Campus
DESCRIPTION:
URL:https://westhills-montessori.com/cal-event/barefoot-books-book-fair-lake-oswego-campus/
LOCATION:Lake Oswego Campus
CATEGORIES:Lake Oswego
END:VEVENT
BEGIN:VEVENT
DTSTART;TZID=America/Los_Angeles:20161026T153000
DTEND;TZID=America/Los_Angeles:20161026T163000
DTSTAMP:20260424T090108
CREATED:20161006T161946Z
LAST-MODIFIED:20161006T162029Z
UID:3161-1477495800-1477499400@westhills-montessori.com
SUMMARY:Drama with Liz at the Lake Oswego Campus
DESCRIPTION:After school Drama enrichment program with Liz Hayden. Please see the front office to enroll your 4-6-year-old!
URL:https://westhills-montessori.com/cal-event/drama-liz-lake-oswego-campus-copy-copy-copy-copy-copy-copy-copy/
LOCATION:Lake Oswego Campus\, 4515 Parkview Drive\, Lake Oswego\, 97035
CATEGORIES:Lake Oswego
END:VEVENT
BEGIN:VEVENT
DTSTART;TZID=America/Los_Angeles:20161026T153000
DTEND;TZID=America/Los_Angeles:20161026T161500
DTSTAMP:20260424T090108
CREATED:20160922T172713Z
LAST-MODIFIED:20160922T180406Z
UID:2970-1477495800-1477498500@westhills-montessori.com
SUMMARY:Primary Spanish
DESCRIPTION:Primary Spanish for pre-enrolled students. Class will be held in the Sunflower Room.
URL:https://westhills-montessori.com/cal-event/primary-spanish-copy-copy-copy-copy-copy-copy-copy-copy-copy-copy-copy-copy-copy-copy-copy-2/
LOCATION:Vermont Street Campus\, 4920 SW Vermont Street\, Portland\, 97219
CATEGORIES:Vermont Street
END:VEVENT
END:VCALENDAR