BEGIN:VCALENDAR
VERSION:2.0
PRODID:-//West Hills Montessori School - ECPv6.15.20//NONSGML v1.0//EN
CALSCALE:GREGORIAN
METHOD:PUBLISH
X-WR-CALNAME:West Hills Montessori School
X-ORIGINAL-URL:https://westhills-montessori.com
X-WR-CALDESC:Events for West Hills Montessori School
REFRESH-INTERVAL;VALUE=DURATION:PT1H
X-Robots-Tag:noindex
X-PUBLISHED-TTL:PT1H
BEGIN:VTIMEZONE
TZID:America/Los_Angeles
BEGIN:DAYLIGHT
TZOFFSETFROM:-0800
TZOFFSETTO:-0700
TZNAME:PDT
DTSTART:20150308T100000
END:DAYLIGHT
BEGIN:STANDARD
TZOFFSETFROM:-0700
TZOFFSETTO:-0800
TZNAME:PST
DTSTART:20151101T090000
END:STANDARD
BEGIN:DAYLIGHT
TZOFFSETFROM:-0800
TZOFFSETTO:-0700
TZNAME:PDT
DTSTART:20160313T100000
END:DAYLIGHT
BEGIN:STANDARD
TZOFFSETFROM:-0700
TZOFFSETTO:-0800
TZNAME:PST
DTSTART:20161106T090000
END:STANDARD
BEGIN:DAYLIGHT
TZOFFSETFROM:-0800
TZOFFSETTO:-0700
TZNAME:PDT
DTSTART:20170312T100000
END:DAYLIGHT
BEGIN:STANDARD
TZOFFSETFROM:-0700
TZOFFSETTO:-0800
TZNAME:PST
DTSTART:20171105T090000
END:STANDARD
END:VTIMEZONE
BEGIN:VEVENT
DTSTART;TZID=America/Los_Angeles:20161019T153000
DTEND;TZID=America/Los_Angeles:20161019T163000
DTSTAMP:20260425T063340
CREATED:20161006T161949Z
LAST-MODIFIED:20161006T162007Z
UID:3162-1476891000-1476894600@westhills-montessori.com
SUMMARY:Drama with Liz at the Lake Oswego Campus
DESCRIPTION:After school Drama enrichment program with Liz Hayden. Please see the front office to enroll your 4-6-year-old!
URL:https://westhills-montessori.com/cal-event/drama-liz-lake-oswego-campus-copy-copy-copy-copy-copy-copy-copy-copy/
LOCATION:Lake Oswego Campus\, 4515 Parkview Drive\, Lake Oswego\, 97035
CATEGORIES:Lake Oswego
END:VEVENT
BEGIN:VEVENT
DTSTART;TZID=America/Los_Angeles:20161019T153000
DTEND;TZID=America/Los_Angeles:20161019T161500
DTSTAMP:20260425T063340
CREATED:20160922T172717Z
LAST-MODIFIED:20160922T180157Z
UID:2971-1476891000-1476893700@westhills-montessori.com
SUMMARY:Primary Spanish
DESCRIPTION:Primary Spanish for pre-enrolled students. Class will be held in the Sunflower Room.
URL:https://westhills-montessori.com/cal-event/primary-spanish-copy-copy-copy-copy-copy-copy-copy-copy-copy-copy-copy-copy-copy-copy-copy-copy/
LOCATION:Vermont Street Campus\, 4920 SW Vermont Street\, Portland\, 97219
CATEGORIES:Vermont Street
END:VEVENT
BEGIN:VEVENT
DTSTART;TZID=America/Los_Angeles:20161019T091500
DTEND;TZID=America/Los_Angeles:20161019T101500
DTSTAMP:20260425T063340
CREATED:20161006T161118Z
LAST-MODIFIED:20161006T161118Z
UID:3147-1476868500-1476872100@westhills-montessori.com
SUMMARY:Parent/Guide Open Forum-Supporting Montessori in the Home
DESCRIPTION:Join Delila Olsson and Lydia Mirocha for a cup of coffee and a great chat with staff and fellow parents!
URL:https://westhills-montessori.com/cal-event/parentguide-open-forum-supporting-montessori-home/
LOCATION:Vermont Street Campus\, 4920 SW Vermont Street\, Portland\, 97219
CATEGORIES:Vermont Street
END:VEVENT
BEGIN:VEVENT
DTSTART;TZID=America/Los_Angeles:20161018T163000
DTEND;TZID=America/Los_Angeles:20161018T173000
DTSTAMP:20260425T063340
CREATED:20161004T181135Z
LAST-MODIFIED:20161004T182140Z
UID:3122-1476808200-1476811800@westhills-montessori.com
SUMMARY:Primary Drama-4:30 Class
DESCRIPTION:Primary Drama in the Butterfly Room for pre-registered children.
URL:https://westhills-montessori.com/cal-event/primary-drama-9-copy-copy-copy-2-copy-copy-2/
LOCATION:Vermont Street Campus\, 4920 SW Vermont Street\, Portland\, 97219
CATEGORIES:Vermont Street
END:VEVENT
BEGIN:VEVENT
DTSTART;TZID=America/Los_Angeles:20161018T153000
DTEND;TZID=America/Los_Angeles:20161018T163000
DTSTAMP:20260425T063340
CREATED:20160919T185508Z
LAST-MODIFIED:20160919T185819Z
UID:2880-1476804600-1476808200@westhills-montessori.com
SUMMARY:Primary Drama
DESCRIPTION:Primary Drama in the Butterfly Room for pre-registered children.
URL:https://westhills-montessori.com/cal-event/primary-drama-9-copy-copy-copy-copy-copy-copy-copy/
LOCATION:Vermont Street Campus\, 4920 SW Vermont Street\, Portland\, 97219
CATEGORIES:Vermont Street
END:VEVENT
BEGIN:VEVENT
DTSTART;TZID=America/Los_Angeles:20161018T153000
DTEND;TZID=America/Los_Angeles:20161018T161500
DTSTAMP:20260425T063340
CREATED:20160922T165726Z
LAST-MODIFIED:20160922T170405Z
UID:2917-1476804600-1476807300@westhills-montessori.com
SUMMARY:Elementary Spanish
DESCRIPTION:Elementary Spanish class for pre-enrolled children in the Sunflower Room.
URL:https://westhills-montessori.com/cal-event/elementary-spanish-2-copy-copy-copy-copy-copy-copy-copy-copy-copy-copy/
LOCATION:Vermont Street Campus\, 4920 SW Vermont Street\, Portland\, 97219
CATEGORIES:Vermont Street
END:VEVENT
BEGIN:VEVENT
DTSTART;VALUE=DATE:20161017
DTEND;VALUE=DATE:20161018
DTSTAMP:20260425T063340
CREATED:20161006T160926Z
LAST-MODIFIED:20161006T160926Z
UID:3145-1476662400-1476748799@westhills-montessori.com
SUMMARY:Individual Photo Retakes
DESCRIPTION:
URL:https://westhills-montessori.com/cal-event/individual-photo-retakes/
LOCATION:Vermont Street Campus\, 4920 SW Vermont Street\, Portland\, 97219
CATEGORIES:Vermont Street
END:VEVENT
BEGIN:VEVENT
DTSTART;TZID=America/Los_Angeles:20161014T170000
DTEND;TZID=America/Los_Angeles:20161014T200000
DTSTAMP:20260425T063340
CREATED:20160831T204750Z
LAST-MODIFIED:20160831T204750Z
UID:2834-1476464400-1476475200@westhills-montessori.com
SUMMARY:Journey and Discovery for Parents
DESCRIPTION:
URL:https://westhills-montessori.com/cal-event/journey-discovery-parents/
LOCATION:Vermont Street Campus\, 4920 SW Vermont Street\, Portland\, 97219
CATEGORIES:Lake Oswego,Vermont Street
END:VEVENT
BEGIN:VEVENT
DTSTART;VALUE=DATE:20161014
DTEND;VALUE=DATE:20161015
DTSTAMP:20260425T063340
CREATED:20160923T174725Z
LAST-MODIFIED:20160923T175150Z
UID:3112-1476403200-1476489599@westhills-montessori.com
SUMMARY:No Elementary Ukulele-All School In-Service
DESCRIPTION:
URL:https://westhills-montessori.com/cal-event/no-elementary-ukulele-school-service/
END:VEVENT
BEGIN:VEVENT
DTSTART;VALUE=DATE:20161014
DTEND;VALUE=DATE:20161015
DTSTAMP:20260425T063340
CREATED:20160831T204634Z
LAST-MODIFIED:20160831T204634Z
UID:2832-1476403200-1476489599@westhills-montessori.com
SUMMARY:All School In-Service/SCHOOL CLOSED
DESCRIPTION:
URL:https://westhills-montessori.com/cal-event/school-serviceschool-closed/
CATEGORIES:Lake Oswego,Vermont Street
END:VEVENT
BEGIN:VEVENT
DTSTART;TZID=America/Los_Angeles:20161013T153000
DTEND;TZID=America/Los_Angeles:20161013T163000
DTSTAMP:20260425T063340
CREATED:20160922T184103Z
LAST-MODIFIED:20160922T184119Z
UID:3035-1476372600-1476376200@westhills-montessori.com
SUMMARY:Elementary Drama
DESCRIPTION:Elementary Drama for pre-registered students. Class will be held in the Butterfly Room.
URL:https://westhills-montessori.com/cal-event/elementary-drama-8-copy-copy-copy-copy-copy-copy-copy/
LOCATION:Vermont Street Campus\, 4920 SW Vermont Street\, Portland\, 97219
CATEGORIES:Vermont Street
END:VEVENT
BEGIN:VEVENT
DTSTART;TZID=America/Los_Angeles:20161012T153000
DTEND;TZID=America/Los_Angeles:20161012T163000
DTSTAMP:20260425T063340
CREATED:20161006T161909Z
LAST-MODIFIED:20161006T161909Z
UID:3153-1476286200-1476289800@westhills-montessori.com
SUMMARY:Drama with Liz at the Lake Oswego Campus
DESCRIPTION:After school Drama enrichment program with Liz Hayden. Please see the front office to enroll your 4-6-year-old!
URL:https://westhills-montessori.com/cal-event/drama-liz-lake-oswego-campus/
LOCATION:Lake Oswego Campus\, 4515 Parkview Drive\, Lake Oswego\, 97035
CATEGORIES:Lake Oswego
END:VEVENT
BEGIN:VEVENT
DTSTART;TZID=America/Los_Angeles:20161012T153000
DTEND;TZID=America/Los_Angeles:20161012T161500
DTSTAMP:20260425T063340
CREATED:20160922T172721Z
LAST-MODIFIED:20160922T180115Z
UID:2972-1476286200-1476288900@westhills-montessori.com
SUMMARY:Primary Spanish
DESCRIPTION:Primary Spanish for pre-enrolled students. Class will be held in the Sunflower Room.
URL:https://westhills-montessori.com/cal-event/primary-spanish-copy-copy-copy-copy-copy-copy-copy-copy-copy-copy-copy-copy-copy-copy-copy-copy-copy/
LOCATION:Vermont Street Campus\, 4920 SW Vermont Street\, Portland\, 97219
CATEGORIES:Vermont Street
END:VEVENT
BEGIN:VEVENT
DTSTART;VALUE=DATE:20161012
DTEND;VALUE=DATE:20161013
DTSTAMP:20260425T063340
CREATED:20161006T161325Z
LAST-MODIFIED:20161006T161325Z
UID:3149-1476230400-1476316799@westhills-montessori.com
SUMMARY:Creative Movement for Lake Oswego Students!
DESCRIPTION:Please help your child choose safe and appropriate shoes for their time with Jumpin’ Joan
URL:https://westhills-montessori.com/cal-event/creative-movement-lake-oswego-students/
LOCATION:Lake Oswego Campus
CATEGORIES:Lake Oswego
END:VEVENT
BEGIN:VEVENT
DTSTART;TZID=America/Los_Angeles:20161011T163000
DTEND;TZID=America/Los_Angeles:20161011T173000
DTSTAMP:20260425T063340
CREATED:20161004T181130Z
LAST-MODIFIED:20161004T182235Z
UID:3121-1476203400-1476207000@westhills-montessori.com
SUMMARY:Primary Drama-4:30 Class
DESCRIPTION:Primary Drama in the Butterfly Room for pre-registered children.
URL:https://westhills-montessori.com/cal-event/primary-drama-9-copy-copy-copy-2-copy-copy/
LOCATION:Vermont Street Campus\, 4920 SW Vermont Street\, Portland\, 97219
CATEGORIES:Vermont Street
END:VEVENT
BEGIN:VEVENT
DTSTART;TZID=America/Los_Angeles:20161011T153000
DTEND;TZID=America/Los_Angeles:20161011T163000
DTSTAMP:20260425T063340
CREATED:20160919T185514Z
LAST-MODIFIED:20160919T185609Z
UID:2881-1476199800-1476203400@westhills-montessori.com
SUMMARY:Primary Drama
DESCRIPTION:Primary Drama in the Butterfly Room for pre-registered children.
URL:https://westhills-montessori.com/cal-event/primary-drama-9-copy-copy-copy-copy-copy-copy-copy-copy/
LOCATION:Vermont Street Campus\, 4920 SW Vermont Street\, Portland\, 97219
CATEGORIES:Vermont Street
END:VEVENT
BEGIN:VEVENT
DTSTART;TZID=America/Los_Angeles:20161011T153000
DTEND;TZID=America/Los_Angeles:20161011T161500
DTSTAMP:20260425T063340
CREATED:20160922T165730Z
LAST-MODIFIED:20160922T170257Z
UID:2918-1476199800-1476202500@westhills-montessori.com
SUMMARY:Elementary Spanish
DESCRIPTION:Elementary Spanish class for pre-enrolled children in the Sunflower Room.
URL:https://westhills-montessori.com/cal-event/elementary-spanish-2-copy-copy-copy-copy-copy-copy-copy-2-copy-copy/
LOCATION:Vermont Street Campus\, 4920 SW Vermont Street\, Portland\, 97219
CATEGORIES:Vermont Street
END:VEVENT
BEGIN:VEVENT
DTSTART;TZID=America/Los_Angeles:20161007T153000
DTEND;TZID=America/Los_Angeles:20161007T161500
DTSTAMP:20260425T063340
CREATED:20160923T172624Z
LAST-MODIFIED:20160923T172740Z
UID:3069-1475854200-1475856900@westhills-montessori.com
SUMMARY:Elementary Ukulele
DESCRIPTION:Elementary Ukulele Class for pre-registered students. Class will be held in the Butterfly Room.
URL:https://westhills-montessori.com/cal-event/elementary-ukulele-copy-copy-copy-copy-copy-copy-copy-copy-copy-copy-copy-copy-copy-copy-copy-copy-copy-copy-copy-copy-copy/
LOCATION:Vermont Street Campus\, 4920 SW Vermont Street\, Portland\, 97219
CATEGORIES:Vermont Street
END:VEVENT
BEGIN:VEVENT
DTSTART;TZID=America/Los_Angeles:20161006T153000
DTEND;TZID=America/Los_Angeles:20161006T163000
DTSTAMP:20260425T063340
CREATED:20160922T183922Z
LAST-MODIFIED:20160922T183933Z
UID:3027-1475767800-1475771400@westhills-montessori.com
SUMMARY:Elementary Drama
DESCRIPTION:Elementary Drama for pre-registered students. Class will be held in the Butterfly Room.
URL:https://westhills-montessori.com/cal-event/elementary-drama-8/
LOCATION:Vermont Street Campus\, 4920 SW Vermont Street\, Portland\, 97219
CATEGORIES:Vermont Street
END:VEVENT
BEGIN:VEVENT
DTSTART;TZID=America/Los_Angeles:20161005T153000
DTEND;TZID=America/Los_Angeles:20161005T170000
DTSTAMP:20260425T063340
CREATED:20160922T180825Z
LAST-MODIFIED:20160922T181054Z
UID:3013-1475681400-1475686800@westhills-montessori.com
SUMMARY:Elementary PlayWell Engineering Class
DESCRIPTION:Lego Engineering Class for pre-registered Elementary students.
URL:https://westhills-montessori.com/cal-event/elementary-playwell-engineering-class-copy-copy-copy-copy-copy-copy-copy/
LOCATION:Vermont Street Campus\, 4920 SW Vermont Street\, Portland\, 97219
CATEGORIES:Vermont Street
END:VEVENT
BEGIN:VEVENT
DTSTART;TZID=America/Los_Angeles:20161005T153000
DTEND;TZID=America/Los_Angeles:20161005T161500
DTSTAMP:20260425T063340
CREATED:20160922T172724Z
LAST-MODIFIED:20160922T175931Z
UID:2973-1475681400-1475684100@westhills-montessori.com
SUMMARY:Primary Spanish
DESCRIPTION:Primary Spanish for pre-enrolled students. Class will be held in the Sunflower Room.
URL:https://westhills-montessori.com/cal-event/primary-spanish-copy-copy-copy-copy-copy-copy-copy-copy-copy-copy-copy-copy-copy-copy-copy-copy-copy-copy/
LOCATION:Vermont Street Campus\, 4920 SW Vermont Street\, Portland\, 97219
CATEGORIES:Vermont Street
END:VEVENT
BEGIN:VEVENT
DTSTART;TZID=America/Los_Angeles:20161004T163000
DTEND;TZID=America/Los_Angeles:20161004T173000
DTSTAMP:20260425T063340
CREATED:20161004T181124Z
LAST-MODIFIED:20161004T182628Z
UID:3120-1475598600-1475602200@westhills-montessori.com
SUMMARY:Primary Drama-4:30 Class
DESCRIPTION:Primary Drama in the Butterfly Room for pre-registered children.
URL:https://westhills-montessori.com/cal-event/primary-drama-9-copy-copy-copy-2-copy/
LOCATION:Vermont Street Campus\, 4920 SW Vermont Street\, Portland\, 97219
CATEGORIES:Vermont Street
END:VEVENT
BEGIN:VEVENT
DTSTART;TZID=America/Los_Angeles:20161004T153000
DTEND;TZID=America/Los_Angeles:20161004T163000
DTSTAMP:20260425T063340
CREATED:20160919T185402Z
LAST-MODIFIED:20160919T185402Z
UID:2872-1475595000-1475598600@westhills-montessori.com
SUMMARY:Primary Drama
DESCRIPTION:Primary Drama in the Butterfly Room for pre-registered children.
URL:https://westhills-montessori.com/cal-event/primary-drama-9/
LOCATION:Vermont Street Campus\, 4920 SW Vermont Street\, Portland\, 97219
CATEGORIES:Vermont Street
END:VEVENT
BEGIN:VEVENT
DTSTART;TZID=America/Los_Angeles:20161004T153000
DTEND;TZID=America/Los_Angeles:20161004T161500
DTSTAMP:20260425T063340
CREATED:20160922T165733Z
LAST-MODIFIED:20160922T170143Z
UID:2919-1475595000-1475597700@westhills-montessori.com
SUMMARY:Elementary Spanish
DESCRIPTION:Elementary Spanish class for pre-enrolled children in the Sunflower Room.
URL:https://westhills-montessori.com/cal-event/elementary-spanish-2-copy-copy-copy-copy-copy-copy-copy-2-copy-copy-2/
LOCATION:Vermont Street Campus\, 4920 SW Vermont Street\, Portland\, 97219
CATEGORIES:Vermont Street
END:VEVENT
BEGIN:VEVENT
DTSTART;TZID=America/Los_Angeles:20161001T130000
DTEND;TZID=America/Los_Angeles:20161001T160000
DTSTAMP:20260425T063340
CREATED:20160831T204536Z
LAST-MODIFIED:20160831T204536Z
UID:2830-1475326800-1475337600@westhills-montessori.com
SUMMARY:Fall Festival!
DESCRIPTION:Sponsored by the Elementary Community/Vermont Street. All families are welcome!
URL:https://westhills-montessori.com/cal-event/fall-festival-3/
LOCATION:Vermont Street Campus\, 4920 SW Vermont Street\, Portland\, 97219
CATEGORIES:Lake Oswego,Vermont Street
END:VEVENT
BEGIN:VEVENT
DTSTART;VALUE=DATE:20160908
DTEND;VALUE=DATE:20160916
DTSTAMP:20260425T063340
CREATED:20160831T204353Z
LAST-MODIFIED:20160831T204353Z
UID:2828-1473292800-1473983999@westhills-montessori.com
SUMMARY:Phasing-In of Beginning Toddler and Primary Students
DESCRIPTION:Please see your family’s welcome packet for your child’s specific start date.
URL:https://westhills-montessori.com/cal-event/phasing-beginning-toddler-primary-students/
CATEGORIES:Lake Oswego,New Parents,Vermont Street
END:VEVENT
BEGIN:VEVENT
DTSTART;VALUE=DATE:20160907
DTEND;VALUE=DATE:20160908
DTSTAMP:20260425T063340
CREATED:20160831T204151Z
LAST-MODIFIED:20160831T204151Z
UID:2826-1473206400-1473292799@westhills-montessori.com
SUMMARY:First Full Day for Returning Toddler and Primary Students
DESCRIPTION:
URL:https://westhills-montessori.com/cal-event/first-full-day-returning-toddler-primary-students/
CATEGORIES:Lake Oswego,Vermont Street
END:VEVENT
BEGIN:VEVENT
DTSTART;TZID=America/Los_Angeles:20160906T123000
DTEND;TZID=America/Los_Angeles:20160906T133000
DTSTAMP:20260425T063340
CREATED:20160831T203740Z
LAST-MODIFIED:20160831T203740Z
UID:2822-1473165000-1473168600@westhills-montessori.com
SUMMARY:Picnic for Returning Primary Students and Families
DESCRIPTION:
URL:https://westhills-montessori.com/cal-event/picnic-returning-primary-students-families/
CATEGORIES:Lake Oswego,Vermont Street
END:VEVENT
BEGIN:VEVENT
DTSTART;TZID=America/Los_Angeles:20160906T081500
DTEND;TZID=America/Los_Angeles:20160906T134500
DTSTAMP:20260425T063340
CREATED:20160831T204024Z
LAST-MODIFIED:20160831T204024Z
UID:2824-1473149700-1473169500@westhills-montessori.com
SUMMARY:Class Time for All Redwood Students and All Returning Cedar Students
DESCRIPTION:No AM/PM Care.
URL:https://westhills-montessori.com/cal-event/class-time-redwood-students-returning-cedar-students/
LOCATION:Vermont Street Campus\, 4920 SW Vermont Street\, Portland\, 97219
CATEGORIES:Vermont Street
END:VEVENT
BEGIN:VEVENT
DTSTART;VALUE=DATE:20160906
DTEND;VALUE=DATE:20160907
DTSTAMP:20260425T063340
CREATED:20160831T203347Z
LAST-MODIFIED:20160831T203347Z
UID:2820-1473120000-1473206399@westhills-montessori.com
SUMMARY:Orientation Sessions for New Primary Students and Parents
DESCRIPTION:
URL:https://westhills-montessori.com/cal-event/orientation-sessions-new-primary-students-parents/
CATEGORIES:New Parents
END:VEVENT
END:VCALENDAR