BEGIN:VCALENDAR
VERSION:2.0
PRODID:-//West Hills Montessori School - ECPv6.15.20//NONSGML v1.0//EN
CALSCALE:GREGORIAN
METHOD:PUBLISH
X-WR-CALNAME:West Hills Montessori School
X-ORIGINAL-URL:https://westhills-montessori.com
X-WR-CALDESC:Events for West Hills Montessori School
REFRESH-INTERVAL;VALUE=DURATION:PT1H
X-Robots-Tag:noindex
X-PUBLISHED-TTL:PT1H
BEGIN:VTIMEZONE
TZID:America/Los_Angeles
BEGIN:DAYLIGHT
TZOFFSETFROM:-0800
TZOFFSETTO:-0700
TZNAME:PDT
DTSTART:20150308T100000
END:DAYLIGHT
BEGIN:STANDARD
TZOFFSETFROM:-0700
TZOFFSETTO:-0800
TZNAME:PST
DTSTART:20151101T090000
END:STANDARD
BEGIN:DAYLIGHT
TZOFFSETFROM:-0800
TZOFFSETTO:-0700
TZNAME:PDT
DTSTART:20160313T100000
END:DAYLIGHT
BEGIN:STANDARD
TZOFFSETFROM:-0700
TZOFFSETTO:-0800
TZNAME:PST
DTSTART:20161106T090000
END:STANDARD
BEGIN:DAYLIGHT
TZOFFSETFROM:-0800
TZOFFSETTO:-0700
TZNAME:PDT
DTSTART:20170312T100000
END:DAYLIGHT
BEGIN:STANDARD
TZOFFSETFROM:-0700
TZOFFSETTO:-0800
TZNAME:PST
DTSTART:20171105T090000
END:STANDARD
END:VTIMEZONE
BEGIN:VEVENT
DTSTART;TZID=America/Los_Angeles:20160427T153000
DTEND;TZID=America/Los_Angeles:20160427T160500
DTSTAMP:20260425T084731
CREATED:20151116T185829Z
LAST-MODIFIED:20160406T182338Z
UID:2546-1461771000-1461773100@westhills-montessori.com
SUMMARY:Soccer Shots-Vermont Street
DESCRIPTION:
URL:https://westhills-montessori.com/cal-event/soccer-shots-10-4/
LOCATION:Vermont Street Campus
CATEGORIES:Vermont Street
END:VEVENT
BEGIN:VEVENT
DTSTART;TZID=America/Los_Angeles:20160426T163000
DTEND;TZID=America/Los_Angeles:20160426T173000
DTSTAMP:20260425T084731
CREATED:20160406T192713Z
LAST-MODIFIED:20160406T192909Z
UID:2713-1461688200-1461691800@westhills-montessori.com
SUMMARY:Primary Spring Drama-Vermont Street (Late Class)
DESCRIPTION:Primary Drama with Liz at the Vermont Street Campus. Class will be held in the Butterfly Room.
URL:https://westhills-montessori.com/cal-event/primary-drama-vermont-street-copy-copy-2-copy-copy-copy-copy/
LOCATION:Vermont Street Campus\, 4920 SW Vermont St\, Portland\, OR\, 97219\, United States
CATEGORIES:Vermont Street
END:VEVENT
BEGIN:VEVENT
DTSTART;TZID=America/Los_Angeles:20160426T153000
DTEND;TZID=America/Los_Angeles:20160426T163000
DTSTAMP:20260425T084731
CREATED:20160406T191913Z
LAST-MODIFIED:20160406T192202Z
UID:2707-1461684600-1461688200@westhills-montessori.com
SUMMARY:Primary Spring Drama-Vermont Street (Early Class)
DESCRIPTION:Primary Drama with Liz at the Vermont Street Campus. Class will be held in the Butterfly Room.
URL:https://westhills-montessori.com/cal-event/primary-drama-vermont-street-copy-3-copy/
LOCATION:Vermont Street Campus\, 4920 SW Vermont St\, Portland\, OR\, 97219\, United States
CATEGORIES:Vermont Street
END:VEVENT
BEGIN:VEVENT
DTSTART;TZID=America/Los_Angeles:20160426T153000
DTEND;TZID=America/Los_Angeles:20160426T161500
DTSTAMP:20260425T084731
CREATED:20151006T171758Z
LAST-MODIFIED:20151006T172129Z
UID:2338-1461684600-1461687300@westhills-montessori.com
SUMMARY:Elementary Spanish
DESCRIPTION:Spanish for pre-registered Elementary students in the Sunflower Room.
URL:https://westhills-montessori.com/cal-event/elementary-spanish-5/
LOCATION:Vermont Street Campus
CATEGORIES:Vermont Street
END:VEVENT
BEGIN:VEVENT
DTSTART;TZID=America/Los_Angeles:20160426T153000
DTEND;TZID=America/Los_Angeles:20160426T160000
DTSTAMP:20260425T084731
CREATED:20160406T182823Z
LAST-MODIFIED:20160406T182859Z
UID:2693-1461684600-1461686400@westhills-montessori.com
SUMMARY:Imagination Yoga-Lake Oswego
DESCRIPTION:Yoga class for pre-registered students at the Lake Oswego Campus.
URL:https://westhills-montessori.com/cal-event/imagination-yoga-at-lake-oswego-2-4-copy/
LOCATION:Lake Oswego Campus\, 4515 Parkview Drive\, Lake Oswego\, 97035
CATEGORIES:Lake Oswego
END:VEVENT
BEGIN:VEVENT
DTSTART;TZID=America/Los_Angeles:20160422T153000
DTEND;TZID=America/Los_Angeles:20160422T161500
DTSTAMP:20260425T084731
CREATED:20151202T195819Z
LAST-MODIFIED:20151202T200742Z
UID:2571-1461339000-1461341700@westhills-montessori.com
SUMMARY:Ukulele Enrichment Class
DESCRIPTION:Ukulele Class for pre-registered Elementary children in the Maple Room with Maria.
URL:https://westhills-montessori.com/cal-event/ukulele-enrichment-class-12/
LOCATION:Vermont Street Campus
CATEGORIES:Vermont Street
END:VEVENT
BEGIN:VEVENT
DTSTART;VALUE=DATE:20160422
DTEND;VALUE=DATE:20160423
DTSTAMP:20260425T084731
CREATED:20160406T183020Z
LAST-MODIFIED:20160406T183020Z
UID:2694-1461283200-1461369599@westhills-montessori.com
SUMMARY:Earth Day Celebration for the Children
DESCRIPTION:
URL:https://westhills-montessori.com/cal-event/earth-day-celebration-children/
LOCATION:OR
CATEGORIES:Lake Oswego,Vermont Street
END:VEVENT
BEGIN:VEVENT
DTSTART;TZID=America/Los_Angeles:20160421T153000
DTEND;TZID=America/Los_Angeles:20160421T161500
DTSTAMP:20260425T084731
CREATED:20151116T183017Z
LAST-MODIFIED:20160406T182350Z
UID:2527-1461252600-1461255300@westhills-montessori.com
SUMMARY:Primary Spanish Class-Vermont Street
DESCRIPTION:Primary Spanish Class in the Maple Room with Maestra Evi and Jordan!
URL:https://westhills-montessori.com/cal-event/primary-spanish-class-12/
LOCATION:Vermont Street Campus\, 4920 SW Vermont Street\, Portland\, 97219
CATEGORIES:Vermont Street
END:VEVENT
BEGIN:VEVENT
DTSTART;TZID=America/Los_Angeles:20160421T153000
DTEND;TZID=America/Los_Angeles:20160421T160500
DTSTAMP:20260425T084731
CREATED:20151116T185834Z
LAST-MODIFIED:20160406T182357Z
UID:2547-1461252600-1461254700@westhills-montessori.com
SUMMARY:Soccer Shots-Vermont Street
DESCRIPTION:
URL:https://westhills-montessori.com/cal-event/soccer-shots-10-5/
LOCATION:Vermont Street Campus\, 4920 SW Vermont St\, Portland\, OR\, 97219\, United States
CATEGORIES:Vermont Street
END:VEVENT
BEGIN:VEVENT
DTSTART;TZID=America/Los_Angeles:20160421T153000
DTEND;TZID=America/Los_Angeles:20160421T160500
DTSTAMP:20260425T084731
CREATED:20151008T180502Z
LAST-MODIFIED:20160406T181205Z
UID:2402-1461252600-1461254700@westhills-montessori.com
SUMMARY:Soccer Shots at Lake Oswego
DESCRIPTION:Soccer class for pre-registered students at the Lake Oswego Campus
URL:https://westhills-montessori.com/cal-event/soccer-shots-at-lake-oswego/
LOCATION:Lake Oswego Campus
CATEGORIES:Lake Oswego
END:VEVENT
BEGIN:VEVENT
DTSTART;VALUE=DATE:20160421
DTEND;VALUE=DATE:20160422
DTSTAMP:20260425T084731
CREATED:20160406T184329Z
LAST-MODIFIED:20160406T184348Z
UID:2699-1461196800-1461283199@westhills-montessori.com
SUMMARY:Primary Creative Movement-Vermont Street
DESCRIPTION:Please help your child choose safe shoes for their time with Jumpin’ Joan!
URL:https://westhills-montessori.com/cal-event/creative-movement-for-the-primary-classrooms-2-copy/
LOCATION:Vermont Street Campus\, 4920 SW Vermont Street\, Portland \, OR\, 97219\, United States
CATEGORIES:Vermont Street
END:VEVENT
BEGIN:VEVENT
DTSTART;TZID=America/Los_Angeles:20160420T153000
DTEND;TZID=America/Los_Angeles:20160420T163000
DTSTAMP:20260425T084731
CREATED:20160406T183140Z
LAST-MODIFIED:20160406T183202Z
UID:2696-1461166200-1461169800@westhills-montessori.com
SUMMARY:Spring Drama-Lake Oswego
DESCRIPTION:Drama class for pre-registered students at the Lake Oswego Campus
URL:https://westhills-montessori.com/cal-event/drama-with-liz-at-lake-oswego-2-3-2-copy-2/
LOCATION:Lake Oswego Campus
CATEGORIES:Lake Oswego
END:VEVENT
BEGIN:VEVENT
DTSTART;TZID=America/Los_Angeles:20160420T153000
DTEND;TZID=America/Los_Angeles:20160420T160500
DTSTAMP:20260425T084731
CREATED:20151116T185837Z
LAST-MODIFIED:20160406T182405Z
UID:2548-1461166200-1461168300@westhills-montessori.com
SUMMARY:Soccer Shots-Vermont Street
DESCRIPTION:
URL:https://westhills-montessori.com/cal-event/soccer-shots-10-6/
LOCATION:Vermont Street Campus\, 4920 SW Vermont St\, Portland\, OR\, 97219\, United States
CATEGORIES:Vermont Street
END:VEVENT
BEGIN:VEVENT
DTSTART;TZID=America/Los_Angeles:20160419T163000
DTEND;TZID=America/Los_Angeles:20160419T173000
DTSTAMP:20260425T084731
CREATED:20160406T192716Z
LAST-MODIFIED:20160406T192740Z
UID:2714-1461083400-1461087000@westhills-montessori.com
SUMMARY:Primary Spring Drama-Vermont Street (Late Class)
DESCRIPTION:Primary Drama with Liz at the Vermont Street Campus. Class will be held in the Butterfly Room.
URL:https://westhills-montessori.com/cal-event/primary-drama-vermont-street-copy-copy-2-copy-copy-copy-copy-copy/
LOCATION:Vermont Street Campus\, 4920 SW Vermont St\, Portland\, OR\, 97219\, United States
CATEGORIES:Vermont Street
END:VEVENT
BEGIN:VEVENT
DTSTART;TZID=America/Los_Angeles:20160419T153000
DTEND;TZID=America/Los_Angeles:20160419T163000
DTSTAMP:20260425T084731
CREATED:20160406T191920Z
LAST-MODIFIED:20160406T192100Z
UID:2708-1461079800-1461083400@westhills-montessori.com
SUMMARY:Primary Spring Drama-Vermont Street (Early Class)
DESCRIPTION:Primary Drama with Liz at the Vermont Street Campus. Class will be held in the Butterfly Room.
URL:https://westhills-montessori.com/cal-event/primary-drama-vermont-street-copy-copy-copy/
LOCATION:Vermont Street Campus\, 4920 SW Vermont St\, Portland\, OR\, 97219\, United States
CATEGORIES:Vermont Street
END:VEVENT
BEGIN:VEVENT
DTSTART;TZID=America/Los_Angeles:20160419T153000
DTEND;TZID=America/Los_Angeles:20160419T161500
DTSTAMP:20260425T084731
CREATED:20151006T171804Z
LAST-MODIFIED:20151006T172202Z
UID:2339-1461079800-1461082500@westhills-montessori.com
SUMMARY:Elementary Spanish
DESCRIPTION:Spanish for pre-registered Elementary students in the Sunflower Room.
URL:https://westhills-montessori.com/cal-event/elementary-spanish-6/
LOCATION:Vermont Street Campus
CATEGORIES:Vermont Street
END:VEVENT
BEGIN:VEVENT
DTSTART;TZID=America/Los_Angeles:20160419T153000
DTEND;TZID=America/Los_Angeles:20160419T160000
DTSTAMP:20260425T084731
CREATED:20151105T184754Z
LAST-MODIFIED:20160406T182756Z
UID:2516-1461079800-1461081600@westhills-montessori.com
SUMMARY:Imagination Yoga-Lake Oswego
DESCRIPTION:Yoga class for pre-registered students at the Lake Oswego Campus.
URL:https://westhills-montessori.com/cal-event/imagination-yoga-at-lake-oswego-2-4/
LOCATION:Lake Oswego Campus\, 4515 Parkview Drive\, Lake Oswego\, 97035
CATEGORIES:Lake Oswego
END:VEVENT
BEGIN:VEVENT
DTSTART;VALUE=DATE:20160419
DTEND;VALUE=DATE:20160420
DTSTAMP:20260425T084731
CREATED:20151105T185423Z
LAST-MODIFIED:20160406T182031Z
UID:2522-1461024000-1461110399@westhills-montessori.com
SUMMARY:Creative Movement-Lake Oswego Campus
DESCRIPTION:Please help your child choose safe shoes for their time with Jumpin’ Joan!
URL:https://westhills-montessori.com/cal-event/creative-movement-at-lake-oswego-2/
LOCATION:Lake Oswego Campus\, 4515 Parkview Drive\, Lake Oswego\, 97035
CATEGORIES:Lake Oswego
END:VEVENT
BEGIN:VEVENT
DTSTART;TZID=America/Los_Angeles:20160415T153000
DTEND;TZID=America/Los_Angeles:20160415T161500
DTSTAMP:20260425T084731
CREATED:20151202T195816Z
LAST-MODIFIED:20151202T200707Z
UID:2570-1460734200-1460736900@westhills-montessori.com
SUMMARY:Ukulele Enrichment Class
DESCRIPTION:Ukulele Class for pre-registered Elementary children in the Maple Room with Maria.
URL:https://westhills-montessori.com/cal-event/ukulele-enrichment-class-11/
LOCATION:Vermont Street Campus
CATEGORIES:Vermont Street
END:VEVENT
BEGIN:VEVENT
DTSTART;VALUE=DATE:20160415
DTEND;VALUE=DATE:20160416
DTSTAMP:20260425T084731
CREATED:20160406T181721Z
LAST-MODIFIED:20160406T181721Z
UID:2690-1460678400-1460764799@westhills-montessori.com
SUMMARY:Spring Flower Fundraiser Orders Due
DESCRIPTION:Please bring your completed order form and payment to the front office! Many thanks for your support!
URL:https://westhills-montessori.com/cal-event/spring-flower-fundraiser-orders-due/
LOCATION:OR
CATEGORIES:Lake Oswego,Vermont Street
END:VEVENT
BEGIN:VEVENT
DTSTART;TZID=America/Los_Angeles:20160414T153000
DTEND;TZID=America/Los_Angeles:20160414T161500
DTSTAMP:20260425T084731
CREATED:20151116T183144Z
LAST-MODIFIED:20160406T182421Z
UID:2528-1460647800-1460650500@westhills-montessori.com
SUMMARY:Primary Spanish Class-Vermont Street
DESCRIPTION:Primary Spanish Class in the Maple Room with Maestra Evi and Jordan!
URL:https://westhills-montessori.com/cal-event/primary-spanish-class-13/
LOCATION:Vermont Street Campus\, 4920 SW Vermont Street\, Portland\, 97219
CATEGORIES:Vermont Street
END:VEVENT
BEGIN:VEVENT
DTSTART;TZID=America/Los_Angeles:20160414T153000
DTEND;TZID=America/Los_Angeles:20160414T160500
DTSTAMP:20260425T084731
CREATED:20151116T185840Z
LAST-MODIFIED:20160406T182429Z
UID:2549-1460647800-1460649900@westhills-montessori.com
SUMMARY:Soccer Shots-Vermont Street
DESCRIPTION:
URL:https://westhills-montessori.com/cal-event/soccer-shots-10-7/
LOCATION:Vermont Street Campus\, 4920 SW Vermont Street\, Portland\, 97219
CATEGORIES:Vermont Street
END:VEVENT
BEGIN:VEVENT
DTSTART;TZID=America/Los_Angeles:20160414T153000
DTEND;TZID=America/Los_Angeles:20160414T160500
DTSTAMP:20260425T084731
CREATED:20151008T180746Z
LAST-MODIFIED:20160406T181110Z
UID:2404-1460647800-1460649900@westhills-montessori.com
SUMMARY:Soccer Shots at Lake Oswego
DESCRIPTION:Soccer class for pre-registered students at the Lake Oswego Campus
URL:https://westhills-montessori.com/cal-event/soccer-shots-at-lake-oswego-3/
LOCATION:Lake Oswego Campus
CATEGORIES:Lake Oswego
END:VEVENT
BEGIN:VEVENT
DTSTART;VALUE=DATE:20160414
DTEND;VALUE=DATE:20160415
DTSTAMP:20260425T084731
CREATED:20130821T204842Z
LAST-MODIFIED:20160406T184203Z
UID:1457-1460592000-1460678399@westhills-montessori.com
SUMMARY:Vermont Street CLASS ONLY Photos
DESCRIPTION:
URL:https://westhills-montessori.com/cal-event/spring-class-only-photos-vermont-street/
LOCATION:Vermont Street Campus\, 4920 SW Vermont Street\, Portland \, OR\, 97219\, United States
CATEGORIES:Vermont Street
END:VEVENT
BEGIN:VEVENT
DTSTART;TZID=America/Los_Angeles:20160413T153000
DTEND;TZID=America/Los_Angeles:20160413T163000
DTSTAMP:20260425T084731
CREATED:20151105T185101Z
LAST-MODIFIED:20160406T183119Z
UID:2519-1460561400-1460565000@westhills-montessori.com
SUMMARY:Spring Drama-Lake Oswego
DESCRIPTION:Drama class for pre-registered students at the Lake Oswego Campus
URL:https://westhills-montessori.com/cal-event/drama-with-liz-at-lake-oswego-2-3-2/
LOCATION:Lake Oswego Campus
CATEGORIES:Lake Oswego
END:VEVENT
BEGIN:VEVENT
DTSTART;TZID=America/Los_Angeles:20160413T153000
DTEND;TZID=America/Los_Angeles:20160413T160500
DTSTAMP:20260425T084731
CREATED:20151116T185843Z
LAST-MODIFIED:20160406T182455Z
UID:2550-1460561400-1460563500@westhills-montessori.com
SUMMARY:Soccer Shots-Vermont Street
DESCRIPTION:
URL:https://westhills-montessori.com/cal-event/soccer-shots-10-8/
LOCATION:Vermont Street Campus
CATEGORIES:Vermont Street
END:VEVENT
BEGIN:VEVENT
DTSTART;VALUE=DATE:20160413
DTEND;VALUE=DATE:20160414
DTSTAMP:20260425T084731
CREATED:20130827T214815Z
LAST-MODIFIED:20160406T181407Z
UID:1471-1460505600-1460591999@westhills-montessori.com
SUMMARY:Lake Oswego CLASS ONLY Photos
DESCRIPTION:
URL:https://westhills-montessori.com/cal-event/spring-class-only-photos-lake-oswego/
LOCATION:Lake Oswego Campus\, 4515 Parkview Dr\, Lake Oswego
CATEGORIES:Lake Oswego
END:VEVENT
BEGIN:VEVENT
DTSTART;TZID=America/Los_Angeles:20160412T163000
DTEND;TZID=America/Los_Angeles:20160412T173000
DTSTAMP:20260425T084731
CREATED:20160406T191815Z
LAST-MODIFIED:20160406T192635Z
UID:2702-1460478600-1460482200@westhills-montessori.com
SUMMARY:Primary Spring Drama-Vermont Street (Late Class)
DESCRIPTION:Primary Drama with Liz at the Vermont Street Campus. Class will be held in the Butterfly Room.
URL:https://westhills-montessori.com/cal-event/primary-drama-vermont-street-copy/
LOCATION:Vermont Street Campus\, 4920 SW Vermont St\, Portland\, OR\, 97219\, United States
CATEGORIES:Vermont Street
END:VEVENT
BEGIN:VEVENT
DTSTART;TZID=America/Los_Angeles:20160412T153000
DTEND;TZID=America/Los_Angeles:20160412T163000
DTSTAMP:20260425T084731
CREATED:20160107T183815Z
LAST-MODIFIED:20160406T191752Z
UID:2614-1460475000-1460478600@westhills-montessori.com
SUMMARY:Primary Spring Drama-Vermont Street (Early Class)
DESCRIPTION:Primary Drama with Liz at the Vermont Street Campus. Class will be held in the Butterfly Room.
URL:https://westhills-montessori.com/cal-event/primary-drama-vermont-street/
LOCATION:Vermont Street Campus\, 4920 SW Vermont St\, Portland\, OR\, 97219\, United States
CATEGORIES:Vermont Street
END:VEVENT
BEGIN:VEVENT
DTSTART;TZID=America/Los_Angeles:20160412T153000
DTEND;TZID=America/Los_Angeles:20160412T161500
DTSTAMP:20260425T084731
CREATED:20151006T171810Z
LAST-MODIFIED:20151006T172244Z
UID:2340-1460475000-1460477700@westhills-montessori.com
SUMMARY:Elementary Spanish
DESCRIPTION:Spanish for pre-registered Elementary students in the Sunflower Room.
URL:https://westhills-montessori.com/cal-event/elementary-spanish-7/
LOCATION:Vermont Street Campus
CATEGORIES:Vermont Street
END:VEVENT
END:VCALENDAR