BEGIN:VCALENDAR
VERSION:2.0
PRODID:-//West Hills Montessori School - ECPv6.15.20//NONSGML v1.0//EN
CALSCALE:GREGORIAN
METHOD:PUBLISH
X-WR-CALNAME:West Hills Montessori School
X-ORIGINAL-URL:https://westhills-montessori.com
X-WR-CALDESC:Events for West Hills Montessori School
REFRESH-INTERVAL;VALUE=DURATION:PT1H
X-Robots-Tag:noindex
X-PUBLISHED-TTL:PT1H
BEGIN:VTIMEZONE
TZID:America/Los_Angeles
BEGIN:DAYLIGHT
TZOFFSETFROM:-0800
TZOFFSETTO:-0700
TZNAME:PDT
DTSTART:20150308T100000
END:DAYLIGHT
BEGIN:STANDARD
TZOFFSETFROM:-0700
TZOFFSETTO:-0800
TZNAME:PST
DTSTART:20151101T090000
END:STANDARD
BEGIN:DAYLIGHT
TZOFFSETFROM:-0800
TZOFFSETTO:-0700
TZNAME:PDT
DTSTART:20160313T100000
END:DAYLIGHT
BEGIN:STANDARD
TZOFFSETFROM:-0700
TZOFFSETTO:-0800
TZNAME:PST
DTSTART:20161106T090000
END:STANDARD
BEGIN:DAYLIGHT
TZOFFSETFROM:-0800
TZOFFSETTO:-0700
TZNAME:PDT
DTSTART:20170312T100000
END:DAYLIGHT
BEGIN:STANDARD
TZOFFSETFROM:-0700
TZOFFSETTO:-0800
TZNAME:PST
DTSTART:20171105T090000
END:STANDARD
END:VTIMEZONE
BEGIN:VEVENT
DTSTART;TZID=America/Los_Angeles:20160308T153000
DTEND;TZID=America/Los_Angeles:20160308T161500
DTSTAMP:20260425T073729
CREATED:20151006T171838Z
LAST-MODIFIED:20151006T172525Z
UID:2344-1457451000-1457453700@westhills-montessori.com
SUMMARY:Elementary Spanish
DESCRIPTION:Spanish for pre-registered Elementary students in the Sunflower Room.
URL:https://westhills-montessori.com/cal-event/elementary-spanish-11/
LOCATION:Vermont Street Campus
CATEGORIES:Vermont Street
END:VEVENT
BEGIN:VEVENT
DTSTART;TZID=America/Los_Angeles:20160308T153000
DTEND;TZID=America/Los_Angeles:20160308T160000
DTSTAMP:20260425T073729
CREATED:20160107T185312Z
LAST-MODIFIED:20160107T185431Z
UID:2630-1457451000-1457452800@westhills-montessori.com
SUMMARY:Imagination Yoga-Vermont Street Campus
DESCRIPTION:Please join our Imagination Yoga teacher\, Jamie\, for her Winter yoga session: Calm Curriculum in the Maple Room.
URL:https://westhills-montessori.com/cal-event/imagination-yoga-vermont-street-campus-9/
LOCATION:Vermont Street Campus
CATEGORIES:Vermont Street
END:VEVENT
BEGIN:VEVENT
DTSTART;TZID=America/Los_Angeles:20160306T110000
DTEND;TZID=America/Los_Angeles:20160306T130000
DTSTAMP:20260425T073729
CREATED:20160203T201657Z
LAST-MODIFIED:20160304T201724Z
UID:2649-1457262000-1457269200@westhills-montessori.com
SUMMARY:Vermont Street Campus OPEN HOUSE
DESCRIPTION:We hope you can join us at the Vermont Street Campus on Sunday\, March 6\, 11:00-1:00.  Children are welcome to attend!  Come meet our staff and tour our campus.  All of our primary and Elementary classrooms will be open for you to explore.
URL:https://westhills-montessori.com/cal-event/vermont-street-campus-open-house-children-are-welcome-to-attend/
LOCATION:Vermont Street Campus\, 4920 SW Vermont St\, Portland\, OR\, 97219\, United States
CATEGORIES:New Parents
END:VEVENT
BEGIN:VEVENT
DTSTART;TZID=America/Los_Angeles:20160304T153000
DTEND;TZID=America/Los_Angeles:20160304T161500
DTSTAMP:20260425T073729
CREATED:20151202T195759Z
LAST-MODIFIED:20151202T200407Z
UID:2566-1457105400-1457108100@westhills-montessori.com
SUMMARY:Ukulele Enrichment Class
DESCRIPTION:Ukulele Class for pre-registered Elementary children in the Maple Room with Maria.
URL:https://westhills-montessori.com/cal-event/ukulele-enrichment-class-7/
LOCATION:Vermont Street Campus
CATEGORIES:Vermont Street
END:VEVENT
BEGIN:VEVENT
DTSTART;TZID=America/Los_Angeles:20160303T153000
DTEND;TZID=America/Los_Angeles:20160303T163000
DTSTAMP:20260425T073729
CREATED:20160107T182739Z
LAST-MODIFIED:20160107T183236Z
UID:2606-1457019000-1457022600@westhills-montessori.com
SUMMARY:Elementary Drama with Liz
DESCRIPTION:Drama class for pre-registered students in the Maple Room.
URL:https://westhills-montessori.com/cal-event/elementary-drama-with-liz-2-2/
LOCATION:Vermont Street Campus\, 4920 SW Vermont Street\, Portland\, 97219
CATEGORIES:Vermont Street
END:VEVENT
BEGIN:VEVENT
DTSTART;TZID=America/Los_Angeles:20160303T153000
DTEND;TZID=America/Los_Angeles:20160303T161500
DTSTAMP:20260425T073729
CREATED:20151116T183202Z
LAST-MODIFIED:20151116T183749Z
UID:2533-1457019000-1457021700@westhills-montessori.com
SUMMARY:Primary Spanish Class
DESCRIPTION:Primary Spanish Class in the Maple Room with Maestra Evi and Jordan!
URL:https://westhills-montessori.com/cal-event/primary-spanish-class-18/
LOCATION:Vermont Street Campus\, 4920 SW Vermont Street\, Portland\, 97219
CATEGORIES:Vermont Street
END:VEVENT
BEGIN:VEVENT
DTSTART;TZID=America/Los_Angeles:20160301T163000
DTEND;TZID=America/Los_Angeles:20160301T173000
DTSTAMP:20260425T073729
CREATED:20160208T184712Z
LAST-MODIFIED:20160208T185453Z
UID:2667-1456849800-1456853400@westhills-montessori.com
SUMMARY:Primary Drama at Vermont Street-Late Class
DESCRIPTION:Primary Drama with Liz at the Vermont Street Campus. Class will be held in the Butterfly Room.
URL:https://westhills-montessori.com/cal-event/primary-drama-vermont-street-8-2/
LOCATION:Vermont Street Campus\, 4920 SW Vermont St\, Portland\, OR\, 97219\, United States
CATEGORIES:Vermont Street
END:VEVENT
BEGIN:VEVENT
DTSTART;TZID=America/Los_Angeles:20160301T153000
DTEND;TZID=America/Los_Angeles:20160301T163000
DTSTAMP:20260425T073729
CREATED:20160107T183957Z
LAST-MODIFIED:20160107T184430Z
UID:2621-1456846200-1456849800@westhills-montessori.com
SUMMARY:Primary Drama at Vermont Street
DESCRIPTION:Primary Drama with Liz at the Vermont Street Campus. Class will be held in the Butterfly Room.
URL:https://westhills-montessori.com/cal-event/primary-drama-vermont-street-8/
LOCATION:Vermont Street Campus\, 4920 SW Vermont St\, Portland\, OR\, 97219\, United States
CATEGORIES:Vermont Street
END:VEVENT
BEGIN:VEVENT
DTSTART;TZID=America/Los_Angeles:20160301T153000
DTEND;TZID=America/Los_Angeles:20160301T161500
DTSTAMP:20260425T073729
CREATED:20151006T171843Z
LAST-MODIFIED:20151006T172559Z
UID:2345-1456846200-1456848900@westhills-montessori.com
SUMMARY:Elementary Spanish
DESCRIPTION:Spanish for pre-registered Elementary students in the Sunflower Room.
URL:https://westhills-montessori.com/cal-event/elementary-spanish-12/
LOCATION:Vermont Street Campus
CATEGORIES:Vermont Street
END:VEVENT
BEGIN:VEVENT
DTSTART;TZID=America/Los_Angeles:20160301T153000
DTEND;TZID=America/Los_Angeles:20160301T160000
DTSTAMP:20260425T073729
CREATED:20160107T185305Z
LAST-MODIFIED:20160107T185525Z
UID:2629-1456846200-1456848000@westhills-montessori.com
SUMMARY:Imagination Yoga-Vermont Street Campus
DESCRIPTION:Please join our Imagination Yoga teacher\, Jamie\, for her Winter yoga session: Calm Curriculum in the Maple Room.
URL:https://westhills-montessori.com/cal-event/imagination-yoga-vermont-street-campus-8/
LOCATION:Vermont Street Campus
CATEGORIES:Vermont Street
END:VEVENT
BEGIN:VEVENT
DTSTART;TZID=America/Los_Angeles:20160226T153000
DTEND;TZID=America/Los_Angeles:20160226T161500
DTSTAMP:20260425T073729
CREATED:20151202T195756Z
LAST-MODIFIED:20151202T200329Z
UID:2565-1456500600-1456503300@westhills-montessori.com
SUMMARY:Ukulele Enrichment Class
DESCRIPTION:Ukulele Class for pre-registered Elementary children in the Maple Room with Maria.
URL:https://westhills-montessori.com/cal-event/ukulele-enrichment-class-6/
LOCATION:Vermont Street Campus
CATEGORIES:Vermont Street
END:VEVENT
BEGIN:VEVENT
DTSTART;TZID=America/Los_Angeles:20160225T183000
DTEND;TZID=America/Los_Angeles:20160225T193000
DTSTAMP:20260425T073729
CREATED:20160112T203521Z
LAST-MODIFIED:20160204T165133Z
UID:2636-1456425000-1456428600@westhills-montessori.com
SUMMARY:Preschool: The Montessori Advantage (Vermont Street Campus)
DESCRIPTION:Prospective parents are invited to join us to learn more about Montessori and our school! \n*This is a parent-only event
URL:https://westhills-montessori.com/cal-event/preschool-the-montessori-advantage-2-2/
LOCATION:Vermont Street Campus\, 4920 SW Vermont Street\, Portland\, 97219
CATEGORIES:New Parents,Vermont Street
END:VEVENT
BEGIN:VEVENT
DTSTART;TZID=America/Los_Angeles:20160225T153000
DTEND;TZID=America/Los_Angeles:20160225T163000
DTSTAMP:20260425T073729
CREATED:20160107T182743Z
LAST-MODIFIED:20160107T183157Z
UID:2607-1456414200-1456417800@westhills-montessori.com
SUMMARY:Elementary Drama with Liz
DESCRIPTION:Drama class for pre-registered students in the Maple Room.
URL:https://westhills-montessori.com/cal-event/elementary-drama-with-liz-2-3/
LOCATION:Vermont Street Campus\, 4920 SW Vermont Street\, Portland\, 97219
CATEGORIES:Vermont Street
END:VEVENT
BEGIN:VEVENT
DTSTART;TZID=America/Los_Angeles:20160225T153000
DTEND;TZID=America/Los_Angeles:20160225T161500
DTSTAMP:20260425T073729
CREATED:20151116T183205Z
LAST-MODIFIED:20151116T183825Z
UID:2534-1456414200-1456416900@westhills-montessori.com
SUMMARY:Primary Spanish Class
DESCRIPTION:Primary Spanish Class in the Maple Room with Maestra Evi and Jordan!
URL:https://westhills-montessori.com/cal-event/primary-spanish-class-19/
LOCATION:Vermont Street Campus\, 4920 SW Vermont Street\, Portland\, 97219
CATEGORIES:Vermont Street
END:VEVENT
BEGIN:VEVENT
DTSTART;TZID=America/Los_Angeles:20160224T183000
DTEND;TZID=America/Los_Angeles:20160224T193000
DTSTAMP:20260425T073729
CREATED:20160112T203527Z
LAST-MODIFIED:20160204T165225Z
UID:2637-1456338600-1456342200@westhills-montessori.com
SUMMARY:Preschool: The Montessori Advantage (Lake Oswego Campus)
DESCRIPTION:Prospective parents are invited to join us to learn more about Montessori and our school! \n*This is a parent-only event
URL:https://westhills-montessori.com/cal-event/preschool-the-montessori-advantage-3/
LOCATION:Lake Oswego Campus
CATEGORIES:Lake Oswego,New Parents
END:VEVENT
BEGIN:VEVENT
DTSTART;VALUE=DATE:20160224
DTEND;VALUE=DATE:20160225
DTSTAMP:20260425T073729
CREATED:20160208T184449Z
LAST-MODIFIED:20160208T184449Z
UID:2662-1456272000-1456358399@westhills-montessori.com
SUMMARY:Application packets go out to new families
DESCRIPTION:Are you registered yet?
URL:https://westhills-montessori.com/cal-event/application-packets-go-out-to-new-families/
CATEGORIES:Lake Oswego,New Parents,Vermont Street
END:VEVENT
BEGIN:VEVENT
DTSTART;TZID=America/Los_Angeles:20160223T163000
DTEND;TZID=America/Los_Angeles:20160223T173000
DTSTAMP:20260425T073729
CREATED:20160208T184738Z
LAST-MODIFIED:20160208T185357Z
UID:2669-1456245000-1456248600@westhills-montessori.com
SUMMARY:Primary Drama at Vermont Street-Late Class
DESCRIPTION:Primary Drama with Liz at the Vermont Street Campus. Class will be held in the Butterfly Room.
URL:https://westhills-montessori.com/cal-event/primary-drama-vermont-street-7-2/
LOCATION:Vermont Street Campus\, 4920 SW Vermont St\, Portland\, OR\, 97219\, United States
CATEGORIES:Vermont Street
END:VEVENT
BEGIN:VEVENT
DTSTART;TZID=America/Los_Angeles:20160223T153000
DTEND;TZID=America/Los_Angeles:20160223T163000
DTSTAMP:20260425T073729
CREATED:20160107T183951Z
LAST-MODIFIED:20160107T184254Z
UID:2620-1456241400-1456245000@westhills-montessori.com
SUMMARY:Primary Drama at Vermont Street
DESCRIPTION:Primary Drama with Liz at the Vermont Street Campus. Class will be held in the Butterfly Room.
URL:https://westhills-montessori.com/cal-event/primary-drama-vermont-street-7/
LOCATION:Vermont Street Campus\, 4920 SW Vermont St\, Portland\, OR\, 97219\, United States
CATEGORIES:Vermont Street
END:VEVENT
BEGIN:VEVENT
DTSTART;TZID=America/Los_Angeles:20160223T153000
DTEND;TZID=America/Los_Angeles:20160223T161500
DTSTAMP:20260425T073729
CREATED:20151006T171848Z
LAST-MODIFIED:20151006T172642Z
UID:2346-1456241400-1456244100@westhills-montessori.com
SUMMARY:Elementary Spanish
DESCRIPTION:Spanish for pre-registered Elementary students in the Sunflower Room.
URL:https://westhills-montessori.com/cal-event/elementary-spanish-13/
LOCATION:Vermont Street Campus
CATEGORIES:Vermont Street
END:VEVENT
BEGIN:VEVENT
DTSTART;TZID=America/Los_Angeles:20160223T153000
DTEND;TZID=America/Los_Angeles:20160223T160000
DTSTAMP:20260425T073729
CREATED:20160107T185257Z
LAST-MODIFIED:20160107T185633Z
UID:2628-1456241400-1456243200@westhills-montessori.com
SUMMARY:Imagination Yoga-Vermont Street Campus
DESCRIPTION:Please join our Imagination Yoga teacher\, Jamie\, for her Winter yoga session: Calm Curriculum in the Maple Room.
URL:https://westhills-montessori.com/cal-event/imagination-yoga-vermont-street-campus-7/
LOCATION:Vermont Street Campus
CATEGORIES:Vermont Street
END:VEVENT
BEGIN:VEVENT
DTSTART;VALUE=DATE:20160222
DTEND;VALUE=DATE:20160223
DTSTAMP:20260425T073729
CREATED:20150818T224313Z
LAST-MODIFIED:20150818T224559Z
UID:2195-1456099200-1456185599@westhills-montessori.com
SUMMARY:Parent/Teacher Conferences/No Classes
DESCRIPTION:Limited childcare available (7:15-6:00). Please pre-register!
URL:https://westhills-montessori.com/cal-event/parentteacher-conferences-5-3/
LOCATION:Vermont Street/Lake Oswego Campuses
CATEGORIES:Lake Oswego,Vermont Street
END:VEVENT
BEGIN:VEVENT
DTSTART;VALUE=DATE:20160219
DTEND;VALUE=DATE:20160220
DTSTAMP:20260425T073729
CREATED:20150818T224244Z
LAST-MODIFIED:20150818T224515Z
UID:2194-1455840000-1455926399@westhills-montessori.com
SUMMARY:Parent/Teacher Conferences/No Classes
DESCRIPTION:Limited childcare available (7:15-6:00). Please pre-register!
URL:https://westhills-montessori.com/cal-event/parentteacher-conferences-5-2/
LOCATION:Vermont Street/Lake Oswego Campuses
CATEGORIES:Lake Oswego,Vermont Street
END:VEVENT
BEGIN:VEVENT
DTSTART;TZID=America/Los_Angeles:20160218T153000
DTEND;TZID=America/Los_Angeles:20160218T163000
DTSTAMP:20260425T073729
CREATED:20160107T182749Z
LAST-MODIFIED:20160107T183111Z
UID:2608-1455809400-1455813000@westhills-montessori.com
SUMMARY:Elementary Drama with Liz
DESCRIPTION:Drama class for pre-registered students in the Maple Room.
URL:https://westhills-montessori.com/cal-event/elementary-drama-with-liz-2-4/
LOCATION:Vermont Street Campus\, 4920 SW Vermont Street\, Portland\, 97219
CATEGORIES:Vermont Street
END:VEVENT
BEGIN:VEVENT
DTSTART;TZID=America/Los_Angeles:20160218T153000
DTEND;TZID=America/Los_Angeles:20160218T161500
DTSTAMP:20260425T073729
CREATED:20151116T183208Z
LAST-MODIFIED:20151116T183858Z
UID:2535-1455809400-1455812100@westhills-montessori.com
SUMMARY:Primary Spanish Class
DESCRIPTION:Primary Spanish Class in the Maple Room with Maestra Evi and Jordan!
URL:https://westhills-montessori.com/cal-event/primary-spanish-class-20/
LOCATION:Vermont Street Campus\, 4920 SW Vermont Street\, Portland\, 97219
CATEGORIES:Vermont Street
END:VEVENT
BEGIN:VEVENT
DTSTART;TZID=America/Los_Angeles:20160216T163000
DTEND;TZID=America/Los_Angeles:20160216T173000
DTSTAMP:20260425T073729
CREATED:20160208T184729Z
LAST-MODIFIED:20160208T184956Z
UID:2668-1455640200-1455643800@westhills-montessori.com
SUMMARY:Primary Drama at Vermont Street-Late Class
DESCRIPTION:Primary Drama with Liz at the Vermont Street Campus. Class will be held in the Butterfly Room.
URL:https://westhills-montessori.com/cal-event/primary-drama-vermont-street-6-2/
LOCATION:Vermont Street Campus\, 4920 SW Vermont St\, Portland\, OR\, 97219\, United States
CATEGORIES:Vermont Street
END:VEVENT
BEGIN:VEVENT
DTSTART;TZID=America/Los_Angeles:20160216T153000
DTEND;TZID=America/Los_Angeles:20160216T163000
DTSTAMP:20260425T073729
CREATED:20160107T183944Z
LAST-MODIFIED:20160107T184357Z
UID:2619-1455636600-1455640200@westhills-montessori.com
SUMMARY:Primary Drama at Vermont Street
DESCRIPTION:Primary Drama with Liz at the Vermont Street Campus. Class will be held in the Butterfly Room.
URL:https://westhills-montessori.com/cal-event/primary-drama-vermont-street-6/
LOCATION:Vermont Street Campus\, 4920 SW Vermont St\, Portland\, OR\, 97219\, United States
CATEGORIES:Vermont Street
END:VEVENT
BEGIN:VEVENT
DTSTART;TZID=America/Los_Angeles:20160216T153000
DTEND;TZID=America/Los_Angeles:20160216T161500
DTSTAMP:20260425T073729
CREATED:20151006T172721Z
LAST-MODIFIED:20151006T172944Z
UID:2347-1455636600-1455639300@westhills-montessori.com
SUMMARY:Elementary Spanish
DESCRIPTION:Spanish for pre-registered Elementary students in the Sunflower Room.
URL:https://westhills-montessori.com/cal-event/elementary-spanish-13-2/
LOCATION:Vermont Street Campus
CATEGORIES:Vermont Street
END:VEVENT
BEGIN:VEVENT
DTSTART;TZID=America/Los_Angeles:20160216T153000
DTEND;TZID=America/Los_Angeles:20160216T160000
DTSTAMP:20260425T073729
CREATED:20160107T185251Z
LAST-MODIFIED:20160107T185711Z
UID:2627-1455636600-1455638400@westhills-montessori.com
SUMMARY:Imagination Yoga-Vermont Street Campus
DESCRIPTION:Please join our Imagination Yoga teacher\, Jamie\, for her Winter yoga session: Calm Curriculum in the Maple Room.
URL:https://westhills-montessori.com/cal-event/imagination-yoga-vermont-street-campus-6/
LOCATION:Vermont Street Campus
CATEGORIES:Vermont Street
END:VEVENT
BEGIN:VEVENT
DTSTART;VALUE=DATE:20160215
DTEND;VALUE=DATE:20160216
DTSTAMP:20260425T073729
CREATED:20150818T225541Z
LAST-MODIFIED:20150818T225541Z
UID:2204-1455494400-1455580799@westhills-montessori.com
SUMMARY:President's Day/School Closed
DESCRIPTION:
URL:https://westhills-montessori.com/cal-event/presidents-dayschool-closed-3/
LOCATION:Vermont Street/Lake Oswego Campuses
CATEGORIES:Lake Oswego,Vermont Street
END:VEVENT
BEGIN:VEVENT
DTSTART;TZID=America/Los_Angeles:20160212T153000
DTEND;TZID=America/Los_Angeles:20160212T161500
DTSTAMP:20260425T073729
CREATED:20151202T195753Z
LAST-MODIFIED:20151202T200142Z
UID:2564-1455291000-1455293700@westhills-montessori.com
SUMMARY:Ukulele Enrichment Class
DESCRIPTION:Ukulele Class for pre-registered Elementary children in the Maple Room with Maria.
URL:https://westhills-montessori.com/cal-event/ukulele-enrichment-class-5/
LOCATION:Vermont Street Campus
CATEGORIES:Vermont Street
END:VEVENT
END:VCALENDAR