BEGIN:VCALENDAR
VERSION:2.0
PRODID:-//West Hills Montessori School - ECPv6.15.20//NONSGML v1.0//EN
CALSCALE:GREGORIAN
METHOD:PUBLISH
X-WR-CALNAME:West Hills Montessori School
X-ORIGINAL-URL:https://westhills-montessori.com
X-WR-CALDESC:Events for West Hills Montessori School
REFRESH-INTERVAL;VALUE=DURATION:PT1H
X-Robots-Tag:noindex
X-PUBLISHED-TTL:PT1H
BEGIN:VTIMEZONE
TZID:America/Los_Angeles
BEGIN:DAYLIGHT
TZOFFSETFROM:-0800
TZOFFSETTO:-0700
TZNAME:PDT
DTSTART:20150308T100000
END:DAYLIGHT
BEGIN:STANDARD
TZOFFSETFROM:-0700
TZOFFSETTO:-0800
TZNAME:PST
DTSTART:20151101T090000
END:STANDARD
BEGIN:DAYLIGHT
TZOFFSETFROM:-0800
TZOFFSETTO:-0700
TZNAME:PDT
DTSTART:20160313T100000
END:DAYLIGHT
BEGIN:STANDARD
TZOFFSETFROM:-0700
TZOFFSETTO:-0800
TZNAME:PST
DTSTART:20161106T090000
END:STANDARD
BEGIN:DAYLIGHT
TZOFFSETFROM:-0800
TZOFFSETTO:-0700
TZNAME:PDT
DTSTART:20170312T100000
END:DAYLIGHT
BEGIN:STANDARD
TZOFFSETFROM:-0700
TZOFFSETTO:-0800
TZNAME:PST
DTSTART:20171105T090000
END:STANDARD
END:VTIMEZONE
BEGIN:VEVENT
DTSTART;TZID=America/Los_Angeles:20160205T153000
DTEND;TZID=America/Los_Angeles:20160205T161500
DTSTAMP:20260425T202826
CREATED:20151202T195751Z
LAST-MODIFIED:20151202T200013Z
UID:2563-1454686200-1454688900@westhills-montessori.com
SUMMARY:Ukulele Enrichment Class
DESCRIPTION:Ukulele Class for pre-registered Elementary children in the Maple Room with Maria.
URL:https://westhills-montessori.com/cal-event/ukulele-enrichment-class-4/
LOCATION:Vermont Street Campus
CATEGORIES:Vermont Street
END:VEVENT
BEGIN:VEVENT
DTSTART;TZID=America/Los_Angeles:20160204T153000
DTEND;TZID=America/Los_Angeles:20160204T163000
DTSTAMP:20260425T202826
CREATED:20160107T182759Z
LAST-MODIFIED:20160107T182951Z
UID:2610-1454599800-1454603400@westhills-montessori.com
SUMMARY:Elementary Drama with Liz
DESCRIPTION:Drama class for pre-registered students in the Maple Room.
URL:https://westhills-montessori.com/cal-event/elementary-drama-with-liz-2-6/
LOCATION:Vermont Street Campus\, 4920 SW Vermont Street\, Portland\, 97219
CATEGORIES:Vermont Street
END:VEVENT
BEGIN:VEVENT
DTSTART;TZID=America/Los_Angeles:20160204T153000
DTEND;TZID=America/Los_Angeles:20160204T161500
DTSTAMP:20260425T202826
CREATED:20151116T183219Z
LAST-MODIFIED:20151116T184041Z
UID:2538-1454599800-1454602500@westhills-montessori.com
SUMMARY:Primary Spanish Class
DESCRIPTION:Primary Spanish Class in the Maple Room with Maestra Evi and Jordan!
URL:https://westhills-montessori.com/cal-event/primary-spanish-class-23/
LOCATION:Vermont Street Campus\, 4920 SW Vermont Street\, Portland\, 97219
CATEGORIES:Vermont Street
END:VEVENT
BEGIN:VEVENT
DTSTART;TZID=America/Los_Angeles:20160202T153000
DTEND;TZID=America/Los_Angeles:20160202T163000
DTSTAMP:20260425T202826
CREATED:20160107T183932Z
LAST-MODIFIED:20160107T184616Z
UID:2617-1454427000-1454430600@westhills-montessori.com
SUMMARY:Primary Drama at Vermont Street
DESCRIPTION:Primary Drama with Liz at the Vermont Street Campus. Class will be held in the Butterfly Room.
URL:https://westhills-montessori.com/cal-event/primary-drama-vermont-street-4/
LOCATION:Vermont Street Campus\, 4920 SW Vermont St\, Portland\, OR\, 97219\, United States
CATEGORIES:Vermont Street
END:VEVENT
BEGIN:VEVENT
DTSTART;TZID=America/Los_Angeles:20160202T153000
DTEND;TZID=America/Los_Angeles:20160202T161500
DTSTAMP:20260425T202826
CREATED:20151006T172731Z
LAST-MODIFIED:20151006T173117Z
UID:2349-1454427000-1454429700@westhills-montessori.com
SUMMARY:Elementary Spanish
DESCRIPTION:Spanish for pre-registered Elementary students in the Sunflower Room.
URL:https://westhills-montessori.com/cal-event/elementary-spanish-13-4/
LOCATION:Vermont Street Campus
CATEGORIES:Vermont Street
END:VEVENT
BEGIN:VEVENT
DTSTART;TZID=America/Los_Angeles:20160202T153000
DTEND;TZID=America/Los_Angeles:20160202T160000
DTSTAMP:20260425T202826
CREATED:20160107T185221Z
LAST-MODIFIED:20160107T190053Z
UID:2624-1454427000-1454428800@westhills-montessori.com
SUMMARY:Imagination Yoga-Vermont Street Campus
DESCRIPTION:Please join our Imagination Yoga teacher\, Jamie\, for her Winter yoga session: Calm Curriculum in the Maple Room.
URL:https://westhills-montessori.com/cal-event/imagination-yoga-vermont-street-campus-3/
LOCATION:Vermont Street Campus
CATEGORIES:Vermont Street
END:VEVENT
BEGIN:VEVENT
DTSTART;VALUE=DATE:20160129
DTEND;VALUE=DATE:20160130
DTSTAMP:20260425T202826
CREATED:20150818T225455Z
LAST-MODIFIED:20150818T225455Z
UID:2203-1454025600-1454111999@westhills-montessori.com
SUMMARY:Teachers' In-Service/School Closed
DESCRIPTION:
URL:https://westhills-montessori.com/cal-event/teachers-in-serviceschool-closed/
LOCATION:Vermont Street/Lake Oswego Campuses
CATEGORIES:Lake Oswego,Vermont Street
END:VEVENT
BEGIN:VEVENT
DTSTART;TZID=America/Los_Angeles:20160128T183000
DTEND;TZID=America/Los_Angeles:20160128T193000
DTSTAMP:20260425T202826
CREATED:20160107T180122Z
LAST-MODIFIED:20160107T180122Z
UID:2603-1454005800-1454009400@westhills-montessori.com
SUMMARY:Preschool: The Montessori Advantage
DESCRIPTION:Do you know any family members or friends that are interested in what Montessori is all about? Please share this event with them! \n*This is a parent-only event
URL:https://westhills-montessori.com/cal-event/preschool-the-montessori-advantage/
LOCATION:Lake Oswego Campus
CATEGORIES:Lake Oswego,Vermont Street
END:VEVENT
BEGIN:VEVENT
DTSTART;TZID=America/Los_Angeles:20160128T153000
DTEND;TZID=America/Los_Angeles:20160128T163000
DTSTAMP:20260425T202826
CREATED:20160107T182805Z
LAST-MODIFIED:20160107T182912Z
UID:2611-1453995000-1453998600@westhills-montessori.com
SUMMARY:Elementary Drama with Liz
DESCRIPTION:Drama class for pre-registered students in the Maple Room.
URL:https://westhills-montessori.com/cal-event/elementary-drama-with-liz-2-7/
LOCATION:Vermont Street Campus\, 4920 SW Vermont Street\, Portland\, 97219
CATEGORIES:Vermont Street
END:VEVENT
BEGIN:VEVENT
DTSTART;TZID=America/Los_Angeles:20160128T153000
DTEND;TZID=America/Los_Angeles:20160128T163000
DTSTAMP:20260425T202826
CREATED:20131213T195235Z
LAST-MODIFIED:20160112T193301Z
UID:1586-1453995000-1453998600@westhills-montessori.com
SUMMARY:Elementary Open House for Prospective Parents
DESCRIPTION:We hope you can join us at the Elementary Open House! Tour our Elementary classrooms and meet the staff!
URL:https://westhills-montessori.com/cal-event/open-house-prospective-parents/
LOCATION:Vermont Street Campus\, 4920 SW Vermont Street\, Portland\, 97219
CATEGORIES:Lake Oswego,Vermont Street
END:VEVENT
BEGIN:VEVENT
DTSTART;TZID=America/Los_Angeles:20160128T153000
DTEND;TZID=America/Los_Angeles:20160128T161500
DTSTAMP:20260425T202826
CREATED:20151116T183222Z
LAST-MODIFIED:20151116T184224Z
UID:2539-1453995000-1453997700@westhills-montessori.com
SUMMARY:Primary Spanish Class
DESCRIPTION:Primary Spanish Class in the Maple Room with Maestra Evi and Jordan!
URL:https://westhills-montessori.com/cal-event/primary-spanish-class-24/
LOCATION:Vermont Street Campus\, 4920 SW Vermont Street\, Portland\, 97219
CATEGORIES:Vermont Street
END:VEVENT
BEGIN:VEVENT
DTSTART;TZID=America/Los_Angeles:20160127T183000
DTEND;TZID=America/Los_Angeles:20160127T193000
DTSTAMP:20260425T202826
CREATED:20160112T192751Z
LAST-MODIFIED:20160112T192901Z
UID:2634-1453919400-1453923000@westhills-montessori.com
SUMMARY:Preschool: The Montessori Advantage
DESCRIPTION:Do you know any family members or friends that are interested in what Montessori is all about? Please share this event with them! \n*This is a parent-only event
URL:https://westhills-montessori.com/cal-event/preschool-the-montessori-advantage-2/
LOCATION:Vermont Street Campus\, 4920 SW Vermont Street\, Portland\, 97219
CATEGORIES:Lake Oswego,Vermont Street
END:VEVENT
BEGIN:VEVENT
DTSTART;TZID=America/Los_Angeles:20160126T153000
DTEND;TZID=America/Los_Angeles:20160126T163000
DTSTAMP:20260425T202826
CREATED:20160107T183926Z
LAST-MODIFIED:20160107T184736Z
UID:2616-1453822200-1453825800@westhills-montessori.com
SUMMARY:Primary Drama at Vermont Street
DESCRIPTION:Primary Drama with Liz at the Vermont Street Campus. Class will be held in the Butterfly Room.
URL:https://westhills-montessori.com/cal-event/primary-drama-vermont-street-3/
LOCATION:Vermont Street Campus\, 4920 SW Vermont St\, Portland\, OR\, 97219\, United States
CATEGORIES:Vermont Street
END:VEVENT
BEGIN:VEVENT
DTSTART;TZID=America/Los_Angeles:20160126T153000
DTEND;TZID=America/Los_Angeles:20160126T161500
DTSTAMP:20260425T202826
CREATED:20151006T172737Z
LAST-MODIFIED:20151006T173159Z
UID:2350-1453822200-1453824900@westhills-montessori.com
SUMMARY:Elementary Spanish
DESCRIPTION:Spanish for pre-registered Elementary students in the Sunflower Room.
URL:https://westhills-montessori.com/cal-event/elementary-spanish-13-5/
LOCATION:Vermont Street Campus
CATEGORIES:Vermont Street
END:VEVENT
BEGIN:VEVENT
DTSTART;TZID=America/Los_Angeles:20160126T153000
DTEND;TZID=America/Los_Angeles:20160126T160000
DTSTAMP:20260425T202826
CREATED:20160107T185244Z
LAST-MODIFIED:20160107T190125Z
UID:2626-1453822200-1453824000@westhills-montessori.com
SUMMARY:Imagination Yoga-Vermont Street Campus
DESCRIPTION:Please join our Imagination Yoga teacher\, Jamie\, for her Winter yoga session: Calm Curriculum in the Maple Room.
URL:https://westhills-montessori.com/cal-event/imagination-yoga-vermont-street-campus-5/
LOCATION:Vermont Street Campus
CATEGORIES:Vermont Street
END:VEVENT
BEGIN:VEVENT
DTSTART;TZID=America/Los_Angeles:20160122T153000
DTEND;TZID=America/Los_Angeles:20160122T161500
DTSTAMP:20260425T202826
CREATED:20151202T195748Z
LAST-MODIFIED:20151202T195938Z
UID:2562-1453476600-1453479300@westhills-montessori.com
SUMMARY:Ukulele Enrichment Class
DESCRIPTION:Ukulele Class for pre-registered Elementary children in the Maple Room with Maria.
URL:https://westhills-montessori.com/cal-event/ukulele-enrichment-class-3/
LOCATION:Vermont Street Campus
CATEGORIES:Vermont Street
END:VEVENT
BEGIN:VEVENT
DTSTART;TZID=America/Los_Angeles:20160121T180000
DTEND;TZID=America/Los_Angeles:20160121T190000
DTSTAMP:20260425T202826
CREATED:20151208T004301Z
LAST-MODIFIED:20151208T004724Z
UID:2586-1453399200-1453402800@westhills-montessori.com
SUMMARY:Cedar Room Family Peace Celebration
DESCRIPTION:
URL:https://westhills-montessori.com/cal-event/cedar-room-family-peace-celebration/
LOCATION:Vermont Street Campus
CATEGORIES:Vermont Street
END:VEVENT
BEGIN:VEVENT
DTSTART;TZID=America/Los_Angeles:20160121T153000
DTEND;TZID=America/Los_Angeles:20160121T163000
DTSTAMP:20260425T202826
CREATED:20160107T182813Z
LAST-MODIFIED:20160107T182835Z
UID:2612-1453390200-1453393800@westhills-montessori.com
SUMMARY:Elementary Drama with Liz
DESCRIPTION:Drama class for pre-registered students in the Maple Room.
URL:https://westhills-montessori.com/cal-event/elementary-drama-with-liz-2-8/
LOCATION:Vermont Street Campus\, 4920 SW Vermont Street\, Portland\, 97219
CATEGORIES:Vermont Street
END:VEVENT
BEGIN:VEVENT
DTSTART;TZID=America/Los_Angeles:20160121T153000
DTEND;TZID=America/Los_Angeles:20160121T161500
DTSTAMP:20260425T202826
CREATED:20151116T183225Z
LAST-MODIFIED:20151116T184258Z
UID:2540-1453390200-1453392900@westhills-montessori.com
SUMMARY:Primary Spanish Class
DESCRIPTION:Primary Spanish Class in the Maple Room with Maestra Evi and Jordan!
URL:https://westhills-montessori.com/cal-event/primary-spanish-class-25/
LOCATION:Vermont Street Campus\, 4920 SW Vermont Street\, Portland\, 97219
CATEGORIES:Vermont Street
END:VEVENT
BEGIN:VEVENT
DTSTART;TZID=America/Los_Angeles:20160120T091500
DTEND;TZID=America/Los_Angeles:20160120T101500
DTSTAMP:20260425T202826
CREATED:20151007T183736Z
LAST-MODIFIED:20160112T192542Z
UID:2389-1453281300-1453284900@westhills-montessori.com
SUMMARY:Parent/Guide Open Forum
DESCRIPTION:Join Delila Olsson and Allison Bjork from 9:15-10:15 in the West Building Rainbow Room. \nTopic: Easing your child back into routines
URL:https://westhills-montessori.com/cal-event/parentguide-open-forum/
LOCATION:Vermont Street Campus\, 4920 SW Vermont Street\, Portland\, 97219
CATEGORIES:Lake Oswego,Vermont Street
END:VEVENT
BEGIN:VEVENT
DTSTART;TZID=America/Los_Angeles:20160119T153000
DTEND;TZID=America/Los_Angeles:20160119T163000
DTSTAMP:20260425T202826
CREATED:20160107T183923Z
LAST-MODIFIED:20160107T184817Z
UID:2615-1453217400-1453221000@westhills-montessori.com
SUMMARY:Primary Drama at Vermont Street
DESCRIPTION:Primary Drama with Liz at the Vermont Street Campus. Class will be held in the Butterfly Room.
URL:https://westhills-montessori.com/cal-event/primary-drama-vermont-street-2/
LOCATION:Vermont Street Campus\, 4920 SW Vermont St\, Portland\, OR\, 97219\, United States
CATEGORIES:Vermont Street
END:VEVENT
BEGIN:VEVENT
DTSTART;TZID=America/Los_Angeles:20160119T153000
DTEND;TZID=America/Los_Angeles:20160119T161500
DTSTAMP:20260425T202826
CREATED:20151006T172743Z
LAST-MODIFIED:20151006T173236Z
UID:2351-1453217400-1453220100@westhills-montessori.com
SUMMARY:Elementary Spanish
DESCRIPTION:Spanish for pre-registered Elementary students in the Sunflower Room.
URL:https://westhills-montessori.com/cal-event/elementary-spanish-13-6/
LOCATION:Vermont Street Campus
CATEGORIES:Vermont Street
END:VEVENT
BEGIN:VEVENT
DTSTART;TZID=America/Los_Angeles:20160119T153000
DTEND;TZID=America/Los_Angeles:20160119T160000
DTSTAMP:20260425T202826
CREATED:20160107T185225Z
LAST-MODIFIED:20160107T190209Z
UID:2625-1453217400-1453219200@westhills-montessori.com
SUMMARY:Imagination Yoga-Vermont Street Campus
DESCRIPTION:Please join our Imagination Yoga teacher\, Jamie\, for her Winter yoga session: Calm Curriculum in the Maple Room.
URL:https://westhills-montessori.com/cal-event/imagination-yoga-vermont-street-campus-4/
LOCATION:Vermont Street Campus
CATEGORIES:Vermont Street
END:VEVENT
BEGIN:VEVENT
DTSTART;TZID=America/Los_Angeles:20160119T153000
DTEND;TZID=America/Los_Angeles:20160119T160000
DTSTAMP:20260425T202826
CREATED:20151105T184757Z
LAST-MODIFIED:20160107T174010Z
UID:2517-1453217400-1453219200@westhills-montessori.com
SUMMARY:Imagination Yoga at Lake Oswego
DESCRIPTION:Yoga class for pre-registered students at the Lake Oswego Campus.
URL:https://westhills-montessori.com/cal-event/imagination-yoga-at-lake-oswego-2-5/
LOCATION:Lake Oswego Campus\, 4515 Parkview Drive\, Lake Oswego\, 97035
CATEGORIES:Lake Oswego
END:VEVENT
BEGIN:VEVENT
DTSTART;TZID=America/Los_Angeles:20160119T091500
DTEND;TZID=America/Los_Angeles:20160119T101500
DTSTAMP:20260425T202826
CREATED:20151123T175739Z
LAST-MODIFIED:20151123T175739Z
UID:2558-1453194900-1453198500@westhills-montessori.com
SUMMARY:Maple Room Celebration of Peace
DESCRIPTION:All Maple Room parents are invited to this special classroom event.
URL:https://westhills-montessori.com/cal-event/maple-room-celebration-of-peace/
LOCATION:Vermont Street Campus\, 4920 SW Vermont Street\, Portland\, 97219
CATEGORIES:Vermont Street
END:VEVENT
BEGIN:VEVENT
DTSTART;VALUE=DATE:20160118
DTEND;VALUE=DATE:20160119
DTSTAMP:20260425T202826
CREATED:20150818T225345Z
LAST-MODIFIED:20150818T225345Z
UID:2202-1453075200-1453161599@westhills-montessori.com
SUMMARY:Martin Luther King Jr. Day/School Closed
DESCRIPTION:
URL:https://westhills-montessori.com/cal-event/martin-luther-king-jr-dayschool-closed-2/
LOCATION:Vermont Street/Lake Oswego Campuses
CATEGORIES:Lake Oswego,Vermont Street
END:VEVENT
BEGIN:VEVENT
DTSTART;TZID=America/Los_Angeles:20160115T153000
DTEND;TZID=America/Los_Angeles:20160115T161500
DTSTAMP:20260425T202826
CREATED:20151202T195743Z
LAST-MODIFIED:20151202T195903Z
UID:2561-1452871800-1452874500@westhills-montessori.com
SUMMARY:Ukulele Enrichment Class
DESCRIPTION:Ukulele Class for pre-registered Elementary children in the Maple Room with Maria.
URL:https://westhills-montessori.com/cal-event/ukulele-enrichment-class-2/
LOCATION:Vermont Street Campus
CATEGORIES:Vermont Street
END:VEVENT
BEGIN:VEVENT
DTSTART;TZID=America/Los_Angeles:20160114T153000
DTEND;TZID=America/Los_Angeles:20160114T161500
DTSTAMP:20260425T202826
CREATED:20151116T183228Z
LAST-MODIFIED:20151116T184543Z
UID:2541-1452785400-1452788100@westhills-montessori.com
SUMMARY:Primary Spanish Class
DESCRIPTION:Primary Spanish Class in the Maple Room with Maestra Evi and Jordan!
URL:https://westhills-montessori.com/cal-event/primary-spanish-class-26/
LOCATION:Vermont Street Campus\, 4920 SW Vermont Street\, Portland\, 97219
CATEGORIES:Vermont Street
END:VEVENT
BEGIN:VEVENT
DTSTART;TZID=America/Los_Angeles:20160113T181500
DTEND;TZID=America/Los_Angeles:20160113T201500
DTSTAMP:20260425T202826
CREATED:20160107T175223Z
LAST-MODIFIED:20160107T175223Z
UID:2602-1452708900-1452716100@westhills-montessori.com
SUMMARY:Impact NW Caregiver Training at the Vermont Street Campus
DESCRIPTION:Childcare available.
URL:https://westhills-montessori.com/cal-event/impact-nw-caregiver-training-at-the-vermont-street-campus/
LOCATION:Vermont Street Campus\, 4920 SW Vermont Street\, Portland\, 97219
CATEGORIES:Lake Oswego,Vermont Street
END:VEVENT
BEGIN:VEVENT
DTSTART;TZID=America/Los_Angeles:20160112T183000
DTEND;TZID=America/Los_Angeles:20160112T200000
DTSTAMP:20260425T202826
CREATED:20151027T195832Z
LAST-MODIFIED:20160107T172932Z
UID:2481-1452623400-1452628800@westhills-montessori.com
SUMMARY:Elementary: The Montessori Advantage
DESCRIPTION:Elementary: The Montessori Advantage \nWe are grateful that you have chosen West Hills Montessori for your child’s Primary education. But have you thought about your child’s education BEYOND the Primary program? \nOur Montessori Elementary information night will provide you with an opportunity to learn about Maria Montessori’s guided & joyful approach to elementary education. Our Elementary staff will introduce you to their environment and curriculum. You will see how the Elementary program could be a very natural “next step” for your child. \nWe know that you have many choices when it comes to your child’s education. West Hills Montessori School is committed to providing information to help you make an informed choice about your child’s upcoming elementary experience. We hope you will be able to join us next week at our Lake Oswego Campus: \nTuesday\, January 12th\, 6:30-8pm (Vermont Street Campus)\n(FREE childcare available for currently enrolled children ages 3-6) \nTo RSVP and/or to register for childcare please email: crystal@westhills-montessori.com \nTo schedule an Elementary classroom observation please email: vermontstreet@westhills-montessori.com
URL:https://westhills-montessori.com/cal-event/elementary-the-montessori-advantage-3/
LOCATION:Lake Oswego Campus
CATEGORIES:Lake Oswego,Vermont Street
END:VEVENT
END:VCALENDAR