BEGIN:VCALENDAR
VERSION:2.0
PRODID:-//West Hills Montessori School - ECPv6.15.20//NONSGML v1.0//EN
CALSCALE:GREGORIAN
METHOD:PUBLISH
X-WR-CALNAME:West Hills Montessori School
X-ORIGINAL-URL:https://westhills-montessori.com
X-WR-CALDESC:Events for West Hills Montessori School
REFRESH-INTERVAL;VALUE=DURATION:PT1H
X-Robots-Tag:noindex
X-PUBLISHED-TTL:PT1H
BEGIN:VTIMEZONE
TZID:America/Los_Angeles
BEGIN:DAYLIGHT
TZOFFSETFROM:-0800
TZOFFSETTO:-0700
TZNAME:PDT
DTSTART:20140309T100000
END:DAYLIGHT
BEGIN:STANDARD
TZOFFSETFROM:-0700
TZOFFSETTO:-0800
TZNAME:PST
DTSTART:20141102T090000
END:STANDARD
BEGIN:DAYLIGHT
TZOFFSETFROM:-0800
TZOFFSETTO:-0700
TZNAME:PDT
DTSTART:20150308T100000
END:DAYLIGHT
BEGIN:STANDARD
TZOFFSETFROM:-0700
TZOFFSETTO:-0800
TZNAME:PST
DTSTART:20151101T090000
END:STANDARD
BEGIN:DAYLIGHT
TZOFFSETFROM:-0800
TZOFFSETTO:-0700
TZNAME:PDT
DTSTART:20160313T100000
END:DAYLIGHT
BEGIN:STANDARD
TZOFFSETFROM:-0700
TZOFFSETTO:-0800
TZNAME:PST
DTSTART:20161106T090000
END:STANDARD
BEGIN:DAYLIGHT
TZOFFSETFROM:-0800
TZOFFSETTO:-0700
TZNAME:PDT
DTSTART:20170312T100000
END:DAYLIGHT
BEGIN:STANDARD
TZOFFSETFROM:-0700
TZOFFSETTO:-0800
TZNAME:PST
DTSTART:20171105T090000
END:STANDARD
END:VTIMEZONE
BEGIN:VEVENT
DTSTART;TZID=America/Los_Angeles:20160112T153000
DTEND;TZID=America/Los_Angeles:20160112T160000
DTSTAMP:20260425T194522
CREATED:20160107T185322Z
LAST-MODIFIED:20160107T185352Z
UID:2631-1452612600-1452614400@westhills-montessori.com
SUMMARY:Imagination Yoga-Vermont Street Campus
DESCRIPTION:Please join our Imagination Yoga teacher\, Jamie\, for her Winter yoga session: Calm Curriculum in the Maple Room.
URL:https://westhills-montessori.com/cal-event/imagination-yoga-vermont-street-campus-10/
LOCATION:Vermont Street Campus
CATEGORIES:Vermont Street
END:VEVENT
BEGIN:VEVENT
DTSTART;TZID=America/Los_Angeles:20160112T153000
DTEND;TZID=America/Los_Angeles:20160112T160000
DTSTAMP:20260425T194522
CREATED:20151105T184801Z
LAST-MODIFIED:20160107T173859Z
UID:2518-1452612600-1452614400@westhills-montessori.com
SUMMARY:Imagination Yoga at Lake Oswego
DESCRIPTION:Yoga class for pre-registered students at the Lake Oswego Campus.
URL:https://westhills-montessori.com/cal-event/imagination-yoga-at-lake-oswego-2-6/
LOCATION:Lake Oswego Campus\, 4515 Parkview Drive\, Lake Oswego\, 97035
CATEGORIES:Lake Oswego
END:VEVENT
BEGIN:VEVENT
DTSTART;VALUE=DATE:20160112
DTEND;VALUE=DATE:20160113
DTSTAMP:20260425T194522
CREATED:20160107T171919Z
LAST-MODIFIED:20160107T171919Z
UID:2598-1452556800-1452643199@westhills-montessori.com
SUMMARY:Creative Movement-Lake Oswego Campus
DESCRIPTION:Please help your child choose safe shoes for their time with Jumpin’ Joan!
URL:https://westhills-montessori.com/cal-event/creative-movement-lake-oswego-campus/
LOCATION:Lake Oswego Campus
CATEGORIES:Lake Oswego
END:VEVENT
BEGIN:VEVENT
DTSTART;TZID=America/Los_Angeles:20160108T153000
DTEND;TZID=America/Los_Angeles:20160108T161500
DTSTAMP:20260425T194522
CREATED:20151202T195648Z
LAST-MODIFIED:20151202T195648Z
UID:2560-1452267000-1452269700@westhills-montessori.com
SUMMARY:Ukulele Enrichment Class
DESCRIPTION:Ukulele Class for pre-registered Elementary children in the Maple Room with Maria.
URL:https://westhills-montessori.com/cal-event/ukulele-enrichment-class/
LOCATION:Vermont Street Campus
CATEGORIES:Vermont Street
END:VEVENT
BEGIN:VEVENT
DTSTART;TZID=America/Los_Angeles:20160107T153000
DTEND;TZID=America/Los_Angeles:20160107T161500
DTSTAMP:20260425T194522
CREATED:20151116T183231Z
LAST-MODIFIED:20151116T184617Z
UID:2542-1452180600-1452183300@westhills-montessori.com
SUMMARY:Primary Spanish Class
DESCRIPTION:Primary Spanish Class in the Maple Room with Maestra Evi and Jordan!
URL:https://westhills-montessori.com/cal-event/primary-spanish-class-27/
LOCATION:Vermont Street Campus\, 4920 SW Vermont Street\, Portland\, 97219
CATEGORIES:Vermont Street
END:VEVENT
BEGIN:VEVENT
DTSTART;TZID=America/Los_Angeles:20160105T153000
DTEND;TZID=America/Los_Angeles:20160105T161500
DTSTAMP:20260425T194522
CREATED:20151006T172755Z
LAST-MODIFIED:20151006T173349Z
UID:2353-1452007800-1452010500@westhills-montessori.com
SUMMARY:Elementary Spanish
DESCRIPTION:Spanish for pre-registered Elementary students in the Sunflower Room.
URL:https://westhills-montessori.com/cal-event/elementary-spanish-13-8/
LOCATION:Vermont Street Campus
CATEGORIES:Vermont Street
END:VEVENT
BEGIN:VEVENT
DTSTART;VALUE=DATE:20160105
DTEND;VALUE=DATE:20160106
DTSTAMP:20260425T194522
CREATED:20160105T044858Z
LAST-MODIFIED:20160105T134537Z
UID:2595-1451952000-1452038399@westhills-montessori.com
SUMMARY:Update for Tuesday\, January 5 (Vermont St and Lake Oswsego on a 2-hour delayed start\, classes open at 11:00am)
DESCRIPTION:Due to current weather conditions/forecast for the Metro area BOTH the Vermont Street Campus and Lake Oswego Campus are on a 2-hour late start for Tuesday\, January 5. Please see below for campus details. \nVermont Street Campus\n2 Hour delayed start\nNO Morning Care\nClasses will open at 11:00am (including Elementary) \nLake Oswego Campus\n2 hour delayed start\nNO Morning Care\nClasses will open at 11:00am
URL:https://westhills-montessori.com/cal-event/update-for-tuesday-january-5-vermont-st-2-hour-delayed-start-lake-oswego-planning-to-operate-on-regular-schedule/
CATEGORIES:Lake Oswego,Vermont Street
END:VEVENT
BEGIN:VEVENT
DTSTART;VALUE=DATE:20151221
DTEND;VALUE=DATE:20160104
DTSTAMP:20260425T194522
CREATED:20150818T225156Z
LAST-MODIFIED:20150818T225156Z
UID:2200-1450656000-1451865599@westhills-montessori.com
SUMMARY:Winter Break/School Closed
DESCRIPTION:
URL:https://westhills-montessori.com/cal-event/winter-breakschool-closed-3/
LOCATION:Vermont Street/Lake Oswego Campuses
CATEGORIES:Lake Oswego,Vermont Street
END:VEVENT
BEGIN:VEVENT
DTSTART;TZID=America/Los_Angeles:20151218T093000
DTEND;TZID=America/Los_Angeles:20151218T103000
DTSTAMP:20260425T194522
CREATED:20151208T004122Z
LAST-MODIFIED:20151208T004122Z
UID:2585-1450431000-1450434600@westhills-montessori.com
SUMMARY:Willow Room Holiday Social
DESCRIPTION:*Please plan to arrive after 9:20 to leave space in our parking lot so parents can drop their children off in other classrooms. Thank you!
URL:https://westhills-montessori.com/cal-event/willow-room-holiday-social/
LOCATION:Vermont Street Campus\, 4920 SW Vermont Street\, Portland \, OR\, 97219\, United States
CATEGORIES:Vermont Street
END:VEVENT
BEGIN:VEVENT
DTSTART;TZID=America/Los_Angeles:20151217T180000
DTEND;TZID=America/Los_Angeles:20151217T190000
DTSTAMP:20260425T194522
CREATED:20151207T204715Z
LAST-MODIFIED:20151207T204715Z
UID:2581-1450375200-1450378800@westhills-montessori.com
SUMMARY:Juniper Room Winter Social - LO Campus
DESCRIPTION:For children & their families!
URL:https://westhills-montessori.com/cal-event/juniper-room-winter-social-lo-campus/
LOCATION:Lake Oswego Campus
CATEGORIES:Lake Oswego
END:VEVENT
BEGIN:VEVENT
DTSTART;TZID=America/Los_Angeles:20151217T153000
DTEND;TZID=America/Los_Angeles:20151217T161500
DTSTAMP:20260425T194522
CREATED:20151116T183216Z
LAST-MODIFIED:20151116T184834Z
UID:2537-1450366200-1450368900@westhills-montessori.com
SUMMARY:Primary Spanish Class
DESCRIPTION:Primary Spanish Class in the Maple Room with Maestra Evi and Jordan!
URL:https://westhills-montessori.com/cal-event/primary-spanish-class-22/
LOCATION:Vermont Street Campus\, 4920 SW Vermont Street\, Portland\, 97219
CATEGORIES:Vermont Street
END:VEVENT
BEGIN:VEVENT
DTSTART;TZID=America/Los_Angeles:20151217T100000
DTEND;TZID=America/Los_Angeles:20151217T110000
DTSTAMP:20260425T194522
CREATED:20151208T003841Z
LAST-MODIFIED:20151208T003841Z
UID:2584-1450346400-1450350000@westhills-montessori.com
SUMMARY:Fig Room Holiday Social
DESCRIPTION:
URL:https://westhills-montessori.com/cal-event/fig-room-holiday-social/
LOCATION:Vermont Street Campus
CATEGORIES:Vermont Street
END:VEVENT
BEGIN:VEVENT
DTSTART;TZID=America/Los_Angeles:20151216T180000
DTEND;TZID=America/Los_Angeles:20151216T190000
DTSTAMP:20260425T194522
CREATED:20151208T003741Z
LAST-MODIFIED:20151208T003741Z
UID:2583-1450288800-1450292400@westhills-montessori.com
SUMMARY:Redwood Room Holiday Musical
DESCRIPTION:
URL:https://westhills-montessori.com/cal-event/redwood-room-holiday-musical/
LOCATION:Vermont Street Campus\, 4920 SW Vermont Street\, Portland\, 97219
CATEGORIES:Vermont Street
END:VEVENT
BEGIN:VEVENT
DTSTART;TZID=America/Los_Angeles:20151216T180000
DTEND;TZID=America/Los_Angeles:20151216T190000
DTSTAMP:20260425T194522
CREATED:20151207T204508Z
LAST-MODIFIED:20151207T204508Z
UID:2580-1450288800-1450292400@westhills-montessori.com
SUMMARY:Hawthorne Room Winter Celebration - LO Campus
DESCRIPTION:For children and their families!
URL:https://westhills-montessori.com/cal-event/hawthorne-room-winter-celebration-lo-campus/
LOCATION:Lake Oswego Campus\, 4515 Parkview Dr\, Lake Oswego
CATEGORIES:Lake Oswego
END:VEVENT
BEGIN:VEVENT
DTSTART;TZID=America/Los_Angeles:20151216T100000
DTEND;TZID=America/Los_Angeles:20151216T110000
DTSTAMP:20260425T194522
CREATED:20151208T003536Z
LAST-MODIFIED:20151208T003536Z
UID:2582-1450260000-1450263600@westhills-montessori.com
SUMMARY:Sunflower Room Holiday Social
DESCRIPTION:
URL:https://westhills-montessori.com/cal-event/sunflower-room-holiday-social/
LOCATION:Vermont Street Campus\, 4920 SW Vermont Street\, Portland\, 97219
CATEGORIES:Vermont Street
END:VEVENT
BEGIN:VEVENT
DTSTART;TZID=America/Los_Angeles:20151215T153000
DTEND;TZID=America/Los_Angeles:20151215T161500
DTSTAMP:20260425T194522
CREATED:20151006T172801Z
LAST-MODIFIED:20151006T173428Z
UID:2354-1450193400-1450196100@westhills-montessori.com
SUMMARY:Elementary Spanish
DESCRIPTION:Spanish for pre-registered Elementary students in the Sunflower Room.
URL:https://westhills-montessori.com/cal-event/elementary-spanish-13-9/
LOCATION:Vermont Street Campus
CATEGORIES:Vermont Street
END:VEVENT
BEGIN:VEVENT
DTSTART;TZID=America/Los_Angeles:20151215T033000
DTEND;TZID=America/Los_Angeles:20151215T160000
DTSTAMP:20260425T194522
CREATED:20151006T161954Z
LAST-MODIFIED:20151006T162514Z
UID:2313-1450150200-1450195200@westhills-montessori.com
SUMMARY:Primary Yoga
DESCRIPTION:Primary yoga for pre-registered children in the Maple Room.
URL:https://westhills-montessori.com/cal-event/primary-yoga-2-5-5/
LOCATION:Vermont Street Campus\, 4920 SW Vermont St\, Portland\, OR\, 97219\, United States
END:VEVENT
BEGIN:VEVENT
DTSTART;TZID=America/Los_Angeles:20151210T160000
DTEND;TZID=America/Los_Angeles:20151210T164500
DTSTAMP:20260425T194522
CREATED:20151012T184713Z
LAST-MODIFIED:20151207T184329Z
UID:2412-1449763200-1449765900@westhills-montessori.com
SUMMARY:Elementary Drama Performance
DESCRIPTION:Drama class for pre-registered Elementary children in the Butterfly Room
URL:https://westhills-montessori.com/cal-event/elementary-drama-7/
LOCATION:Vermont Street Campus\, 4920 SW Vermont Street\, Portland \, OR\, 97219\, United States
CATEGORIES:Vermont Street
END:VEVENT
BEGIN:VEVENT
DTSTART;TZID=America/Los_Angeles:20151210T153000
DTEND;TZID=America/Los_Angeles:20151210T163000
DTSTAMP:20260425T194522
CREATED:20151012T185556Z
LAST-MODIFIED:20151012T185627Z
UID:2415-1449761400-1449765000@westhills-montessori.com
SUMMARY:Elementary Drama
DESCRIPTION:Drama class for pre-registered Elementary children in the Butterfly Room
URL:https://westhills-montessori.com/cal-event/elementary-drama-7-2/
LOCATION:Vermont Street Campus\, 4920 SW Vermont Street\, Portland \, OR\, 97219\, United States
CATEGORIES:Vermont Street
END:VEVENT
BEGIN:VEVENT
DTSTART;TZID=America/Los_Angeles:20151210T153000
DTEND;TZID=America/Los_Angeles:20151210T161500
DTSTAMP:20260425T194522
CREATED:20151021T193613Z
LAST-MODIFIED:20151021T193830Z
UID:2476-1449761400-1449764100@westhills-montessori.com
SUMMARY:Primary Spanish Class
DESCRIPTION:Primary Spanish Class in the Maple Room with Maestra Evi and Jordan!
URL:https://westhills-montessori.com/cal-event/primary-spanish-class-9/
LOCATION:Vermont Street Campus\, 4920 SW Vermont Street\, Portland\, 97219
CATEGORIES:Vermont Street
END:VEVENT
BEGIN:VEVENT
DTSTART;TZID=America/Los_Angeles:20151210T093000
DTEND;TZID=America/Los_Angeles:20151210T101500
DTSTAMP:20260425T194522
CREATED:20151207T204113Z
LAST-MODIFIED:20151207T204113Z
UID:2578-1449739800-1449742500@westhills-montessori.com
SUMMARY:Maple Room Family Winter Celebration - LO Campus
DESCRIPTION:Please plan to arrive and park no earlier than 9:20 on this day in order to ease parking lot congestion.
URL:https://westhills-montessori.com/cal-event/maple-room-family-winter-celebration/
LOCATION:Lake Oswego Campus\, 4515 Parkview Drive\, Lake Oswego\, 97035
CATEGORIES:Lake Oswego
END:VEVENT
BEGIN:VEVENT
DTSTART;TZID=America/Los_Angeles:20151209T153000
DTEND;TZID=America/Los_Angeles:20151209T163000
DTSTAMP:20260425T194522
CREATED:20151105T185105Z
LAST-MODIFIED:20151105T185329Z
UID:2520-1449675000-1449678600@westhills-montessori.com
SUMMARY:Drama with Liz at Lake Oswego
DESCRIPTION:Drama class for pre-registered students at the Lake Oswego Campus
URL:https://westhills-montessori.com/cal-event/drama-with-liz-at-lake-oswego-2-3-3/
LOCATION:Lake Oswego Campus
CATEGORIES:Lake Oswego
END:VEVENT
BEGIN:VEVENT
DTSTART;TZID=America/Los_Angeles:20151209T153000
DTEND;TZID=America/Los_Angeles:20151209T160500
DTSTAMP:20260425T194522
CREATED:20151007T173048Z
LAST-MODIFIED:20151007T173556Z
UID:2375-1449675000-1449677100@westhills-montessori.com
SUMMARY:Soccer Shots
DESCRIPTION:Soccer Shots class for pre-registered primary children in the East Covered Area.
URL:https://westhills-montessori.com/cal-event/soccer-shots-8/
LOCATION:Vermont Street Campus\, 4920 SW Vermont Street\, Portland \, OR\, 97219\, United States
CATEGORIES:Vermont Street
END:VEVENT
BEGIN:VEVENT
DTSTART;TZID=America/Los_Angeles:20151208T163000
DTEND;TZID=America/Los_Angeles:20151208T171500
DTSTAMP:20260425T194522
CREATED:20151006T164004Z
LAST-MODIFIED:20151006T165457Z
UID:2314-1449592200-1449594900@westhills-montessori.com
SUMMARY:Primary Drama Performance - 3:30 Class
DESCRIPTION:Primary Drama performance in the Butterfly Room.
URL:https://westhills-montessori.com/cal-event/primary-drama/
LOCATION:Vermont Street Campus\, 4920 SW Vermont St\, Portland\, OR\, 97219\, United States
CATEGORIES:Vermont Street
END:VEVENT
BEGIN:VEVENT
DTSTART;TZID=America/Los_Angeles:20151208T153000
DTEND;TZID=America/Los_Angeles:20151208T161500
DTSTAMP:20260425T194522
CREATED:20151006T172807Z
LAST-MODIFIED:20151006T173506Z
UID:2355-1449588600-1449591300@westhills-montessori.com
SUMMARY:Elementary Spanish
DESCRIPTION:Spanish for pre-registered Elementary students in the Sunflower Room.
URL:https://westhills-montessori.com/cal-event/elementary-spanish-13-10/
LOCATION:Vermont Street Campus
CATEGORIES:Vermont Street
END:VEVENT
BEGIN:VEVENT
DTSTART;TZID=America/Los_Angeles:20151208T033000
DTEND;TZID=America/Los_Angeles:20151208T160000
DTSTAMP:20260425T194522
CREATED:20151006T161938Z
LAST-MODIFIED:20151006T162258Z
UID:2312-1449545400-1449590400@westhills-montessori.com
SUMMARY:Primary Yoga
DESCRIPTION:Primary yoga for pre-registered children in the Maple Room.
URL:https://westhills-montessori.com/cal-event/primary-yoga-2-5-4/
LOCATION:Vermont Street Campus\, 4920 SW Vermont St\, Portland\, OR\, 97219\, United States
END:VEVENT
BEGIN:VEVENT
DTSTART;TZID=America/Los_Angeles:20151207T163000
DTEND;TZID=America/Los_Angeles:20151207T171500
DTSTAMP:20260425T194522
CREATED:20151006T170127Z
LAST-MODIFIED:20151006T170737Z
UID:2333-1449505800-1449508500@westhills-montessori.com
SUMMARY:Primary Drama Performance - 4:30 Class
DESCRIPTION:Primary drama (late class) for pre-registered children in the Butterfly Room.
URL:https://westhills-montessori.com/cal-event/primary-drama-10-9/
LOCATION:Vermont Street Campus\, 4920 SW Vermont Street\, Portland\, 97219
CATEGORIES:Vermont Street
END:VEVENT
BEGIN:VEVENT
DTSTART;TZID=America/Los_Angeles:20151203T183000
DTEND;TZID=America/Los_Angeles:20151203T200000
DTSTAMP:20260425T194522
CREATED:20151027T200204Z
LAST-MODIFIED:20151027T200204Z
UID:2485-1449167400-1449172800@westhills-montessori.com
SUMMARY:Primary Parent Event - Fostering the Love of Language
DESCRIPTION:Join us for an interactive evening to learn more about the progression of the Language materials for your child in the Primary classroom.  Sandpaper letters\, moveable alphabet and so much more! \n  \n  \nComplimentary child care offered for pre-registered currently enrolled children ages 3-6 (limited space available).  RSVP for childcare today: lakeoswego@westhills-montessori.com
URL:https://westhills-montessori.com/cal-event/primary-parent-event-fostering-the-love-of-language/
LOCATION:Lake Oswego Campus\, 4515 Parkview Dr\, Lake Oswego
CATEGORIES:Lake Oswego,Vermont Street
END:VEVENT
BEGIN:VEVENT
DTSTART;TZID=America/Los_Angeles:20151203T153000
DTEND;TZID=America/Los_Angeles:20151203T163000
DTSTAMP:20260425T194522
CREATED:20151012T184705Z
LAST-MODIFIED:20151012T185143Z
UID:2411-1449156600-1449160200@westhills-montessori.com
SUMMARY:Elementary Drama
DESCRIPTION:Drama class for pre-registered Elementary children in the Butterfly Room
URL:https://westhills-montessori.com/cal-event/elementary-drama-6/
LOCATION:Vermont Street Campus\, 4920 SW Vermont Street\, Portland \, OR\, 97219\, United States
CATEGORIES:Vermont Street
END:VEVENT
BEGIN:VEVENT
DTSTART;TZID=America/Los_Angeles:20151203T153000
DTEND;TZID=America/Los_Angeles:20151203T161500
DTSTAMP:20260425T194522
CREATED:20151021T193601Z
LAST-MODIFIED:20151021T193641Z
UID:2474-1449156600-1449159300@westhills-montessori.com
SUMMARY:Primary Spanish Class
DESCRIPTION:Primary Spanish Class in the Maple Room with Maestra Evi and Jordan!
URL:https://westhills-montessori.com/cal-event/primary-spanish-class-7/
LOCATION:Vermont Street Campus\, 4920 SW Vermont Street\, Portland\, 97219
CATEGORIES:Vermont Street
END:VEVENT
END:VCALENDAR