BEGIN:VCALENDAR
VERSION:2.0
PRODID:-//West Hills Montessori School - ECPv6.15.20//NONSGML v1.0//EN
CALSCALE:GREGORIAN
METHOD:PUBLISH
X-WR-CALNAME:West Hills Montessori School
X-ORIGINAL-URL:https://westhills-montessori.com
X-WR-CALDESC:Events for West Hills Montessori School
REFRESH-INTERVAL;VALUE=DURATION:PT1H
X-Robots-Tag:noindex
X-PUBLISHED-TTL:PT1H
BEGIN:VTIMEZONE
TZID:America/Los_Angeles
BEGIN:DAYLIGHT
TZOFFSETFROM:-0800
TZOFFSETTO:-0700
TZNAME:PDT
DTSTART:20190310T100000
END:DAYLIGHT
BEGIN:STANDARD
TZOFFSETFROM:-0700
TZOFFSETTO:-0800
TZNAME:PST
DTSTART:20191103T090000
END:STANDARD
BEGIN:DAYLIGHT
TZOFFSETFROM:-0800
TZOFFSETTO:-0700
TZNAME:PDT
DTSTART:20200308T100000
END:DAYLIGHT
BEGIN:STANDARD
TZOFFSETFROM:-0700
TZOFFSETTO:-0800
TZNAME:PST
DTSTART:20201101T090000
END:STANDARD
BEGIN:DAYLIGHT
TZOFFSETFROM:-0800
TZOFFSETTO:-0700
TZNAME:PDT
DTSTART:20210314T100000
END:DAYLIGHT
BEGIN:STANDARD
TZOFFSETFROM:-0700
TZOFFSETTO:-0800
TZNAME:PST
DTSTART:20211107T090000
END:STANDARD
BEGIN:DAYLIGHT
TZOFFSETFROM:-0800
TZOFFSETTO:-0700
TZNAME:PDT
DTSTART:20220313T100000
END:DAYLIGHT
BEGIN:STANDARD
TZOFFSETFROM:-0700
TZOFFSETTO:-0800
TZNAME:PST
DTSTART:20221106T090000
END:STANDARD
BEGIN:DAYLIGHT
TZOFFSETFROM:-0800
TZOFFSETTO:-0700
TZNAME:PDT
DTSTART:20230312T100000
END:DAYLIGHT
BEGIN:STANDARD
TZOFFSETFROM:-0700
TZOFFSETTO:-0800
TZNAME:PST
DTSTART:20231105T090000
END:STANDARD
END:VTIMEZONE
BEGIN:VEVENT
DTSTART;VALUE=DATE:20220128
DTEND;VALUE=DATE:20220129
DTSTAMP:20260421T185959
CREATED:20211025T173230Z
LAST-MODIFIED:20211025T173230Z
UID:7342-1643328000-1643414399@westhills-montessori.com
SUMMARY:All School In-Service (School Closed)
DESCRIPTION:
URL:https://westhills-montessori.com/cal-event/all-school-in-service-school-closed-5/
LOCATION:OR
CATEGORIES:Lake Oswego,Vermont Street
END:VEVENT
BEGIN:VEVENT
DTSTART;TZID=America/Los_Angeles:20220118T190000
DTEND;TZID=America/Los_Angeles:20220118T200000
DTSTAMP:20260421T185959
CREATED:20201117T225601Z
LAST-MODIFIED:20211129T221515Z
UID:4248-1642532400-1642536000@westhills-montessori.com
SUMMARY:Preschool: The Montessori Advantage - virtual event!
DESCRIPTION:The Montessori Primary program for children ages 3-6 years old is a unique and exciting place to learn\, a place where children thrive and grow in independence and love of learning. Join us via Zoom and expand your understanding of Montessori\, connect with our staff\, and hear for yourself why Montessori students are joyful\, lifelong learners. \nEmail vermontstreet@westhills-montessori.com to receive the Zoom link information.
URL:https://westhills-montessori.com/cal-event/preschool-the-montessori-advantage-4/
LOCATION:ZOOM
CATEGORIES:New Parents
END:VEVENT
BEGIN:VEVENT
DTSTART;VALUE=DATE:20220117
DTEND;VALUE=DATE:20220118
DTSTAMP:20260421T185959
CREATED:20211025T173059Z
LAST-MODIFIED:20211025T173059Z
UID:7340-1642377600-1642463999@westhills-montessori.com
SUMMARY:Martin Luther King Jr Day (School Closed)
DESCRIPTION:
URL:https://westhills-montessori.com/cal-event/martin-luther-king-jr-day-school-closed-2/
LOCATION:OR
CATEGORIES:Lake Oswego,Vermont Street
END:VEVENT
BEGIN:VEVENT
DTSTART;VALUE=DATE:20220103
DTEND;VALUE=DATE:20220104
DTSTAMP:20260421T185959
CREATED:20211025T172950Z
LAST-MODIFIED:20211025T172950Z
UID:7338-1641168000-1641254399@westhills-montessori.com
SUMMARY:Classes Resume
DESCRIPTION:
URL:https://westhills-montessori.com/cal-event/classes-resume-6/
LOCATION:OR
CATEGORIES:Lake Oswego,Vermont Street
END:VEVENT
BEGIN:VEVENT
DTSTART;VALUE=DATE:20211220
DTEND;VALUE=DATE:20220101
DTSTAMP:20260421T185959
CREATED:20211025T172847Z
LAST-MODIFIED:20211025T172847Z
UID:7336-1639958400-1640995199@westhills-montessori.com
SUMMARY:Winter Break (School Closed)
DESCRIPTION:
URL:https://westhills-montessori.com/cal-event/winter-break-school-closed-2/
LOCATION:OR
CATEGORIES:Lake Oswego,Vermont Street
END:VEVENT
BEGIN:VEVENT
DTSTART;TZID=America/Los_Angeles:20211209T190000
DTEND;TZID=America/Los_Angeles:20211209T200000
DTSTAMP:20260421T185959
CREATED:20201117T225416Z
LAST-MODIFIED:20211129T221200Z
UID:4246-1639076400-1639080000@westhills-montessori.com
SUMMARY:Preschool: The Montessori Advantage - virtual event!
DESCRIPTION:The Montessori Primary program for children ages 3-6 years old is a unique and exciting place to learn\, a place where children thrive and grow in independence and love of learning. Join us via Zoom and expand your understanding of Montessori\, connect with our staff\, and hear for yourself why Montessori students are joyful\, lifelong learners. \nEmail vermontstreet@westhills-montessori.com to receive the Zoom link information. \n 
URL:https://westhills-montessori.com/cal-event/preschool-the-montessori-advantage-virtual-event/
LOCATION:ZOOM
CATEGORIES:New Parents
END:VEVENT
BEGIN:VEVENT
DTSTART;TZID=America/Los_Angeles:20211201T190000
DTEND;TZID=America/Los_Angeles:20211201T200000
DTSTAMP:20260421T185959
CREATED:20201215T182348Z
LAST-MODIFIED:20211129T221606Z
UID:4254-1638385200-1638388800@westhills-montessori.com
SUMMARY:Elementary: The Montessori Advantage - virtual event!
DESCRIPTION:The Montessori elementary program is a unique and exciting place to learn\, a place where children thrive and grow in independence\, social responsibility\, self-discipline\, and love of learning. Join us via Zoom and expand your understanding of Montessori\, connect with our staff\, and hear for yourself why Montessori students are joyful\, lifelong learners. \nEmail vermontstreet@westhills-montessori.com to receive the Zoom link information.
URL:https://westhills-montessori.com/cal-event/elementary-the-montessori-advantage-virtual-event-3/
LOCATION:ZOOM
CATEGORIES:Lake Oswego,New Parents,Vermont Street
END:VEVENT
BEGIN:VEVENT
DTSTART;VALUE=DATE:20211201
DTEND;VALUE=DATE:20211202
DTSTAMP:20260421T185959
CREATED:20211025T174838Z
LAST-MODIFIED:20211025T174838Z
UID:7372-1638316800-1638403199@westhills-montessori.com
SUMMARY:Lake Oswego Campus - Music and Movement for Primary Classes
DESCRIPTION:
URL:https://westhills-montessori.com/cal-event/lake-oswego-campus-music-and-movement-for-primary-classes-3/
LOCATION:OR
CATEGORIES:Lake Oswego
END:VEVENT
BEGIN:VEVENT
DTSTART;VALUE=DATE:20211130
DTEND;VALUE=DATE:20211201
DTSTAMP:20260421T185959
CREATED:20211025T174612Z
LAST-MODIFIED:20211025T174612Z
UID:7366-1638230400-1638316799@westhills-montessori.com
SUMMARY:Vermont Street - Music and Movement for Primary Classes
DESCRIPTION:
URL:https://westhills-montessori.com/cal-event/vermont-street-music-and-movement-for-primary-classes-3/
LOCATION:OR
CATEGORIES:Vermont Street
END:VEVENT
BEGIN:VEVENT
DTSTART;VALUE=DATE:20211124
DTEND;VALUE=DATE:20211127
DTSTAMP:20260421T185959
CREATED:20211025T172748Z
LAST-MODIFIED:20211025T172748Z
UID:7334-1637712000-1637971199@westhills-montessori.com
SUMMARY:Thanksgiving Break (School Closed)
DESCRIPTION:
URL:https://westhills-montessori.com/cal-event/thanksgiving-break-school-closed/
LOCATION:OR
CATEGORIES:Lake Oswego,Vermont Street
END:VEVENT
BEGIN:VEVENT
DTSTART;VALUE=DATE:20211112
DTEND;VALUE=DATE:20211113
DTSTAMP:20260421T185959
CREATED:20211025T172640Z
LAST-MODIFIED:20211025T172640Z
UID:7332-1636675200-1636761599@westhills-montessori.com
SUMMARY:Recognition of Veteran's Day (School Closed)
DESCRIPTION:
URL:https://westhills-montessori.com/cal-event/recognition-of-veterans-day-school-closed/
LOCATION:OR
CATEGORIES:Lake Oswego,Vermont Street
END:VEVENT
BEGIN:VEVENT
DTSTART;VALUE=DATE:20211111
DTEND;VALUE=DATE:20211112
DTSTAMP:20260421T185959
CREATED:20211025T172611Z
LAST-MODIFIED:20211025T172611Z
UID:7330-1636588800-1636675199@westhills-montessori.com
SUMMARY:All School In-Service (School Closed)
DESCRIPTION:
URL:https://westhills-montessori.com/cal-event/all-school-in-service-school-closed-4/
LOCATION:OR
CATEGORIES:Lake Oswego,Vermont Street
END:VEVENT
BEGIN:VEVENT
DTSTART;VALUE=DATE:20211110
DTEND;VALUE=DATE:20211111
DTSTAMP:20260421T185959
CREATED:20211025T174803Z
LAST-MODIFIED:20211025T174803Z
UID:7370-1636502400-1636588799@westhills-montessori.com
SUMMARY:Lake Oswego Campus - Music and Movement for Primary Classes
DESCRIPTION:
URL:https://westhills-montessori.com/cal-event/lake-oswego-campus-music-and-movement-for-primary-classes-2/
LOCATION:OR
CATEGORIES:Lake Oswego
END:VEVENT
BEGIN:VEVENT
DTSTART;VALUE=DATE:20211109
DTEND;VALUE=DATE:20211110
DTSTAMP:20260421T185959
CREATED:20211025T174545Z
LAST-MODIFIED:20211025T174545Z
UID:7364-1636416000-1636502399@westhills-montessori.com
SUMMARY:Vermont Street - Music and Movement for Primary Classes
DESCRIPTION:
URL:https://westhills-montessori.com/cal-event/vermont-street-music-and-movement-for-primary-classes-2/
LOCATION:OR
CATEGORIES:Vermont Street
END:VEVENT
BEGIN:VEVENT
DTSTART;VALUE=DATE:20211104
DTEND;VALUE=DATE:20211105
DTSTAMP:20260421T185959
CREATED:20211025T174107Z
LAST-MODIFIED:20211025T174107Z
UID:7358-1635984000-1636070399@westhills-montessori.com
SUMMARY:Vermont Street Campus Individual Photos (Willow\, Fig\, Maple)
DESCRIPTION:
URL:https://westhills-montessori.com/cal-event/vermont-street-campus-individual-photos-willow-fig-maple/
LOCATION:OR
CATEGORIES:Lake Oswego,Vermont Street
END:VEVENT
BEGIN:VEVENT
DTSTART;VALUE=DATE:20211103
DTEND;VALUE=DATE:20211104
DTSTAMP:20260421T185959
CREATED:20211025T173923Z
LAST-MODIFIED:20211025T174004Z
UID:7354-1635897600-1635983999@westhills-montessori.com
SUMMARY:Vermont Street Campus Individual Photos (Cedar\, Ginkgo\, Redwood\, Laurel)
DESCRIPTION:
URL:https://westhills-montessori.com/cal-event/vermont-street-campus-individual-photos/
LOCATION:OR
CATEGORIES:Lake Oswego,Vermont Street
END:VEVENT
BEGIN:VEVENT
DTSTART;VALUE=DATE:20211101
DTEND;VALUE=DATE:20211102
DTSTAMP:20260421T185959
CREATED:20211025T172221Z
LAST-MODIFIED:20211025T172221Z
UID:7322-1635724800-1635811199@westhills-montessori.com
SUMMARY:Parent/Teacher Conference Day (School Closed)
DESCRIPTION:
URL:https://westhills-montessori.com/cal-event/parent-teacher-conference-day-school-closed-2/
LOCATION:OR
CATEGORIES:Lake Oswego,Vermont Street
END:VEVENT
BEGIN:VEVENT
DTSTART;VALUE=DATE:20211028
DTEND;VALUE=DATE:20211029
DTSTAMP:20260421T185959
CREATED:20211025T174707Z
LAST-MODIFIED:20211025T174707Z
UID:7368-1635379200-1635465599@westhills-montessori.com
SUMMARY:Lake Oswego Campus - Music and Movement for Primary Classes
DESCRIPTION:
URL:https://westhills-montessori.com/cal-event/lake-oswego-campus-music-and-movement-for-primary-classes/
LOCATION:OR
CATEGORIES:Lake Oswego
END:VEVENT
BEGIN:VEVENT
DTSTART;VALUE=DATE:20211026
DTEND;VALUE=DATE:20211028
DTSTAMP:20260421T185959
CREATED:20211025T174201Z
LAST-MODIFIED:20211025T174201Z
UID:7360-1635206400-1635379199@westhills-montessori.com
SUMMARY:Lake Oswego Campus Individual Photos
DESCRIPTION:
URL:https://westhills-montessori.com/cal-event/lake-oswego-campus-individual-photos/
LOCATION:OR
CATEGORIES:Lake Oswego
END:VEVENT
BEGIN:VEVENT
DTSTART;VALUE=DATE:20211026
DTEND;VALUE=DATE:20211027
DTSTAMP:20260421T185959
CREATED:20211025T174509Z
LAST-MODIFIED:20211025T174509Z
UID:7362-1635206400-1635292799@westhills-montessori.com
SUMMARY:Vermont Street - Music and Movement for Primary Classes
DESCRIPTION:
URL:https://westhills-montessori.com/cal-event/vermont-street-music-and-movement-for-primary-classes/
LOCATION:OR
CATEGORIES:Vermont Street
END:VEVENT
BEGIN:VEVENT
DTSTART;VALUE=DATE:20211025
DTEND;VALUE=DATE:20211026
DTSTAMP:20260421T185959
CREATED:20211025T172003Z
LAST-MODIFIED:20211025T172003Z
UID:7320-1635120000-1635206399@westhills-montessori.com
SUMMARY:Parent/Teacher Conference Day (School Closed)
DESCRIPTION:
URL:https://westhills-montessori.com/cal-event/parent-teacher-conference-day-school-closed/
LOCATION:OR
CATEGORIES:Lake Oswego,Vermont Street
END:VEVENT
BEGIN:VEVENT
DTSTART;VALUE=DATE:20210901
DTEND;VALUE=DATE:20210902
DTSTAMP:20260421T185959
CREATED:20210803T171626Z
LAST-MODIFIED:20210803T171737Z
UID:5778-1630454400-1630540799@westhills-montessori.com
SUMMARY:First Day of School
DESCRIPTION:
URL:https://westhills-montessori.com/cal-event/first-day-of-school-wednesday-september-1/
LOCATION:OR
END:VEVENT
BEGIN:VEVENT
DTSTART;VALUE=DATE:20210628
DTEND;VALUE=DATE:20210629
DTSTAMP:20260421T185959
CREATED:20210627T205312Z
LAST-MODIFIED:20210627T205312Z
UID:4310-1624838400-1624924799@westhills-montessori.com
SUMMARY:Both campuses CLOSED on Monday\, June 28 due to extreme heat
DESCRIPTION:Both of our campuses will be CLOSED on Monday\, June 28 due to extreme heat.
URL:https://westhills-montessori.com/cal-event/both-campuses-closed-on-monday-june-28-due-to-extreme-heat/
LOCATION:OR
CATEGORIES:Lake Oswego,Vermont Street
END:VEVENT
BEGIN:VEVENT
DTSTART;VALUE=DATE:20210216
DTEND;VALUE=DATE:20210217
DTSTAMP:20260421T185959
CREATED:20210216T000046Z
LAST-MODIFIED:20210216T000046Z
UID:4287-1613433600-1613519999@westhills-montessori.com
SUMMARY:Both campuses CLOSED on Tuesday\, February 16
DESCRIPTION:Dear West Hills Community\,\n\nAfter careful consideration\, we have made the decision to close both of our campuses for tomorrow\, Tuesday\, February 16\, 2021.\n\nThe snow and ice storm has caused both of our campuses to lose power for an extended period of time. The Vermont Street campus has had its power restored\, however the Wi-Fi is not working. Wi-Fi is necessary to allow our Elementary on-site children to access their Comprehensive Distance Learning (CDL) Program. Our Lake Oswego campus is still without power. \n\nWhile we are grateful that the snow and ice are beginning to melt\, many residential streets are still covered in snow and/or ice which prevents our community from arriving safely to campus; assuring safe transportation for families and staff is a priority. \n\nLike many of you\, this storm has also caused much damage with downed trees and limbs. Our playgrounds\, outside areas\, and parking lots will take work to clean up along with snow removal from buildings and covered areas with flat roofs. We will have a crew onsite tomorrow to prepare both our campuses for the safe arrival of our staff and students on Wednesday\, February 17 (Lake Oswego campus pending restoration of power). \n\nWe understand the hardship that closing school causes for our students and families. We appreciate your support as we work to achieve a safe environment for our community.
URL:https://westhills-montessori.com/cal-event/both-campuses-closed-on-tuesday-february-16/
LOCATION:OR
CATEGORIES:Lake Oswego,Vermont Street
END:VEVENT
BEGIN:VEVENT
DTSTART;VALUE=DATE:20210212
DTEND;VALUE=DATE:20210213
DTSTAMP:20260421T185959
CREATED:20210212T035222Z
LAST-MODIFIED:20210212T035222Z
UID:4285-1613088000-1613174399@westhills-montessori.com
SUMMARY:Both campuses will be CLOSED on Friday 2/12
DESCRIPTION:Due to forecasted snow and ice\, both campuses will be\nCLOSED on Friday\, February 12.\n\nPlease note that campuses will also be closed on\nMonday\, February 15\, in honor of President’s Day.\n\nStay safe and warm!
URL:https://westhills-montessori.com/cal-event/both-campuses-will-be-closed-on-friday-2-12/
LOCATION:OR
CATEGORIES:Lake Oswego,Vermont Street
END:VEVENT
BEGIN:VEVENT
DTSTART;VALUE=DATE:20210211
DTEND;VALUE=DATE:20210212
DTSTAMP:20260421T185959
CREATED:20210211T152906Z
LAST-MODIFIED:20210211T152906Z
UID:4282-1613001600-1613087999@westhills-montessori.com
SUMMARY:Both campuses closing EARLY on Thursday 2/11 - click for staggered pick up schedule
DESCRIPTION:As we monitor the weather forecast for later today\, Thursday 2/11\, we have made the decision to close both campuses EARLY.\n\nWe are still required to have a staggered pick up schedule to maintain safe spacing among cohorts – please see below for the pick up schedule for today:\n\nThursday\, February 11\nVermont Street Campus\nFig 12:00\nWillow 12:10\nMaple 12:20\nCedar 12:30\nRedwood 12:40\n\nLake Oswego Campus\nAlder 12:10\nMaple 12:10\nHawthorn 12:20\nJuniper 12:30\n\nWe appreciate your early pick up today as it will hopefully allow all of our families and staff to get home safely before the onset of the arriving weather system.
URL:https://westhills-montessori.com/cal-event/both-campuses-closing-early-on-thursday-2-11-click-for-staggered-pick-up-schedule/
LOCATION:OR
CATEGORIES:Lake Oswego,Vermont Street
END:VEVENT
BEGIN:VEVENT
DTSTART;TZID=America/Los_Angeles:20201203T193000
DTEND;TZID=America/Los_Angeles:20201203T203000
DTSTAMP:20260421T185959
CREATED:20201117T225918Z
LAST-MODIFIED:20201117T225918Z
UID:4251-1607023800-1607027400@westhills-montessori.com
SUMMARY:Elementary: The Montessori Advantage - virtual event!
DESCRIPTION:The Montessori elementary program is a unique and exciting place to learn\, a place where children thrive and grow in independence\, social responsibility\, self-discipline\, and love of learning. Join us via Zoom and expand your understanding of Montessori\, connect with our staff\, and hear for yourself why Montessori students are joyful\, lifelong learners. \nEmail vermontstreet@westhills-montessori.com to receive the Zoom link information.
URL:https://westhills-montessori.com/cal-event/elementary-the-montessori-advantage-virtual-event-2/
LOCATION:ZOOM
CATEGORIES:Lake Oswego,Vermont Street
END:VEVENT
BEGIN:VEVENT
DTSTART;TZID=America/Los_Angeles:20201203T193000
DTEND;TZID=America/Los_Angeles:20201203T203000
DTSTAMP:20260421T185959
CREATED:20201117T224101Z
LAST-MODIFIED:20201117T224849Z
UID:4239-1607023800-1607027400@westhills-montessori.com
SUMMARY:Elementary: The Montessori Advantage - virtual event!
DESCRIPTION:The Montessori elementary program is a unique and exciting place to learn\, a place where children thrive and grow in independence\, social responsibility\, self-discipline\, and love of learning. Join us via Zoom and expand your understanding of Montessori\, connect with our staff\, and hear for yourself why Montessori students are joyful\, lifelong learners. \nEmail vermontstreet@westhills-montessori.com to receive the Zoom link information.
URL:https://westhills-montessori.com/cal-event/elementary-the-montessori-advantage-virtual-event/
LOCATION:ZOOM
CATEGORIES:New Parents
END:VEVENT
BEGIN:VEVENT
DTSTART;VALUE=DATE:20200918
DTEND;VALUE=DATE:20200919
DTSTAMP:20260421T185959
CREATED:20200917T233236Z
LAST-MODIFIED:20200917T233329Z
UID:4229-1600387200-1600473599@westhills-montessori.com
SUMMARY:Both campuses will be OPEN Friday 9/18 for returning students
DESCRIPTION:With improving air quality conditions we are excited to share that both campuses will be OPEN Friday 9/18 for returning Toddler and Primary children as well as Elementary onsite child care children. New families have received their updated start date in the parent email that just went out.
URL:https://westhills-montessori.com/cal-event/both-campuses-will-be-open-on-friday-9-18-for-returning-students/
LOCATION:OR
CATEGORIES:Lake Oswego,Vermont Street
END:VEVENT
BEGIN:VEVENT
DTSTART;VALUE=DATE:20200917
DTEND;VALUE=DATE:20200918
DTSTAMP:20260421T185959
CREATED:20200917T000355Z
LAST-MODIFIED:20200917T000355Z
UID:4226-1600300800-1600387199@westhills-montessori.com
SUMMARY:SW Portland and Lake Oswego Campuses CLOSED Thursday 9/17
DESCRIPTION:Due to continued unhealthy air conditions our SW Portland and Lake Oswego campuses will be CLOSED again on Thursday\, September 17. CDL for enrolled Primary families and Elementary families will continue as scheduled. Families can find additional information in the email that was just sent out.
URL:https://westhills-montessori.com/cal-event/sw-portland-and-lake-oswego-campuses-closed-thursday-9-17/
LOCATION:OR
CATEGORIES:Lake Oswego,Vermont Street
END:VEVENT
END:VCALENDAR